BEGIN:VCALENDAR
VERSION:2.0
PRODID:-//Transparencia Tlaquepaque - ECPv6.3.5//NONSGML v1.0//EN
CALSCALE:GREGORIAN
METHOD:PUBLISH
X-ORIGINAL-URL:https://transparencia.tlaquepaque.gob.mx
X-WR-CALDESC:Eventos para Transparencia Tlaquepaque
REFRESH-INTERVAL;VALUE=DURATION:PT1H
X-Robots-Tag:noindex
X-PUBLISHED-TTL:PT1H
BEGIN:VTIMEZONE
TZID:America/Mexico_City
BEGIN:DAYLIGHT
TZOFFSETFROM:-0600
TZOFFSETTO:-0500
TZNAME:CDT
DTSTART:20200405T080000
END:DAYLIGHT
BEGIN:STANDARD
TZOFFSETFROM:-0500
TZOFFSETTO:-0600
TZNAME:CST
DTSTART:20201025T070000
END:STANDARD
END:VTIMEZONE
BEGIN:VEVENT
DTSTART;TZID=America/Mexico_City:20201002T100000
DTEND;TZID=America/Mexico_City:20201002T110000
DTSTAMP:20260419T120804
CREATED:20201110T204915Z
LAST-MODIFIED:20201110T204934Z
UID:194234-1601632800-1601636400@transparencia.tlaquepaque.gob.mx
SUMMARY:Grabación de video promocional del programa “Te queremos con chamba”
DESCRIPTION:Presidenta Municipal \nGrabación de video promocional del programa “Te queremos con chamba”
URL:https://transparencia.tlaquepaque.gob.mx/evento/grabacion-video-promocional-del-programa-te-queremos-chamba/
LOCATION:Presidencia Municipal de San Pedro Tlaquepaque\, Independencia\, Centro\, San Pedro Tlaquepaque\, Jalisco\, 45500\, México
END:VEVENT
BEGIN:VEVENT
DTSTART;TZID=America/Mexico_City:20201002T163000
DTEND;TZID=America/Mexico_City:20201002T170000
DTSTAMP:20260419T120804
CREATED:20201110T205027Z
LAST-MODIFIED:20201110T205057Z
UID:194236-1601656200-1601658000@transparencia.tlaquepaque.gob.mx
SUMMARY:Reunión con la Dir. del Premio Nacional de la Cerámica y el Presidente del Patronato del Premio Nacional de la Cerámica
DESCRIPTION:Presidenta Municipal \nReunión con la Dir. del Premio Nacional de la Cerámica y el Presidente del Patronato del Premio Nacional de la Cerámica
URL:https://transparencia.tlaquepaque.gob.mx/evento/reunion-la-dir-del-premio-nacional-la-ceramica-presidente-del-patronato-del-premio-nacional-la-ceramica/
LOCATION:Presidencia Municipal de San Pedro Tlaquepaque\, Independencia\, Centro\, San Pedro Tlaquepaque\, Jalisco\, 45500\, México
END:VEVENT
BEGIN:VEVENT
DTSTART;TZID=America/Mexico_City:20201002T170000
DTEND;TZID=America/Mexico_City:20201002T180000
DTSTAMP:20260419T120804
CREATED:20201110T205137Z
LAST-MODIFIED:20201110T205250Z
UID:194239-1601658000-1601661600@transparencia.tlaquepaque.gob.mx
SUMMARY:Reunión virtual con el Comité del Premio Nacional de la Cerámica
DESCRIPTION:Presidenta Municipal \nReunión virtual con el Comité del Premio Nacional de la Cerámica
URL:https://transparencia.tlaquepaque.gob.mx/evento/reunion-virtual-comite-del-premio-nacional-la-ceramica/
LOCATION:Presidencia Municipal de San Pedro Tlaquepaque\, Independencia\, Centro\, San Pedro Tlaquepaque\, Jalisco\, 45500\, México
END:VEVENT
BEGIN:VEVENT
DTSTART;TZID=America/Mexico_City:20201003T110000
DTEND;TZID=America/Mexico_City:20201003T120000
DTSTAMP:20260419T120804
CREATED:20201110T205344Z
LAST-MODIFIED:20201110T205403Z
UID:194241-1601722800-1601726400@transparencia.tlaquepaque.gob.mx
SUMMARY:Develación de la escultura de San Miguel Arcángel del Artista Agustín Parra
DESCRIPTION:Presidenta Municipal \nDevelación de la escultura de San Miguel Arcángel del Artista Agustín Parra
URL:https://transparencia.tlaquepaque.gob.mx/evento/develacion-la-escultura-san-miguel-arcangel-del-artista-agustin-parra/
END:VEVENT
BEGIN:VEVENT
DTSTART;TZID=America/Mexico_City:20201005T130000
DTEND;TZID=America/Mexico_City:20201005T140000
DTSTAMP:20260419T120804
CREATED:20201110T205439Z
LAST-MODIFIED:20201110T205456Z
UID:194243-1601902800-1601906400@transparencia.tlaquepaque.gob.mx
SUMMARY:Entrega de apoyo de despensas en la Col. Santibáñez
DESCRIPTION:Presidenta Municipal \nEntrega de apoyo de despensas en la Col. Santibáñez
URL:https://transparencia.tlaquepaque.gob.mx/evento/entrega-apoyo-despensas-la-col-santibanez/
END:VEVENT
BEGIN:VEVENT
DTSTART;TZID=America/Mexico_City:20201006T080000
DTEND;TZID=America/Mexico_City:20201006T090000
DTSTAMP:20260419T120804
CREATED:20201110T205550Z
LAST-MODIFIED:20201110T205615Z
UID:194245-1601971200-1601974800@transparencia.tlaquepaque.gob.mx
SUMMARY:Reunión de Seguridad
DESCRIPTION:Presidenta Municipal \nReunión de Seguridad
URL:https://transparencia.tlaquepaque.gob.mx/evento/reunion-de-seguridad-70/
LOCATION:Palacio de Gobierno del Estado de Jalisco\,  Avenida Ramón Corona No. 31\, Guadalajara\, Jalisco\, 44100\, México
END:VEVENT
BEGIN:VEVENT
DTSTART;TZID=America/Mexico_City:20201006T100000
DTEND;TZID=America/Mexico_City:20201006T113000
DTSTAMP:20260419T120804
CREATED:20201110T205716Z
LAST-MODIFIED:20201110T205740Z
UID:194247-1601978400-1601983800@transparencia.tlaquepaque.gob.mx
SUMMARY:Recepción del Certificado de Ciudades Amigable con los Adultos Mayores por la OMS
DESCRIPTION:Presidenta Municipal \nRecepción del Certificado de Ciudades Amigable con los Adultos Mayores por la OMS
URL:https://transparencia.tlaquepaque.gob.mx/evento/recepcion-del-certificado-ciudades-amigable-los-adultos-mayores-la-oms/
LOCATION:Palacio de Gobierno del Estado de Jalisco\,  Avenida Ramón Corona No. 31\, Guadalajara\, Jalisco\, 44100\, México
END:VEVENT
BEGIN:VEVENT
DTSTART;TZID=America/Mexico_City:20201006T130000
DTEND;TZID=America/Mexico_City:20201006T140000
DTSTAMP:20260419T120804
CREATED:20201110T205829Z
LAST-MODIFIED:20201110T205848Z
UID:194249-1601989200-1601992800@transparencia.tlaquepaque.gob.mx
SUMMARY:Entrega de obra concreto hidráulico de la calle regidores en la Col. Parques de la Victoria
DESCRIPTION:Presidenta Municipal \nEntrega de obra concreto hidráulico de la calle regidores en la Col. Parques de la Victoria
URL:https://transparencia.tlaquepaque.gob.mx/evento/entrega-obra-concreto-hidraulico-la-calle-regidores-la-col-parques-la-victoria/
LOCATION:Col. Parques de la Victoria\, Guillermo Garibay s/n\, Tlaquepaque\, Jalisco\, México
END:VEVENT
BEGIN:VEVENT
DTSTART;TZID=America/Mexico_City:20201006T173000
DTEND;TZID=America/Mexico_City:20201006T183000
DTSTAMP:20260419T120804
CREATED:20201204T213416Z
LAST-MODIFIED:20201204T213537Z
UID:199659-1602005400-1602009000@transparencia.tlaquepaque.gob.mx
SUMMARY:Develación de la escultura del artista Sergio Bustamante sobre el Andador Independencia
DESCRIPTION:Presidenta Municipal \nDevelación de la escultura del artista Sergio Bustamante sobre el Andador Independencia
URL:https://transparencia.tlaquepaque.gob.mx/evento/develacion-la-escultura-del-artista-sergio-bustamante/
END:VEVENT
BEGIN:VEVENT
DTSTART;TZID=America/Mexico_City:20201007T110000
DTEND;TZID=America/Mexico_City:20201007T120000
DTSTAMP:20260419T120804
CREATED:20201110T205928Z
LAST-MODIFIED:20201110T205946Z
UID:194253-1602068400-1602072000@transparencia.tlaquepaque.gob.mx
SUMMARY:Inauguración de re-encarpetamiento de la calle San Miguel en la Col. Revolución
DESCRIPTION:Presidenta Municipal \nInauguración de re-encarpetamiento de la calle San Miguel en la Col. Revolución
URL:https://transparencia.tlaquepaque.gob.mx/evento/inauguracion-re-encarpetamiento-la-calle-san-miguel-la-col-revolucion/
END:VEVENT
BEGIN:VEVENT
DTSTART;TZID=America/Mexico_City:20201007T123000
DTEND;TZID=America/Mexico_City:20201007T130000
DTSTAMP:20260419T120804
CREATED:20201110T210034Z
LAST-MODIFIED:20201110T210055Z
UID:194256-1602073800-1602075600@transparencia.tlaquepaque.gob.mx
SUMMARY:Entrevista con Radio Mujer
DESCRIPTION:Presidenta Municipal \nEntrevista con Radio Mujer
URL:https://transparencia.tlaquepaque.gob.mx/evento/entrevista-radio-mujer/
LOCATION:Presidencia Municipal de San Pedro Tlaquepaque\, Independencia\, Centro\, San Pedro Tlaquepaque\, Jalisco\, 45500\, México
END:VEVENT
BEGIN:VEVENT
DTSTART;TZID=America/Mexico_City:20201007T140000
DTEND;TZID=America/Mexico_City:20201007T143000
DTSTAMP:20260419T120804
CREATED:20201110T210132Z
LAST-MODIFIED:20201110T210202Z
UID:194259-1602079200-1602081000@transparencia.tlaquepaque.gob.mx
SUMMARY:Reunión Privada
DESCRIPTION:Presidenta Municipal \nReunión Privada
URL:https://transparencia.tlaquepaque.gob.mx/evento/reunion-privada-120/
LOCATION:Presidencia Municipal de San Pedro Tlaquepaque\, Independencia\, Centro\, San Pedro Tlaquepaque\, Jalisco\, 45500\, México
END:VEVENT
BEGIN:VEVENT
DTSTART;TZID=America/Mexico_City:20201007T150000
DTEND;TZID=America/Mexico_City:20201007T163000
DTSTAMP:20260419T120804
CREATED:20201110T210427Z
LAST-MODIFIED:20201110T210515Z
UID:194261-1602082800-1602088200@transparencia.tlaquepaque.gob.mx
SUMMARY:Reunión de Gabinete
DESCRIPTION:Presidenta Municipal \nReunión de Gabinete
URL:https://transparencia.tlaquepaque.gob.mx/evento/reunion-de-gabinete-70/
LOCATION:Presidencia Municipal de San Pedro Tlaquepaque\, Independencia\, Centro\, San Pedro Tlaquepaque\, Jalisco\, 45500\, México
END:VEVENT
BEGIN:VEVENT
DTSTART;TZID=America/Mexico_City:20201008T110000
DTEND;TZID=America/Mexico_City:20201008T120000
DTSTAMP:20260419T120804
CREATED:20201110T210601Z
LAST-MODIFIED:20201110T210616Z
UID:194264-1602154800-1602158400@transparencia.tlaquepaque.gob.mx
SUMMARY:Evento conmemorativo del Día del Paramédico
DESCRIPTION:Presidenta Municipal \nEvento conmemorativo del Día del Paramédico
URL:https://transparencia.tlaquepaque.gob.mx/evento/evento-conmemorativo-del-dia-del-paramedico/
LOCATION:Museo del Premio Nacional de la Cerámica Pantaléon Panduro\, Prisciliano Sánchez 191\, San Juan\, San Pedro Tlaquepaque\, Jalisco\, 45500\, México
END:VEVENT
BEGIN:VEVENT
DTSTART;TZID=America/Mexico_City:20201008T170000
DTEND;TZID=America/Mexico_City:20201008T180000
DTSTAMP:20260419T120804
CREATED:20201110T210711Z
LAST-MODIFIED:20201110T210749Z
UID:194267-1602176400-1602180000@transparencia.tlaquepaque.gob.mx
SUMMARY:Reunión con la Coordinadora General de Construcción de la Comunidad
DESCRIPTION:Presidenta Municipal \nReunión con la Coordinadora General de Construcción de la Comunidad
URL:https://transparencia.tlaquepaque.gob.mx/evento/reunion-la-coordinadora-general-construccion-la-comunidad-2/
LOCATION:Presidencia Municipal de San Pedro Tlaquepaque\, Independencia\, Centro\, San Pedro Tlaquepaque\, Jalisco\, 45500\, México
END:VEVENT
BEGIN:VEVENT
DTSTART;TZID=America/Mexico_City:20201008T180000
DTEND;TZID=America/Mexico_City:20201008T190000
DTSTAMP:20260419T120804
CREATED:20201110T210946Z
LAST-MODIFIED:20201110T210954Z
UID:194270-1602180000-1602183600@transparencia.tlaquepaque.gob.mx
SUMMARY:Reunión con el Dir. de Políticas Públicas
DESCRIPTION:Presidenta Municipal \nReunión con el Dir. de Políticas Públicas
URL:https://transparencia.tlaquepaque.gob.mx/evento/reunion-dir-politicas-publicas-5/
LOCATION:Presidencia Municipal de San Pedro Tlaquepaque\, Independencia\, Centro\, San Pedro Tlaquepaque\, Jalisco\, 45500\, México
END:VEVENT
BEGIN:VEVENT
DTSTART;TZID=America/Mexico_City:20201008T190000
DTEND;TZID=America/Mexico_City:20201008T193000
DTSTAMP:20260419T120804
CREATED:20201110T211435Z
LAST-MODIFIED:20201110T211808Z
UID:194272-1602183600-1602185400@transparencia.tlaquepaque.gob.mx
SUMMARY:Reunión con la Jefa de Gabinete
DESCRIPTION:Presidenta Municipal \nReunión con la Jefa de Gabinete
URL:https://transparencia.tlaquepaque.gob.mx/evento/reunion-la-jefa-gabinete/
LOCATION:Presidencia Municipal de San Pedro Tlaquepaque\, Independencia\, Centro\, San Pedro Tlaquepaque\, Jalisco\, 45500\, México
END:VEVENT
BEGIN:VEVENT
DTSTART;TZID=America/Mexico_City:20201008T193000
DTEND;TZID=America/Mexico_City:20201008T200000
DTSTAMP:20260419T120804
CREATED:20201110T212416Z
LAST-MODIFIED:20201110T212524Z
UID:194274-1602185400-1602187200@transparencia.tlaquepaque.gob.mx
SUMMARY:Reunión con el Comisario de la Policía Preventiva de San Pedro Tlaquepaque
DESCRIPTION:Presidenta Municipal \nReunión con el Comisario de la Policía Preventiva de  San Pedro Tlaquepaque
URL:https://transparencia.tlaquepaque.gob.mx/evento/reunion-comisario-la-policia-preventiva-san-pedro-tlaquepaque/
LOCATION:Presidencia Municipal de San Pedro Tlaquepaque\, Independencia\, Centro\, San Pedro Tlaquepaque\, Jalisco\, 45500\, México
END:VEVENT
BEGIN:VEVENT
DTSTART;TZID=America/Mexico_City:20201013T080000
DTEND;TZID=America/Mexico_City:20201013T090000
DTSTAMP:20260419T120804
CREATED:20201112T210426Z
LAST-MODIFIED:20201112T210445Z
UID:196611-1602576000-1602579600@transparencia.tlaquepaque.gob.mx
SUMMARY:Reunión de Seguridad
DESCRIPTION:Presidenta Municipal \nReunión de Seguridad
URL:https://transparencia.tlaquepaque.gob.mx/evento/reunion-de-seguridad-71/
LOCATION:Residencia Casa Jalisco\, Av Manuel Acuña 2624\, Ladrón de Guevara\, Guadalajara\, Jalisco\, 44600\, México
END:VEVENT
BEGIN:VEVENT
DTSTART;TZID=America/Mexico_City:20201013T110000
DTEND;TZID=America/Mexico_City:20201013T120000
DTSTAMP:20260419T120804
CREATED:20201112T210853Z
LAST-MODIFIED:20201112T210910Z
UID:196618-1602586800-1602590400@transparencia.tlaquepaque.gob.mx
SUMMARY:Inauguración de Lonaria en el Cero del 4
DESCRIPTION:Presidenta Municipal \nInauguración de Lonaria en el Cero del 4
URL:https://transparencia.tlaquepaque.gob.mx/evento/inauguracion-lonaria-cero-del-4/
END:VEVENT
BEGIN:VEVENT
DTSTART;TZID=America/Mexico_City:20201013T180000
DTEND;TZID=America/Mexico_City:20201013T190000
DTSTAMP:20260419T120804
CREATED:20201112T211006Z
LAST-MODIFIED:20201112T211016Z
UID:196620-1602612000-1602615600@transparencia.tlaquepaque.gob.mx
SUMMARY:Develación de escultura Galería a Cielo Abierto  del Artista Rodolfo Padilla
DESCRIPTION:Presidenta Municipal \nDevelación de escultura Galería a Cielo Abierto  del Artista Rodolfo Padilla
URL:https://transparencia.tlaquepaque.gob.mx/evento/develacion-escultura-galeria-cielo-abierto-del-artista-rodolfo-padilla/
LOCATION:Jardin Hidalgo\, indepndencia\, Col. Centro\, Tlaquepaque \, Jalisco\, México
END:VEVENT
BEGIN:VEVENT
DTSTART;TZID=America/Mexico_City:20201014T170000
DTEND;TZID=America/Mexico_City:20201014T180000
DTSTAMP:20260419T120804
CREATED:20201120T180731Z
LAST-MODIFIED:20201120T180753Z
UID:197375-1602694800-1602698400@transparencia.tlaquepaque.gob.mx
SUMMARY:Reunión virtual con directivos de la empresa ARCA CONTINENTAL
DESCRIPTION:Presidenta Municipal \nReunión virtual con directivos de la empresa ARCA CONTINENTAL
URL:https://transparencia.tlaquepaque.gob.mx/evento/reunion-virtual-directivos-la-empresa-arca-continental/
LOCATION:Presidencia Municipal de San Pedro Tlaquepaque\, Independencia\, Centro\, San Pedro Tlaquepaque\, Jalisco\, 45500\, México
END:VEVENT
BEGIN:VEVENT
DTSTART;TZID=America/Mexico_City:20201014T180000
DTEND;TZID=America/Mexico_City:20201014T190000
DTSTAMP:20260419T120804
CREATED:20201117T202753Z
LAST-MODIFIED:20201117T203550Z
UID:197071-1602698400-1602702000@transparencia.tlaquepaque.gob.mx
SUMMARY:Develación de escultura Galería a Cielo Abierto  del artista Carlos Bustos
DESCRIPTION:Develación de escultura Galería a Cielo Abierto  del artista Carlos Bustos en el Centro de San Pedro Tlaquepaque
URL:https://transparencia.tlaquepaque.gob.mx/evento/develacion-escultura-galeria-cielo-abierto-del-artista-carlos-bustos/
END:VEVENT
BEGIN:VEVENT
DTSTART;TZID=America/Mexico_City:20201014T180000
DTEND;TZID=America/Mexico_City:20201014T190000
DTSTAMP:20260419T120804
CREATED:20201120T181002Z
LAST-MODIFIED:20201120T181338Z
UID:197379-1602698400-1602702000@transparencia.tlaquepaque.gob.mx
SUMMARY:Develación de la escultura Galería a Cielo Abierto del Artista Carlos Bustos sobre el Andador Independencia
DESCRIPTION:Presidenta Municipal \nDevelación de la escultura Galería a Cielo Abierto del Artista Carlos Bustos sobre el Andador Independencia
URL:https://transparencia.tlaquepaque.gob.mx/evento/develacion-la-escultura-galeria-cielo-abierto-del-artista-carlos-bustos-andador-independencia/
END:VEVENT
BEGIN:VEVENT
DTSTART;TZID=America/Mexico_City:20201015T100000
DTEND;TZID=America/Mexico_City:20201015T110000
DTSTAMP:20260419T120804
CREATED:20201117T203712Z
LAST-MODIFIED:20201120T170533Z
UID:197073-1602756000-1602759600@transparencia.tlaquepaque.gob.mx
SUMMARY:Arranque da campaña de vacunación contra la influenza
DESCRIPTION:Presidenta Municipal \nArranque da campaña de vacunación contra la influenza
URL:https://transparencia.tlaquepaque.gob.mx/evento/arranque-da-campana-vacunacion-la-influenza/
LOCATION:Presidencia Municipal de San Pedro Tlaquepaque\, Independencia\, Centro\, San Pedro Tlaquepaque\, Jalisco\, 45500\, México
END:VEVENT
BEGIN:VEVENT
DTSTART;TZID=America/Mexico_City:20201015T130000
DTEND;TZID=America/Mexico_City:20201015T133000
DTSTAMP:20260419T120804
CREATED:20201117T203819Z
LAST-MODIFIED:20201117T203835Z
UID:197075-1602766800-1602768600@transparencia.tlaquepaque.gob.mx
SUMMARY:Reunión de Patronato del Premio Nacional de la Cerámica
DESCRIPTION:Presidenta Municipal \nReunión de Patronato del Premio Nacional de la Cerámica
URL:https://transparencia.tlaquepaque.gob.mx/evento/reunion-patronato-del-premio-nacional-la-ceramica-2/
LOCATION:Presidencia Municipal de San Pedro Tlaquepaque\, Independencia\, Centro\, San Pedro Tlaquepaque\, Jalisco\, 45500\, México
END:VEVENT
BEGIN:VEVENT
DTSTART;TZID=America/Mexico_City:20201015T133000
DTEND;TZID=America/Mexico_City:20201015T140000
DTSTAMP:20260419T120804
CREATED:20201117T203954Z
LAST-MODIFIED:20201117T204009Z
UID:197077-1602768600-1602770400@transparencia.tlaquepaque.gob.mx
SUMMARY:Reunión con el Dir. de SEDER
DESCRIPTION:Presidenta Municipal \nReunión con el Dir. de SEDER
URL:https://transparencia.tlaquepaque.gob.mx/evento/reunion-dir-seder/
LOCATION:Presidencia Municipal de San Pedro Tlaquepaque\, Independencia\, Centro\, San Pedro Tlaquepaque\, Jalisco\, 45500\, México
END:VEVENT
BEGIN:VEVENT
DTSTART;TZID=America/Mexico_City:20201015T170000
DTEND;TZID=America/Mexico_City:20201015T180000
DTSTAMP:20260419T120804
CREATED:20201117T204107Z
LAST-MODIFIED:20201117T204125Z
UID:197079-1602781200-1602784800@transparencia.tlaquepaque.gob.mx
SUMMARY:Entrega de apoyo de despensas en la Col. Cerro del Cuatro
DESCRIPTION:Presidenta Municipal \nEntrega de apoyo de despensas en la Col. Cerro del Cuatro
URL:https://transparencia.tlaquepaque.gob.mx/evento/entrega-apoyo-despensas-la-col-cerro-del-cuatro/
END:VEVENT
BEGIN:VEVENT
DTSTART;TZID=America/Mexico_City:20201016T110000
DTEND;TZID=America/Mexico_City:20201016T120000
DTSTAMP:20260419T120804
CREATED:20201117T204235Z
LAST-MODIFIED:20201117T204256Z
UID:197081-1602846000-1602849600@transparencia.tlaquepaque.gob.mx
SUMMARY:Arranque de colecta de la Cruz Roja en San Pedro Tlaquepaque
DESCRIPTION:Presidenta Municipal \nArranque de colecta de la Cruz Roja en San Pedro Tlaquepaque
URL:https://transparencia.tlaquepaque.gob.mx/evento/arranque-colecta-la-cruz-roja-san-pedro-tlaquepaque/
LOCATION:Presidencia Municipal de San Pedro Tlaquepaque\, Independencia\, Centro\, San Pedro Tlaquepaque\, Jalisco\, 45500\, México
END:VEVENT
BEGIN:VEVENT
DTSTART;TZID=America/Mexico_City:20201017T130000
DTEND;TZID=America/Mexico_City:20201017T140000
DTSTAMP:20260419T120804
CREATED:20201212T014136Z
LAST-MODIFIED:20201212T014151Z
UID:200575-1602939600-1602943200@transparencia.tlaquepaque.gob.mx
SUMMARY:Reunión con la Jefa de Gabinete y el Dir. de Políticas Públicas
DESCRIPTION:Presidenta Municipal \nReunión con la Jefa de Gabinete y el Dir. de Políticas Públicas
URL:https://transparencia.tlaquepaque.gob.mx/evento/reunion-la-jefa-gabinete-dir-politicas-publicas/
LOCATION:Presidencia Municipal de San Pedro Tlaquepaque\, Independencia\, Centro\, San Pedro Tlaquepaque\, Jalisco\, 45500\, México
END:VEVENT
END:VCALENDAR