BEGIN:VCALENDAR
VERSION:2.0
PRODID:-//Transparencia Tlaquepaque - ECPv6.3.5//NONSGML v1.0//EN
CALSCALE:GREGORIAN
METHOD:PUBLISH
X-ORIGINAL-URL:https://transparencia.tlaquepaque.gob.mx
X-WR-CALDESC:Eventos para Transparencia Tlaquepaque
REFRESH-INTERVAL;VALUE=DURATION:PT1H
X-Robots-Tag:noindex
X-PUBLISHED-TTL:PT1H
BEGIN:VTIMEZONE
TZID:America/Mexico_City
BEGIN:DAYLIGHT
TZOFFSETFROM:-0600
TZOFFSETTO:-0500
TZNAME:CDT
DTSTART:20200405T080000
END:DAYLIGHT
BEGIN:STANDARD
TZOFFSETFROM:-0500
TZOFFSETTO:-0600
TZNAME:CST
DTSTART:20201025T070000
END:STANDARD
END:VTIMEZONE
BEGIN:VEVENT
DTSTART;TZID=America/Mexico_City:20200826T090000
DTEND;TZID=America/Mexico_City:20200826T110000
DTSTAMP:20260422T162150
CREATED:20200924T170729Z
LAST-MODIFIED:20200924T170820Z
UID:186848-1598432400-1598439600@transparencia.tlaquepaque.gob.mx
SUMMARY:Recorrido con el Gobernador del Estado por el Fraccionamiento Revolución
DESCRIPTION:Presidenta Municipal \nRecorrido con el Gobernador del Estado por el Fraccionamiento Revolución
URL:https://transparencia.tlaquepaque.gob.mx/evento/recorrido-gobernador-del-estado-fraccionamiento-revolucion/
END:VEVENT
BEGIN:VEVENT
DTSTART;TZID=America/Mexico_City:20200827T110000
DTEND;TZID=America/Mexico_City:20200827T120000
DTSTAMP:20260422T162150
CREATED:20200924T170950Z
LAST-MODIFIED:20200924T171204Z
UID:186850-1598526000-1598529600@transparencia.tlaquepaque.gob.mx
SUMMARY:Entrega de uniformes a Elementos de Seguridad Pública
DESCRIPTION:Presidenta Municipal \nEntrega de uniformes a Elementos de Seguridad Pública
URL:https://transparencia.tlaquepaque.gob.mx/evento/entrega-uniformes-elementos-seguridad-publica-3/
LOCATION:Comisaria de San Pedro Tlaquepaque\, Calle Zalatitán 396\, Los Meseros\, San Pedro Tlaquepaque\, Jalisco\, 45510\, México
END:VEVENT
BEGIN:VEVENT
DTSTART;TZID=America/Mexico_City:20200827T130000
DTEND;TZID=America/Mexico_City:20200827T140000
DTSTAMP:20260422T162150
CREATED:20200924T171300Z
LAST-MODIFIED:20200924T171332Z
UID:186852-1598533200-1598536800@transparencia.tlaquepaque.gob.mx
SUMMARY:Sesión de Cabildo
DESCRIPTION:Presidenta Municipal \nSesión de Cabildo
URL:https://transparencia.tlaquepaque.gob.mx/evento/sesion-de-cabildo-109/
LOCATION:Presidencia Municipal de San Pedro Tlaquepaque\, Independencia\, Centro\, San Pedro Tlaquepaque\, Jalisco\, 45500\, México
END:VEVENT
BEGIN:VEVENT
DTSTART;TZID=America/Mexico_City:20200827T150000
DTEND;TZID=America/Mexico_City:20200827T160000
DTSTAMP:20260422T162150
CREATED:20200924T171449Z
LAST-MODIFIED:20200924T171820Z
UID:186855-1598540400-1598544000@transparencia.tlaquepaque.gob.mx
SUMMARY:Reunión privada
DESCRIPTION:Presidenta Municipal \nReunión privada
URL:https://transparencia.tlaquepaque.gob.mx/evento/reunion-privada-116/
END:VEVENT
BEGIN:VEVENT
DTSTART;TZID=America/Mexico_City:20200828T110000
DTEND;TZID=America/Mexico_City:20200828T120000
DTSTAMP:20260422T162150
CREATED:20200924T172016Z
LAST-MODIFIED:20200924T172200Z
UID:186858-1598612400-1598616000@transparencia.tlaquepaque.gob.mx
SUMMARY:Sesión de la Comisión de Asuntos Metropolitano
DESCRIPTION:Presidenta Municipal \nSesión de la Comisión de Asuntos Metropolitano
URL:https://transparencia.tlaquepaque.gob.mx/evento/sesion-la-comision-asuntos-metropolitano/
LOCATION:Presidencia Municipal de San Pedro Tlaquepaque\, Independencia\, Centro\, San Pedro Tlaquepaque\, Jalisco\, 45500\, México
END:VEVENT
BEGIN:VEVENT
DTSTART;TZID=America/Mexico_City:20200828T120000
DTEND;TZID=America/Mexico_City:20200828T130000
DTSTAMP:20260422T162150
CREATED:20200924T172255Z
LAST-MODIFIED:20200924T172334Z
UID:186862-1598616000-1598619600@transparencia.tlaquepaque.gob.mx
SUMMARY:Reunión con el Delegado de INSUS
DESCRIPTION:Presidenta Municipal \nReunión con el Delegado de INSUS
URL:https://transparencia.tlaquepaque.gob.mx/evento/reunion-delegado-insus/
LOCATION:Presidencia Municipal de San Pedro Tlaquepaque\, Independencia\, Centro\, San Pedro Tlaquepaque\, Jalisco\, 45500\, México
END:VEVENT
BEGIN:VEVENT
DTSTART;TZID=America/Mexico_City:20200828T130000
DTEND;TZID=America/Mexico_City:20200828T140000
DTSTAMP:20260422T162150
CREATED:20200924T172415Z
LAST-MODIFIED:20200924T172435Z
UID:186864-1598619600-1598623200@transparencia.tlaquepaque.gob.mx
SUMMARY:Recorrido por el andador Independencia
DESCRIPTION:Presidenta Municipal \nRecorrido por el andador Independencia
URL:https://transparencia.tlaquepaque.gob.mx/evento/recorrido-andador-independencia-2/
END:VEVENT
BEGIN:VEVENT
DTSTART;TZID=America/Mexico_City:20200828T150000
DTEND;TZID=America/Mexico_City:20200828T160000
DTSTAMP:20260422T162150
CREATED:20200924T172524Z
LAST-MODIFIED:20200924T172831Z
UID:186867-1598626800-1598630400@transparencia.tlaquepaque.gob.mx
SUMMARY:Reunión con la Dir. del Centro Cultural el Refugio\, Dir. del Museo Pantaleón Panduro y el Coordinador General de desarrollo Económico y Combate a la Desigualdad
DESCRIPTION:Presidenta Municipal \nReunión con la Dir. del Centro Cultural el Refugio\, Dir. del Museo Pantaleón Panduro y el Coordinador General de desarrollo Económico y Combate a la Desigualdad
URL:https://transparencia.tlaquepaque.gob.mx/evento/reunion-la-dir-del-centro-cultural-refugio-dir-del-museo-pantaleon-panduro-coordinador-general-desarrollo-economico-combate-la-desigualdad/
LOCATION:Centro Cultural El Refugio\, Donato Guerra 160\, San Pedro Tlaquepaque\, San Pedro\, 45500\, México
END:VEVENT
BEGIN:VEVENT
DTSTART;TZID=America/Mexico_City:20200831T110000
DTEND;TZID=America/Mexico_City:20200831T120000
DTSTAMP:20260422T162150
CREATED:20200924T173015Z
LAST-MODIFIED:20200924T173038Z
UID:186871-1598871600-1598875200@transparencia.tlaquepaque.gob.mx
SUMMARY:Entrega de apoyos del programa “Madres Jefas”
DESCRIPTION:Presidenta Municipal \nEntrega de apoyos del programa “Madres Jefas”
URL:https://transparencia.tlaquepaque.gob.mx/evento/entrega-apoyos-del-programa-madres-jefas-3/
LOCATION:Centro Cultural El Refugio\, Donato Guerra 160\, San Pedro Tlaquepaque\, San Pedro\, 45500\, México
END:VEVENT
BEGIN:VEVENT
DTSTART;TZID=America/Mexico_City:20200831T123000
DTEND;TZID=America/Mexico_City:20200831T133000
DTSTAMP:20260422T162150
CREATED:20200924T173222Z
LAST-MODIFIED:20200924T173313Z
UID:186873-1598877000-1598880600@transparencia.tlaquepaque.gob.mx
SUMMARY:Recorrido por el Fraccionamiento Revolución
DESCRIPTION:Presidenta Municipal \nRecorrido por el Fraccionamiento Revolución
URL:https://transparencia.tlaquepaque.gob.mx/evento/recorrido-fraccionamiento-revolucion-3/
END:VEVENT
BEGIN:VEVENT
DTSTART;TZID=America/Mexico_City:20200831T160000
DTEND;TZID=America/Mexico_City:20200831T180000
DTSTAMP:20260422T162150
CREATED:20200924T173354Z
LAST-MODIFIED:20200924T175732Z
UID:186877-1598889600-1598896800@transparencia.tlaquepaque.gob.mx
SUMMARY:Grabación de video para Informe de Gobierno
DESCRIPTION:Presidenta Municipal \nGrabación de video para Informe de Gobierno
URL:https://transparencia.tlaquepaque.gob.mx/evento/grabacion-video-informe-gobierno/
LOCATION:Presidencia Municipal de San Pedro Tlaquepaque\, Independencia\, Centro\, San Pedro Tlaquepaque\, Jalisco\, 45500\, México
END:VEVENT
BEGIN:VEVENT
DTSTART;TZID=America/Mexico_City:20200901T080000
DTEND;TZID=America/Mexico_City:20200901T090000
DTSTAMP:20260422T162150
CREATED:20200924T180632Z
LAST-MODIFIED:20200924T180708Z
UID:186885-1598947200-1598950800@transparencia.tlaquepaque.gob.mx
SUMMARY:Reunión de Seguridad
DESCRIPTION:Presidenta Municipal \nReunión de Seguridad
URL:https://transparencia.tlaquepaque.gob.mx/evento/reunion-de-seguridad-67/
LOCATION:Residencia Casa Jalisco\, Av Manuel Acuña 2624\, Ladrón de Guevara\, Guadalajara\, Jalisco\, 44600\, México
END:VEVENT
BEGIN:VEVENT
DTSTART;TZID=America/Mexico_City:20200901T110000
DTEND;TZID=America/Mexico_City:20200901T120000
DTSTAMP:20260422T162150
CREATED:20200924T180750Z
LAST-MODIFIED:20200924T180833Z
UID:186897-1598958000-1598961600@transparencia.tlaquepaque.gob.mx
SUMMARY:Entrega de reencarpetmiento en la calle 5 De Mayo en la Col. San Martín de las Flores
DESCRIPTION:Presidenta Municipal \nEntrega de reencarpetmiento en la calle 5 De Mayo en la Col. San Martín de las Flores
URL:https://transparencia.tlaquepaque.gob.mx/evento/entrega-reencarpetmiento-la-calle-5-mayo-la-col-san-martin-las-flores/
END:VEVENT
BEGIN:VEVENT
DTSTART;TZID=America/Mexico_City:20200901T150000
DTEND;TZID=America/Mexico_City:20200901T160000
DTSTAMP:20260422T162150
CREATED:20200924T180926Z
LAST-MODIFIED:20200924T181137Z
UID:186900-1598972400-1598976000@transparencia.tlaquepaque.gob.mx
SUMMARY:Reunión privada
DESCRIPTION:Presidenta Municipal \nReunión privada
URL:https://transparencia.tlaquepaque.gob.mx/evento/reunion-privada-117/
LOCATION:Presidencia Municipal de San Pedro Tlaquepaque\, Independencia\, Centro\, San Pedro Tlaquepaque\, Jalisco\, 45500\, México
END:VEVENT
BEGIN:VEVENT
DTSTART;TZID=America/Mexico_City:20200902T110000
DTEND;TZID=America/Mexico_City:20200902T150000
DTSTAMP:20260422T162150
CREATED:20200924T183645Z
LAST-MODIFIED:20200924T183719Z
UID:186907-1599044400-1599058800@transparencia.tlaquepaque.gob.mx
SUMMARY:Recorrido de operatividad de la Línea 3 del Tren Ligero con el Gobernador del Estado de Jalisco
DESCRIPTION:Presidenta Municipal \nRecorrido de operatividad de la Línea 3 del Tren Ligero con el Gobernador del Estado de Jalisco
URL:https://transparencia.tlaquepaque.gob.mx/evento/recorrido-operatividad-la-linea-3-del-tren-ligero-gobernador-del-estado-jalisco/
END:VEVENT
BEGIN:VEVENT
DTSTART;TZID=America/Mexico_City:20200902T163000
DTEND;TZID=America/Mexico_City:20200902T200000
DTSTAMP:20260422T162150
CREATED:20200924T183918Z
LAST-MODIFIED:20200924T184137Z
UID:186917-1599064200-1599076800@transparencia.tlaquepaque.gob.mx
SUMMARY:Grabación Voz en Off para 2do Informe
DESCRIPTION:Presidenta Municipal \nGrabación Voz en Off para 2do Informe
URL:https://transparencia.tlaquepaque.gob.mx/evento/grabacion-voz-off-2do-informe/
LOCATION:Presidencia Municipal de San Pedro Tlaquepaque\, Independencia\, Centro\, San Pedro Tlaquepaque\, Jalisco\, 45500\, México
END:VEVENT
BEGIN:VEVENT
DTSTART;TZID=America/Mexico_City:20200903T110000
DTEND;TZID=America/Mexico_City:20200903T120000
DTSTAMP:20260422T162150
CREATED:20200924T184256Z
LAST-MODIFIED:20200924T184333Z
UID:186919-1599130800-1599134400@transparencia.tlaquepaque.gob.mx
SUMMARY:Entrega de Títulos de Propiedad
DESCRIPTION:Presidenta Municipal \nEntrega de Títulos de Propiedad
URL:https://transparencia.tlaquepaque.gob.mx/evento/entrega-titulos-propiedad-11/
LOCATION:Centro Cultural El Refugio\, Donato Guerra 160\, San Pedro Tlaquepaque\, San Pedro\, 45500\, México
END:VEVENT
BEGIN:VEVENT
DTSTART;TZID=America/Mexico_City:20200903T133000
DTEND;TZID=America/Mexico_City:20200903T143000
DTSTAMP:20260422T162150
CREATED:20200924T184412Z
LAST-MODIFIED:20200924T184439Z
UID:186921-1599139800-1599143400@transparencia.tlaquepaque.gob.mx
SUMMARY:Entrega de apoyo de despensas en San Martín de las Flores
DESCRIPTION:Presidenta Municipal \nEntrega de apoyo de despensas en San Martín de las Flores
URL:https://transparencia.tlaquepaque.gob.mx/evento/entrega-apoyo-despensas-san-martin-las-flores/
END:VEVENT
BEGIN:VEVENT
DTSTART;TZID=America/Mexico_City:20200904T120000
DTEND;TZID=America/Mexico_City:20200904T130000
DTSTAMP:20260422T162150
CREATED:20200924T184520Z
LAST-MODIFIED:20200924T184538Z
UID:186923-1599220800-1599224400@transparencia.tlaquepaque.gob.mx
SUMMARY:Reunión con el Coordinador de Desarrollo Económico y Combate a la Desigualdad
DESCRIPTION:Presidenta Municipal \nReunión con el Coordinador de Desarrollo Económico y Combate a la Desigualdad
URL:https://transparencia.tlaquepaque.gob.mx/evento/reunion-coordinador-desarrollo-economico-combate-la-desigualdad/
LOCATION:Presidencia Municipal de San Pedro Tlaquepaque\, Independencia\, Centro\, San Pedro Tlaquepaque\, Jalisco\, 45500\, México
END:VEVENT
BEGIN:VEVENT
DTSTART;TZID=America/Mexico_City:20200904T130000
DTEND;TZID=America/Mexico_City:20200904T140000
DTSTAMP:20260422T162150
CREATED:20200924T184620Z
LAST-MODIFIED:20200924T184641Z
UID:186925-1599224400-1599228000@transparencia.tlaquepaque.gob.mx
SUMMARY:Reunión con la Dir. del Instituto Municipal de las Mujeres
DESCRIPTION:Presidenta Municipal \nReunión con la Dir. del Instituto Municipal de las Mujeres
URL:https://transparencia.tlaquepaque.gob.mx/evento/reunion-la-dir-del-instituto-municipal-las-mujeres-2/
LOCATION:Presidencia Municipal de San Pedro Tlaquepaque\, Independencia\, Centro\, San Pedro Tlaquepaque\, Jalisco\, 45500\, México
END:VEVENT
BEGIN:VEVENT
DTSTART;TZID=America/Mexico_City:20200904T140000
DTEND;TZID=America/Mexico_City:20200904T153000
DTSTAMP:20260422T162150
CREATED:20200924T184726Z
LAST-MODIFIED:20200924T184852Z
UID:186927-1599228000-1599233400@transparencia.tlaquepaque.gob.mx
SUMMARY:Reunión con el Coordinador de Servicios Públicos Municipales\, la Coordinadora General de Construcción de la Comunidad\, Dir. de Agencias y Delegaciones y Jefa de Gabinete
DESCRIPTION:Presidenta Municipal \nReunión con el Coordinador de Servicios Públicos Municipales\, la Coordinadora General de Construcción de la Comunidad\, Dir. de Agencias y Delegaciones y Jefa de Gabinete
URL:https://transparencia.tlaquepaque.gob.mx/evento/reunion-coordinador-servicios-publicos-municipales-la-coordinadora-general-construccion-la-comunidad-dir-agencias-delegaciones-jefa-gabinete/
LOCATION:Presidencia Municipal de San Pedro Tlaquepaque\, Independencia\, Centro\, San Pedro Tlaquepaque\, Jalisco\, 45500\, México
END:VEVENT
BEGIN:VEVENT
DTSTART;TZID=America/Mexico_City:20200907T093000
DTEND;TZID=America/Mexico_City:20200907T103000
DTSTAMP:20260422T162150
CREATED:20200924T184928Z
LAST-MODIFIED:20200924T185124Z
UID:186929-1599471000-1599474600@transparencia.tlaquepaque.gob.mx
SUMMARY:Entrega de reencarpetamiento en la calle Narciso Mendoza en San Martín de las Flores
DESCRIPTION:Presidenta Municipal \nEntrega de reencarpetamiento en la calle Narciso Mendoza en San Martín de las Flores
URL:https://transparencia.tlaquepaque.gob.mx/evento/entrega-reencarpetamiento-la-calle-narciso-mendoza-san-martin-las-flores/
END:VEVENT
BEGIN:VEVENT
DTSTART;TZID=America/Mexico_City:20200907T110000
DTEND;TZID=America/Mexico_City:20200907T120000
DTSTAMP:20260422T162150
CREATED:20200924T185216Z
LAST-MODIFIED:20200924T185244Z
UID:186931-1599476400-1599480000@transparencia.tlaquepaque.gob.mx
SUMMARY:Entrega de apoyo del programa “Te Queremos Familiar”
DESCRIPTION:Presidenta Municipal \nEntrega de apoyo del programa “Te Queremos Familiar”
URL:https://transparencia.tlaquepaque.gob.mx/evento/entrega-apoyo-del-programa-te-queremos-familiar/
LOCATION:Centro Cultural el Refugio\, Donato Guerra No. 160\, Tlaquepaque\, Jalisco\, 45500\, México
END:VEVENT
BEGIN:VEVENT
DTSTART;TZID=America/Mexico_City:20200907T150000
DTEND;TZID=America/Mexico_City:20200907T160000
DTSTAMP:20260422T162150
CREATED:20200924T185348Z
LAST-MODIFIED:20200924T185541Z
UID:186933-1599490800-1599494400@transparencia.tlaquepaque.gob.mx
SUMMARY:Reunión Privada
DESCRIPTION:Presidenta Municipal \nReunión Privada
URL:https://transparencia.tlaquepaque.gob.mx/evento/reunion-privada-118/
END:VEVENT
BEGIN:VEVENT
DTSTART;TZID=America/Mexico_City:20200907T170000
DTEND;TZID=America/Mexico_City:20200907T180000
DTSTAMP:20260422T162150
CREATED:20200924T185624Z
LAST-MODIFIED:20200924T190008Z
UID:186936-1599498000-1599501600@transparencia.tlaquepaque.gob.mx
SUMMARY:Reunión de Gabinete
DESCRIPTION:Presidenta Municipal \nReunión de Gabinete
URL:https://transparencia.tlaquepaque.gob.mx/evento/reunion-de-gabinete-68/
LOCATION:Presidencia Municipal de San Pedro Tlaquepaque\, Independencia\, Centro\, San Pedro Tlaquepaque\, Jalisco\, 45500\, México
END:VEVENT
BEGIN:VEVENT
DTSTART;TZID=America/Mexico_City:20200908T103000
DTEND;TZID=America/Mexico_City:20200908T113000
DTSTAMP:20260422T162150
CREATED:20200924T190049Z
LAST-MODIFIED:20200924T190115Z
UID:186939-1599561000-1599564600@transparencia.tlaquepaque.gob.mx
SUMMARY:Entrega de apoyo de despensas en la Col. Lomas el Cuatro
DESCRIPTION:Presidenta Municipal \nEntrega de apoyo de despensas en la Col. Lomas el Cuatro
URL:https://transparencia.tlaquepaque.gob.mx/evento/entrega-apoyo-despensas-la-col-lomas-cuatro/
END:VEVENT
BEGIN:VEVENT
DTSTART;TZID=America/Mexico_City:20200908T120000
DTEND;TZID=America/Mexico_City:20200908T130000
DTSTAMP:20260422T162150
CREATED:20200924T190209Z
LAST-MODIFIED:20200924T190226Z
UID:186941-1599566400-1599570000@transparencia.tlaquepaque.gob.mx
SUMMARY:Inauguración de la Base del Escuadrón Canino K-9 en Lomas de San Pedrito
DESCRIPTION:Presidenta Municipal \nInauguración de la Base del Escuadrón Canino K-9 en Lomas de San Pedrito
URL:https://transparencia.tlaquepaque.gob.mx/evento/inauguracion-la-base-del-escuadron-canino-k-9-lomas-san-pedrito/
END:VEVENT
BEGIN:VEVENT
DTSTART;TZID=America/Mexico_City:20200908T133000
DTEND;TZID=America/Mexico_City:20200908T140000
DTSTAMP:20260422T162150
CREATED:20200924T190302Z
LAST-MODIFIED:20200924T190616Z
UID:186945-1599571800-1599573600@transparencia.tlaquepaque.gob.mx
SUMMARY:Entrevista telefónica para Líder Informativo con Jaime Barrera
DESCRIPTION:Presidenta Municipal \nEntrevista telefónica para Líder Informativo con Jaime Barrera
URL:https://transparencia.tlaquepaque.gob.mx/evento/entrevista-telefonica-lider-informativo-jaime-barrera/
END:VEVENT
BEGIN:VEVENT
DTSTART;TZID=America/Mexico_City:20200908T213000
DTEND;TZID=America/Mexico_City:20200908T220000
DTSTAMP:20260422T162150
CREATED:20200929T182043Z
LAST-MODIFIED:20200930T180505Z
UID:187111-1599600600-1599602400@transparencia.tlaquepaque.gob.mx
SUMMARY:Entrevista con Jonas
DESCRIPTION:Presidenta Municipal \nEntrevista con Jonas
URL:https://transparencia.tlaquepaque.gob.mx/evento/entrevista-con-jonas-2/
LOCATION:quierotv\, Av Naciones Unidas 5573\, Vallarta Universidad\, Zapopan\, Jalisco\, 45110\, México
END:VEVENT
BEGIN:VEVENT
DTSTART;TZID=America/Mexico_City:20200909T083000
DTEND;TZID=America/Mexico_City:20200909T090000
DTSTAMP:20260422T162150
CREATED:20200924T190649Z
LAST-MODIFIED:20200924T190712Z
UID:186950-1599640200-1599642000@transparencia.tlaquepaque.gob.mx
SUMMARY:Entrevista telefónica con Sonia Serrano para Radio UdeG
DESCRIPTION:Presidenta Municipal \nEntrevista telefónica con Sonia Serrano para Radio UdeG
URL:https://transparencia.tlaquepaque.gob.mx/evento/entrevista-telefonica-sonia-serrano-radio-udeg/
END:VEVENT
END:VCALENDAR