BEGIN:VCALENDAR
VERSION:2.0
PRODID:-//Transparencia Tlaquepaque - ECPv6.3.5//NONSGML v1.0//EN
CALSCALE:GREGORIAN
METHOD:PUBLISH
X-ORIGINAL-URL:https://transparencia.tlaquepaque.gob.mx
X-WR-CALDESC:Eventos para Transparencia Tlaquepaque
REFRESH-INTERVAL;VALUE=DURATION:PT1H
X-Robots-Tag:noindex
X-PUBLISHED-TTL:PT1H
BEGIN:VTIMEZONE
TZID:America/Mexico_City
BEGIN:DAYLIGHT
TZOFFSETFROM:-0600
TZOFFSETTO:-0500
TZNAME:CDT
DTSTART:20200405T080000
END:DAYLIGHT
BEGIN:STANDARD
TZOFFSETFROM:-0500
TZOFFSETTO:-0600
TZNAME:CST
DTSTART:20201025T070000
END:STANDARD
END:VTIMEZONE
BEGIN:VEVENT
DTSTART;TZID=America/Mexico_City:20200814T110000
DTEND;TZID=America/Mexico_City:20200814T120000
DTSTAMP:20260423T161254
CREATED:20200924T154331Z
LAST-MODIFIED:20200924T155755Z
UID:186801-1597402800-1597406400@transparencia.tlaquepaque.gob.mx
SUMMARY:Entrega de despensa\, playeras y spiners en la Col. Francisco Silva Romero
DESCRIPTION:Presidenta Municipal \nEntrega de despensa\, playeras y spiners en la Col. Francisco Silva Romero
URL:https://transparencia.tlaquepaque.gob.mx/evento/entrega-despensa-playeras-spiners-la-col-francisco-silva-romero/
LOCATION:Col. Francisco Silva Romero\, Francisco Silva Romero\, San Pedro Tlaquepaque\, Jalisco\, 45638\, México
END:VEVENT
BEGIN:VEVENT
DTSTART;TZID=America/Mexico_City:20200814T130000
DTEND;TZID=America/Mexico_City:20200814T140000
DTSTAMP:20260423T161254
CREATED:20200924T155857Z
LAST-MODIFIED:20200924T160059Z
UID:186803-1597410000-1597413600@transparencia.tlaquepaque.gob.mx
SUMMARY:Reunión con Comunicación Socia
DESCRIPTION:Presidenta Municipal \nReunión con Comunicación Socia
URL:https://transparencia.tlaquepaque.gob.mx/evento/reunion-comunicacion-socia/
LOCATION:Presidencia Municipal de San Pedro Tlaquepaque\, Independencia\, Centro\, San Pedro Tlaquepaque\, Jalisco\, 45500\, México
END:VEVENT
BEGIN:VEVENT
DTSTART;TZID=America/Mexico_City:20200814T140000
DTEND;TZID=America/Mexico_City:20200814T150000
DTSTAMP:20260423T161254
CREATED:20200924T160321Z
LAST-MODIFIED:20200924T160628Z
UID:186805-1597413600-1597417200@transparencia.tlaquepaque.gob.mx
SUMMARY:Reunión con el Dir. de Transparencia\, Atención Ciudadana y Jefa de Gabinete
DESCRIPTION:Presidenta Municipal \nReunión con el Dir. de Transparencia\, Atención Ciudadana y Jefa de Gabinete
URL:https://transparencia.tlaquepaque.gob.mx/evento/reunion-dir-transparencia-atencion-ciudadana-jefa-gabinete/
LOCATION:Presidencia Municipal de San Pedro Tlaquepaque\, Independencia\, Centro\, San Pedro Tlaquepaque\, Jalisco\, 45500\, México
END:VEVENT
BEGIN:VEVENT
DTSTART;TZID=America/Mexico_City:20200817T110000
DTEND;TZID=America/Mexico_City:20200817T120000
DTSTAMP:20260423T161254
CREATED:20200924T160755Z
LAST-MODIFIED:20200924T160818Z
UID:186808-1597662000-1597665600@transparencia.tlaquepaque.gob.mx
SUMMARY:Entrega de 80 títulos de propiedad
DESCRIPTION:Presidenta Municipal \nEntrega de 80 títulos de propiedad
URL:https://transparencia.tlaquepaque.gob.mx/evento/entrega-80-titulos-propiedad/
LOCATION:Centro Cultural El Refugio\, Donato Guerra 160\, San Pedro Tlaquepaque\, San Pedro\, 45500\, México
END:VEVENT
BEGIN:VEVENT
DTSTART;TZID=America/Mexico_City:20200817T160000
DTEND;TZID=America/Mexico_City:20200817T170000
DTSTAMP:20260423T161254
CREATED:20200924T160947Z
LAST-MODIFIED:20200924T161010Z
UID:186810-1597680000-1597683600@transparencia.tlaquepaque.gob.mx
SUMMARY:Reunión con Comunicación Social\, Servicios Especiales\, Protocolo y Relaciones Públicas
DESCRIPTION:Presidenta Municipal \nReunión con Comunicación Social\, Servicios Especiales\, Protocolo y Relaciones Públicas
URL:https://transparencia.tlaquepaque.gob.mx/evento/reunion-comunicacion-social-servicios-especiales-protocolo-relaciones-publicas/
LOCATION:Presidencia Municipal de San Pedro Tlaquepaque\, Independencia\, Centro\, San Pedro Tlaquepaque\, Jalisco\, 45500\, México
END:VEVENT
BEGIN:VEVENT
DTSTART;TZID=America/Mexico_City:20200818T080000
DTEND;TZID=America/Mexico_City:20200818T090000
DTSTAMP:20260423T161254
CREATED:20200924T161103Z
LAST-MODIFIED:20200924T161120Z
UID:186812-1597737600-1597741200@transparencia.tlaquepaque.gob.mx
SUMMARY:Reunión de Seguridad
DESCRIPTION:Presidenta Municipal \nReunión de Seguridad
URL:https://transparencia.tlaquepaque.gob.mx/evento/reunion-de-seguridad-65/
LOCATION:Residencia Casa Jalisco\, Av Manuel Acuña 2624\, Ladrón de Guevara\, Guadalajara\, Jalisco\, 44600\, México
END:VEVENT
BEGIN:VEVENT
DTSTART;TZID=America/Mexico_City:20200818T110000
DTEND;TZID=America/Mexico_City:20200818T120000
DTSTAMP:20260423T161254
CREATED:20200924T161225Z
LAST-MODIFIED:20200924T161246Z
UID:186814-1597748400-1597752000@transparencia.tlaquepaque.gob.mx
SUMMARY:Arranque de programa de cambio de luminarias en la Col. San Pedrito
DESCRIPTION:Presidenta Municipal \nArranque de programa de cambio de luminarias en la Col. San Pedrito
URL:https://transparencia.tlaquepaque.gob.mx/evento/arranque-programa-cambio-luminarias-la-col-san-pedrito/
LOCATION:Colonia San Pedrito\, Kiosco zona centro de la Col.\, Guadalajara\, tlaquepaque\, 45500\, México
END:VEVENT
BEGIN:VEVENT
DTSTART;TZID=America/Mexico_City:20200818T120000
DTEND;TZID=America/Mexico_City:20200818T130000
DTSTAMP:20260423T161254
CREATED:20200924T161440Z
LAST-MODIFIED:20200924T161519Z
UID:186816-1597752000-1597755600@transparencia.tlaquepaque.gob.mx
SUMMARY:Reunión Privada
DESCRIPTION:Presidenta Municipal \nReunión Privada
URL:https://transparencia.tlaquepaque.gob.mx/evento/reunion-privada-113/
END:VEVENT
BEGIN:VEVENT
DTSTART;TZID=America/Mexico_City:20200818T133000
DTEND;TZID=America/Mexico_City:20200818T143000
DTSTAMP:20260423T161254
CREATED:20200924T161611Z
LAST-MODIFIED:20200924T163123Z
UID:186818-1597757400-1597761000@transparencia.tlaquepaque.gob.mx
SUMMARY:Reunión con personal involucrado en la ejecución del 2do Informe
DESCRIPTION:Presidenta Municipal \nReunión con personal involucrado en la ejecución del 2do Informe
URL:https://transparencia.tlaquepaque.gob.mx/evento/reunion-personal-involucrado-la-ejecucion-del-2do-informe/
LOCATION:Centro Cultural El Refugio\, Donato Guerra 160\, San Pedro Tlaquepaque\, San Pedro\, 45500\, México
END:VEVENT
BEGIN:VEVENT
DTSTART;TZID=America/Mexico_City:20200819T110000
DTEND;TZID=America/Mexico_City:20200819T120000
DTSTAMP:20260423T161254
CREATED:20200924T163506Z
LAST-MODIFIED:20200924T163538Z
UID:186820-1597834800-1597838400@transparencia.tlaquepaque.gob.mx
SUMMARY:Entrega de mochilas con útiles en el Preescolar Francisco Silva Romero. Col. Jardines de la Paz
DESCRIPTION:Presidenta Municipal \nEntrega de mochilas con útiles en el Preescolar Francisco Silva Romero. Col. Jardines de la Paz
URL:https://transparencia.tlaquepaque.gob.mx/evento/entrega-mochilas-utiles-preescolar-francisco-silva-romero-col-jardines-la-paz/
END:VEVENT
BEGIN:VEVENT
DTSTART;TZID=America/Mexico_City:20200819T130000
DTEND;TZID=America/Mexico_City:20200819T130000
DTSTAMP:20260423T161254
CREATED:20200924T163648Z
LAST-MODIFIED:20200924T163741Z
UID:186822-1597842000-1597842000@transparencia.tlaquepaque.gob.mx
SUMMARY:Reunión con la Directora de Comunicación Social
DESCRIPTION:Presidenta Municipal \nReunión con la Directora de Comunicación Social
URL:https://transparencia.tlaquepaque.gob.mx/evento/reunion-la-directora-comunicacion-social/
LOCATION:Presidencia Municipal de San Pedro Tlaquepaque\, Independencia\, Centro\, San Pedro Tlaquepaque\, Jalisco\, 45500\, México
END:VEVENT
BEGIN:VEVENT
DTSTART;TZID=America/Mexico_City:20200819T160000
DTEND;TZID=America/Mexico_City:20200819T163000
DTSTAMP:20260423T161254
CREATED:20200924T163837Z
LAST-MODIFIED:20200924T163906Z
UID:186824-1597852800-1597854600@transparencia.tlaquepaque.gob.mx
SUMMARY:Reunión privada
DESCRIPTION:Presidenta Municipal \nReunión privada
URL:https://transparencia.tlaquepaque.gob.mx/evento/reunion-privada-114/
END:VEVENT
BEGIN:VEVENT
DTSTART;TZID=America/Mexico_City:20200820T110000
DTEND;TZID=America/Mexico_City:20200820T120000
DTSTAMP:20260423T161254
CREATED:20200924T163949Z
LAST-MODIFIED:20200924T164025Z
UID:186826-1597921200-1597924800@transparencia.tlaquepaque.gob.mx
SUMMARY:Entrega de reencarpetado de las calles Naranjo y Mango
DESCRIPTION:Presidenta Municipal \nEntrega de reencarpetado de las calles Naranjo y Mango
URL:https://transparencia.tlaquepaque.gob.mx/evento/entrega-reencarpetado-las-calles-naranjo-mango/
LOCATION:paseos del prado\, paseos del prado \, tlaquepaque\, jalisco \, México
END:VEVENT
BEGIN:VEVENT
DTSTART;TZID=America/Mexico_City:20200820T140000
DTEND;TZID=America/Mexico_City:20200820T150000
DTSTAMP:20260423T161254
CREATED:20200924T164142Z
LAST-MODIFIED:20200924T164200Z
UID:186828-1597932000-1597935600@transparencia.tlaquepaque.gob.mx
SUMMARY:Gira de trabajo en la Planta Potabilizadora 2 SIAPA
DESCRIPTION:Presidenta Municipal \nGira de trabajo en la Planta Potabilizadora 2 SIAPA
URL:https://transparencia.tlaquepaque.gob.mx/evento/gira-trabajo-la-planta-potabilizadora-2-siapa/
LOCATION:Col Las Huertas\, Pera al cruce con Chirimoya\, Col Las Huertas\, Tlaquepaque\, Jalisco\, México
END:VEVENT
BEGIN:VEVENT
DTSTART;TZID=America/Mexico_City:20200820T143000
DTEND;TZID=America/Mexico_City:20200820T180000
DTSTAMP:20260423T161254
CREATED:20200924T164253Z
LAST-MODIFIED:20200924T164410Z
UID:186830-1597933800-1597946400@transparencia.tlaquepaque.gob.mx
SUMMARY:Grabación de Sports para el 2do Informe de Gobierno
DESCRIPTION:Presidenta Municipal \nGrabación de Sports para el 2do Informe de Gobierno
URL:https://transparencia.tlaquepaque.gob.mx/evento/grabacion-sports-2do-informe-gobierno/
LOCATION:Presidencia Municipal de San Pedro Tlaquepaque\, Independencia\, Centro\, San Pedro Tlaquepaque\, Jalisco\, 45500\, México
END:VEVENT
BEGIN:VEVENT
DTSTART;TZID=America/Mexico_City:20200821T110000
DTEND;TZID=America/Mexico_City:20200821T123000
DTSTAMP:20260423T161254
CREATED:20200924T164520Z
LAST-MODIFIED:20200924T164550Z
UID:186832-1598007600-1598013000@transparencia.tlaquepaque.gob.mx
SUMMARY:Enlace virtual para la presentación de la Plataforma Digital para la Atención Ciudadana de San Pedro Tlaquepaque
DESCRIPTION:Presidenta Municipal \nEnlace virtual para la presentación de la Plataforma Digital para la Atención Ciudadana de San Pedro Tlaquepaque
URL:https://transparencia.tlaquepaque.gob.mx/evento/enlace-virtual-la-presentacion-la-plataforma-digital-la-atencion-ciudadana-san-pedro-tlaquepaque/
LOCATION:Museo del Premio Nacional de la Cerámica Pantaléon Panduro\, Prisciliano Sánchez 191\, San Juan\, San Pedro Tlaquepaque\, Jalisco\, 45500\, México
END:VEVENT
BEGIN:VEVENT
DTSTART;TZID=America/Mexico_City:20200821T140000
DTEND;TZID=America/Mexico_City:20200821T150000
DTSTAMP:20260423T161254
CREATED:20200924T164648Z
LAST-MODIFIED:20200924T164717Z
UID:186834-1598018400-1598022000@transparencia.tlaquepaque.gob.mx
SUMMARY:Entrega de la calle Aguacate en la Col. Las Huertas
DESCRIPTION:Presidenta Municipal \nEntrega de la calle Aguacate en la Col. Las Huertas
URL:https://transparencia.tlaquepaque.gob.mx/evento/entrega-la-calle-aguacate-la-col-las-huertas/
END:VEVENT
BEGIN:VEVENT
DTSTART;TZID=America/Mexico_City:20200822T100000
DTEND;TZID=America/Mexico_City:20200822T113000
DTSTAMP:20260423T161254
CREATED:20200924T164827Z
LAST-MODIFIED:20200924T165011Z
UID:186836-1598090400-1598095800@transparencia.tlaquepaque.gob.mx
SUMMARY:Conmemoración del Día del Bombero
DESCRIPTION:Presidenta Municipal \nConmemoración del Día del Bombero
URL:https://transparencia.tlaquepaque.gob.mx/evento/conmemoracion-del-dia-del-bombero/
LOCATION:Base 1 de la Coordinación General de Protección Civil y Bomberos de San Pedro Tlaquepaque\, Av. Valle de las Heras al cruce de Valle de Toluquilla\,\, San Pedro Tlaquepaque\, Jalisco\, México
END:VEVENT
BEGIN:VEVENT
DTSTART;TZID=America/Mexico_City:20200824T110000
DTEND;TZID=America/Mexico_City:20200824T120000
DTSTAMP:20260423T161254
CREATED:20200924T165659Z
LAST-MODIFIED:20200924T165808Z
UID:186838-1598266800-1598270400@transparencia.tlaquepaque.gob.mx
SUMMARY:Entrega de apoyos del programa “Te Queremos Familia”
DESCRIPTION:Presidenta Municipal \nEntrega de apoyos del programa “Te Queremos Familia”
URL:https://transparencia.tlaquepaque.gob.mx/evento/entrega-apoyos-del-programa-te-queremos-familia-2/
LOCATION:Centro Cultural El Refugio\, Donato Guerra 160\, San Pedro Tlaquepaque\, San Pedro\, 45500\, México
END:VEVENT
BEGIN:VEVENT
DTSTART;TZID=America/Mexico_City:20200824T140000
DTEND;TZID=America/Mexico_City:20200824T150000
DTSTAMP:20260423T161254
CREATED:20200924T170201Z
LAST-MODIFIED:20200924T170235Z
UID:186840-1598277600-1598281200@transparencia.tlaquepaque.gob.mx
SUMMARY:Entrega de apoyo de despensas en la Col. San Pedrito
DESCRIPTION:Presidenta Municipal \nEntrega de apoyo de despensas en la Col. San Pedrito
URL:https://transparencia.tlaquepaque.gob.mx/evento/entrega-apoyo-despensas-la-col-san-pedrito-2/
END:VEVENT
BEGIN:VEVENT
DTSTART;TZID=America/Mexico_City:20200824T150000
DTEND;TZID=America/Mexico_City:20200824T160000
DTSTAMP:20260423T161254
CREATED:20200924T170307Z
LAST-MODIFIED:20200924T170333Z
UID:186842-1598281200-1598284800@transparencia.tlaquepaque.gob.mx
SUMMARY:Reunión privada
DESCRIPTION:Presidenta Municipal \nReunión privada
URL:https://transparencia.tlaquepaque.gob.mx/evento/reunion-privada-115/
END:VEVENT
BEGIN:VEVENT
DTSTART;TZID=America/Mexico_City:20200825T080000
DTEND;TZID=America/Mexico_City:20200825T090000
DTSTAMP:20260423T161254
CREATED:20200924T170426Z
LAST-MODIFIED:20200924T170504Z
UID:186844-1598342400-1598346000@transparencia.tlaquepaque.gob.mx
SUMMARY:Reunión de Seguridad
DESCRIPTION:Presidenta Municipal \nReunión de Seguridad
URL:https://transparencia.tlaquepaque.gob.mx/evento/reunion-de-seguridad-66/
LOCATION:Residencia Casa Jalisco\, Av Manuel Acuña 2624\, Ladrón de Guevara\, Guadalajara\, Jalisco\, 44600\, México
END:VEVENT
BEGIN:VEVENT
DTSTART;TZID=America/Mexico_City:20200825T120000
DTEND;TZID=America/Mexico_City:20200825T133000
DTSTAMP:20260423T161254
CREATED:20200924T170550Z
LAST-MODIFIED:20200924T170636Z
UID:186846-1598356800-1598362200@transparencia.tlaquepaque.gob.mx
SUMMARY:Arranque de reencarpetamiento  en las calle 5 de mayo en Col. San Martín de las Flores
DESCRIPTION:Presidenta Municipal \nArranque de reencarpetamiento  en las calle 5 de mayo en Col. San Martín de las Flores
URL:https://transparencia.tlaquepaque.gob.mx/evento/arranque-reencarpetamiento-las-calle-5-mayo-col-san-martin-las-flores/
END:VEVENT
BEGIN:VEVENT
DTSTART;TZID=America/Mexico_City:20200826T090000
DTEND;TZID=America/Mexico_City:20200826T110000
DTSTAMP:20260423T161254
CREATED:20200924T170729Z
LAST-MODIFIED:20200924T170820Z
UID:186848-1598432400-1598439600@transparencia.tlaquepaque.gob.mx
SUMMARY:Recorrido con el Gobernador del Estado por el Fraccionamiento Revolución
DESCRIPTION:Presidenta Municipal \nRecorrido con el Gobernador del Estado por el Fraccionamiento Revolución
URL:https://transparencia.tlaquepaque.gob.mx/evento/recorrido-gobernador-del-estado-fraccionamiento-revolucion/
END:VEVENT
BEGIN:VEVENT
DTSTART;TZID=America/Mexico_City:20200827T110000
DTEND;TZID=America/Mexico_City:20200827T120000
DTSTAMP:20260423T161254
CREATED:20200924T170950Z
LAST-MODIFIED:20200924T171204Z
UID:186850-1598526000-1598529600@transparencia.tlaquepaque.gob.mx
SUMMARY:Entrega de uniformes a Elementos de Seguridad Pública
DESCRIPTION:Presidenta Municipal \nEntrega de uniformes a Elementos de Seguridad Pública
URL:https://transparencia.tlaquepaque.gob.mx/evento/entrega-uniformes-elementos-seguridad-publica-3/
LOCATION:Comisaria de San Pedro Tlaquepaque\, Calle Zalatitán 396\, Los Meseros\, San Pedro Tlaquepaque\, Jalisco\, 45510\, México
END:VEVENT
BEGIN:VEVENT
DTSTART;TZID=America/Mexico_City:20200827T130000
DTEND;TZID=America/Mexico_City:20200827T140000
DTSTAMP:20260423T161254
CREATED:20200924T171300Z
LAST-MODIFIED:20200924T171332Z
UID:186852-1598533200-1598536800@transparencia.tlaquepaque.gob.mx
SUMMARY:Sesión de Cabildo
DESCRIPTION:Presidenta Municipal \nSesión de Cabildo
URL:https://transparencia.tlaquepaque.gob.mx/evento/sesion-de-cabildo-109/
LOCATION:Presidencia Municipal de San Pedro Tlaquepaque\, Independencia\, Centro\, San Pedro Tlaquepaque\, Jalisco\, 45500\, México
END:VEVENT
BEGIN:VEVENT
DTSTART;TZID=America/Mexico_City:20200827T150000
DTEND;TZID=America/Mexico_City:20200827T160000
DTSTAMP:20260423T161254
CREATED:20200924T171449Z
LAST-MODIFIED:20200924T171820Z
UID:186855-1598540400-1598544000@transparencia.tlaquepaque.gob.mx
SUMMARY:Reunión privada
DESCRIPTION:Presidenta Municipal \nReunión privada
URL:https://transparencia.tlaquepaque.gob.mx/evento/reunion-privada-116/
END:VEVENT
BEGIN:VEVENT
DTSTART;TZID=America/Mexico_City:20200828T110000
DTEND;TZID=America/Mexico_City:20200828T120000
DTSTAMP:20260423T161254
CREATED:20200924T172016Z
LAST-MODIFIED:20200924T172200Z
UID:186858-1598612400-1598616000@transparencia.tlaquepaque.gob.mx
SUMMARY:Sesión de la Comisión de Asuntos Metropolitano
DESCRIPTION:Presidenta Municipal \nSesión de la Comisión de Asuntos Metropolitano
URL:https://transparencia.tlaquepaque.gob.mx/evento/sesion-la-comision-asuntos-metropolitano/
LOCATION:Presidencia Municipal de San Pedro Tlaquepaque\, Independencia\, Centro\, San Pedro Tlaquepaque\, Jalisco\, 45500\, México
END:VEVENT
BEGIN:VEVENT
DTSTART;TZID=America/Mexico_City:20200828T120000
DTEND;TZID=America/Mexico_City:20200828T130000
DTSTAMP:20260423T161254
CREATED:20200924T172255Z
LAST-MODIFIED:20200924T172334Z
UID:186862-1598616000-1598619600@transparencia.tlaquepaque.gob.mx
SUMMARY:Reunión con el Delegado de INSUS
DESCRIPTION:Presidenta Municipal \nReunión con el Delegado de INSUS
URL:https://transparencia.tlaquepaque.gob.mx/evento/reunion-delegado-insus/
LOCATION:Presidencia Municipal de San Pedro Tlaquepaque\, Independencia\, Centro\, San Pedro Tlaquepaque\, Jalisco\, 45500\, México
END:VEVENT
BEGIN:VEVENT
DTSTART;TZID=America/Mexico_City:20200828T130000
DTEND;TZID=America/Mexico_City:20200828T140000
DTSTAMP:20260423T161254
CREATED:20200924T172415Z
LAST-MODIFIED:20200924T172435Z
UID:186864-1598619600-1598623200@transparencia.tlaquepaque.gob.mx
SUMMARY:Recorrido por el andador Independencia
DESCRIPTION:Presidenta Municipal \nRecorrido por el andador Independencia
URL:https://transparencia.tlaquepaque.gob.mx/evento/recorrido-andador-independencia-2/
END:VEVENT
END:VCALENDAR