BEGIN:VCALENDAR
VERSION:2.0
PRODID:-//Transparencia Tlaquepaque - ECPv6.3.5//NONSGML v1.0//EN
CALSCALE:GREGORIAN
METHOD:PUBLISH
X-WR-CALNAME:Transparencia Tlaquepaque
X-ORIGINAL-URL:https://transparencia.tlaquepaque.gob.mx
X-WR-CALDESC:Eventos para Transparencia Tlaquepaque
REFRESH-INTERVAL;VALUE=DURATION:PT1H
X-Robots-Tag:noindex
X-PUBLISHED-TTL:PT1H
BEGIN:VTIMEZONE
TZID:America/Mexico_City
BEGIN:DAYLIGHT
TZOFFSETFROM:-0600
TZOFFSETTO:-0500
TZNAME:CDT
DTSTART:20210404T080000
END:DAYLIGHT
BEGIN:STANDARD
TZOFFSETFROM:-0500
TZOFFSETTO:-0600
TZNAME:CST
DTSTART:20211031T070000
END:STANDARD
END:VTIMEZONE
BEGIN:VEVENT
DTSTART;TZID=America/Mexico_City:20210125T100000
DTEND;TZID=America/Mexico_City:20210125T110000
DTSTAMP:20260419T074022
CREATED:20210212T213613Z
LAST-MODIFIED:20210212T213638Z
UID:208954-1611568800-1611572400@transparencia.tlaquepaque.gob.mx
SUMMARY:Reunión en Casa Jalisco
DESCRIPTION:Presidenta Municipal \nReunión en Casa Jalisco \n 
URL:https://transparencia.tlaquepaque.gob.mx/evento/reunion-casa-jalisco-5/
LOCATION:Presidencia Municipal de San Pedro Tlaquepaque\, Independencia\, Centro\, San Pedro Tlaquepaque\, Jalisco\, 45500\, México
END:VEVENT
BEGIN:VEVENT
DTSTART;TZID=America/Mexico_City:20210125T130000
DTEND;TZID=America/Mexico_City:20210125T140000
DTSTAMP:20260419T074022
CREATED:20210209T212558Z
LAST-MODIFIED:20210209T212745Z
UID:207687-1611579600-1611583200@transparencia.tlaquepaque.gob.mx
SUMMARY:Reunión virtual de Igualdad Sustantiva
DESCRIPTION:Presidenta Municipal \nReunión virtual de Igualdad Sustantiva
URL:https://transparencia.tlaquepaque.gob.mx/evento/reunion-virtual-igualdad-sustantiva/
LOCATION:Presidencia Municipal de San Pedro Tlaquepaque\, Independencia\, Centro\, San Pedro Tlaquepaque\, Jalisco\, 45500\, México
END:VEVENT
BEGIN:VEVENT
DTSTART;TZID=America/Mexico_City:20210125T140000
DTEND;TZID=America/Mexico_City:20210125T150000
DTSTAMP:20260419T074022
CREATED:20210209T212840Z
LAST-MODIFIED:20210209T212858Z
UID:207689-1611583200-1611586800@transparencia.tlaquepaque.gob.mx
SUMMARY:Recepción donativo de bebidas isotónicas  para la Comisaria De San Pedro Tlaquepaque
DESCRIPTION:Presidenta Municipal \nRecepción donativo de bebidas isotónicas  para la Comisaria De San Pedro Tlaquepaque
URL:https://transparencia.tlaquepaque.gob.mx/evento/recepcion-donativo-bebidas-isotonicas-la-comisaria-san-pedro-tlaquepaque/
LOCATION:Comisaria de San Pedro Tlaquepaque\, Calle Zalatitán 396\, Los Meseros\, San Pedro Tlaquepaque\, Jalisco\, 45510\, México
END:VEVENT
BEGIN:VEVENT
DTSTART;TZID=America/Mexico_City:20210126T080000
DTEND;TZID=America/Mexico_City:20210126T090000
DTSTAMP:20260419T074022
CREATED:20210209T212955Z
LAST-MODIFIED:20210209T213020Z
UID:207691-1611648000-1611651600@transparencia.tlaquepaque.gob.mx
SUMMARY:Reunión de Seguridad
DESCRIPTION:Presidenta Municipal \nReunión de Seguridad
URL:https://transparencia.tlaquepaque.gob.mx/evento/reunion-de-seguridad-82/
LOCATION:Residencia Casa Jalisco\, Av Manuel Acuña 2624\, Ladrón de Guevara\, Guadalajara\, Jalisco\, 44600\, México
END:VEVENT
BEGIN:VEVENT
DTSTART;TZID=America/Mexico_City:20210126T120000
DTEND;TZID=America/Mexico_City:20210126T130000
DTSTAMP:20260419T074022
CREATED:20210209T213108Z
LAST-MODIFIED:20210209T214032Z
UID:207693-1611662400-1611666000@transparencia.tlaquepaque.gob.mx
SUMMARY:Entrega de títulos de propiedad
DESCRIPTION:Presidenta Municipal \nEntrega de títulos de propiedad
URL:https://transparencia.tlaquepaque.gob.mx/evento/entrega-titulos-propiedad-17/
LOCATION:Centro Cultural El Refugio\, Donato Guerra 160\, San Pedro Tlaquepaque\, San Pedro\, 45500\, México
END:VEVENT
BEGIN:VEVENT
DTSTART;TZID=America/Mexico_City:20210126T163000
DTEND;TZID=America/Mexico_City:20210126T173000
DTSTAMP:20260419T074022
CREATED:20210212T214053Z
LAST-MODIFIED:20210212T214106Z
UID:208956-1611678600-1611682200@transparencia.tlaquepaque.gob.mx
SUMMARY:Reunión privada
DESCRIPTION:Presidenta Municipal \nReunión privada
URL:https://transparencia.tlaquepaque.gob.mx/evento/reunion-privada-137/
END:VEVENT
BEGIN:VEVENT
DTSTART;TZID=America/Mexico_City:20210127T100000
DTEND;TZID=America/Mexico_City:20210127T103000
DTSTAMP:20260419T074022
CREATED:20210212T214200Z
LAST-MODIFIED:20210212T214406Z
UID:208959-1611741600-1611743400@transparencia.tlaquepaque.gob.mx
SUMMARY:Reunión privada
DESCRIPTION:Presidenta Municipal \nReunión privada
URL:https://transparencia.tlaquepaque.gob.mx/evento/reunion-privada-138/
LOCATION:Presidencia Municipal de San Pedro Tlaquepaque\, Independencia\, Centro\, San Pedro Tlaquepaque\, Jalisco\, 45500\, México
END:VEVENT
BEGIN:VEVENT
DTSTART;TZID=America/Mexico_City:20210127T110000
DTEND;TZID=America/Mexico_City:20210127T120000
DTSTAMP:20260419T074022
CREATED:20210209T215006Z
LAST-MODIFIED:20210209T215037Z
UID:207695-1611745200-1611748800@transparencia.tlaquepaque.gob.mx
SUMMARY:Arranque de obra en la calle Tranquilino Fierros entre Paseo de las Liebres y Prolongación Niños Héroes
DESCRIPTION:Presidenta Municipal \nArranque de obra en la calle Tranquilino Fierros entre Paseo de las Liebres y Prolongación Niños Héroes
URL:https://transparencia.tlaquepaque.gob.mx/evento/arranque-obra-la-calle-tranquilino-fierros-paseo-las-liebres-prolongacion-ninos-heroes/
LOCATION:Colonia Las Liebres
END:VEVENT
BEGIN:VEVENT
DTSTART;TZID=America/Mexico_City:20210127T130000
DTEND;TZID=America/Mexico_City:20210127T133000
DTSTAMP:20260419T074022
CREATED:20210211T190627Z
LAST-MODIFIED:20210211T190652Z
UID:208827-1611752400-1611754200@transparencia.tlaquepaque.gob.mx
SUMMARY:Comisión de Energía
DESCRIPTION:Presidenta Municipal \nComisión de Energía
URL:https://transparencia.tlaquepaque.gob.mx/evento/comision-de-energia-6/
LOCATION:Presidencia Municipal de San Pedro Tlaquepaque\, Independencia\, Centro\, San Pedro Tlaquepaque\, Jalisco\, 45500\, México
END:VEVENT
BEGIN:VEVENT
DTSTART;TZID=America/Mexico_City:20210127T133000
DTEND;TZID=America/Mexico_City:20210127T140000
DTSTAMP:20260419T074022
CREATED:20210211T190834Z
LAST-MODIFIED:20210211T190857Z
UID:208830-1611754200-1611756000@transparencia.tlaquepaque.gob.mx
SUMMARY:Comisión de Seguridad
DESCRIPTION:Presidenta Municipal \nComisión de Seguridad
URL:https://transparencia.tlaquepaque.gob.mx/evento/comision-de-seguridad-4/
LOCATION:Presidencia Municipal de San Pedro Tlaquepaque\, Independencia\, Centro\, San Pedro Tlaquepaque\, Jalisco\, 45500\, México
END:VEVENT
BEGIN:VEVENT
DTSTART;TZID=America/Mexico_City:20210127T140000
DTEND;TZID=America/Mexico_City:20210127T143000
DTSTAMP:20260419T074022
CREATED:20210211T190950Z
LAST-MODIFIED:20210211T191148Z
UID:208832-1611756000-1611757800@transparencia.tlaquepaque.gob.mx
SUMMARY:Comisión de Asuntos Metropolitanos
DESCRIPTION:Presidenta Municipal \nComisión de Asuntos Metropolitanos
URL:https://transparencia.tlaquepaque.gob.mx/evento/comision-asuntos-metropolitanos-13/
LOCATION:Presidencia Municipal de San Pedro Tlaquepaque\, Independencia\, Centro\, San Pedro Tlaquepaque\, Jalisco\, 45500\, México
END:VEVENT
BEGIN:VEVENT
DTSTART;TZID=America/Mexico_City:20210128T110000
DTEND;TZID=America/Mexico_City:20210128T120000
DTSTAMP:20260419T074022
CREATED:20210211T191530Z
LAST-MODIFIED:20210211T192239Z
UID:208834-1611831600-1611835200@transparencia.tlaquepaque.gob.mx
SUMMARY:Arranque de obra Colector Sanitario en Arroyo de la Colorada
DESCRIPTION:Presidenta Municipal \nArranque de obra Colector Sanitario en Arroyo de la Colorada
URL:https://transparencia.tlaquepaque.gob.mx/evento/arranque-obra-colector-sanitario-arroyo-la-colorada/
LOCATION:Colonia El Vergel\, Río Amazona 489\, Tlaquepaque\, México
END:VEVENT
BEGIN:VEVENT
DTSTART;TZID=America/Mexico_City:20210129T090000
DTEND;TZID=America/Mexico_City:20210129T100000
DTSTAMP:20260419T074022
CREATED:20210211T192347Z
LAST-MODIFIED:20210211T192543Z
UID:208839-1611910800-1611914400@transparencia.tlaquepaque.gob.mx
SUMMARY:Junta de Coordinación Metropolitana
DESCRIPTION:Presidenta Municipal \nJunta de Coordinación Metropolitana
URL:https://transparencia.tlaquepaque.gob.mx/evento/junta-coordinacion-metropolitana-4/
LOCATION:Presidencia Municipal de San Pedro Tlaquepaque\, Independencia\, Centro\, San Pedro Tlaquepaque\, Jalisco\, 45500\, México
END:VEVENT
BEGIN:VEVENT
DTSTART;TZID=America/Mexico_City:20210129T110000
DTEND;TZID=America/Mexico_City:20210129T120000
DTSTAMP:20260419T074022
CREATED:20210211T192723Z
LAST-MODIFIED:20210211T192800Z
UID:208842-1611918000-1611921600@transparencia.tlaquepaque.gob.mx
SUMMARY:Recorrido por el Hospital de la Mujer
DESCRIPTION:Presidenta Municipal \nRecorrido por el Hospital de la Mujer
URL:https://transparencia.tlaquepaque.gob.mx/evento/recorrido-hospital-la-mujer/
LOCATION:San Martin de las Flores\, Galeana 380 san martin de las Flores \, TLaquepaque\, Jalisco\, México
END:VEVENT
BEGIN:VEVENT
DTSTART;TZID=America/Mexico_City:20210129T130000
DTEND;TZID=America/Mexico_City:20210129T140000
DTSTAMP:20260419T074022
CREATED:20210211T192858Z
LAST-MODIFIED:20210211T193530Z
UID:208846-1611925200-1611928800@transparencia.tlaquepaque.gob.mx
SUMMARY:Sesión conjunta de las Comisión de Asuntos Metropolitanos y Seguridad
DESCRIPTION:Presidenta Municipal \nSesión conjunta de las Comisión de Asuntos Metropolitanos y Seguridad
URL:https://transparencia.tlaquepaque.gob.mx/evento/sesion-conjunta-las-comision-asuntos-metropolitanos-seguridad/
LOCATION:Presidencia Municipal de San Pedro Tlaquepaque\, Independencia\, Centro\, San Pedro Tlaquepaque\, Jalisco\, 45500\, México
END:VEVENT
BEGIN:VEVENT
DTSTART;TZID=America/Mexico_City:20210203T090000
DTEND;TZID=America/Mexico_City:20210203T100000
DTSTAMP:20260419T074022
CREATED:20210227T005201Z
LAST-MODIFIED:20210227T005225Z
UID:211690-1612342800-1612346400@transparencia.tlaquepaque.gob.mx
SUMMARY:Reunión privada
DESCRIPTION:Presidenta Municipal \nReunión privada
URL:https://transparencia.tlaquepaque.gob.mx/evento/reunion-privada-131/
END:VEVENT
BEGIN:VEVENT
DTSTART;TZID=America/Mexico_City:20210203T110000
DTEND;TZID=America/Mexico_City:20210203T120000
DTSTAMP:20260419T074022
CREATED:20210227T005306Z
LAST-MODIFIED:20210227T010146Z
UID:211692-1612350000-1612353600@transparencia.tlaquepaque.gob.mx
SUMMARY:Revisión del vaso regulador en el Fraccionamiento Revolución
DESCRIPTION:Presidenta Municipal \nRevisión del vaso regulador en el Fraccionamiento Revolución
URL:https://transparencia.tlaquepaque.gob.mx/evento/revision-del-vaso-regulador-fraccionamiento-revolucion/
END:VEVENT
BEGIN:VEVENT
DTSTART;TZID=America/Mexico_City:20210203T120000
DTEND;TZID=America/Mexico_City:20210203T130000
DTSTAMP:20260419T074022
CREATED:20210227T010313Z
LAST-MODIFIED:20210227T010331Z
UID:211694-1612353600-1612357200@transparencia.tlaquepaque.gob.mx
SUMMARY:Instalación del comité de Mecenazgo
DESCRIPTION:Presidenta Municipal \nInstalación del comité de Mecenazgo
URL:https://transparencia.tlaquepaque.gob.mx/evento/instalacion-del-comite-mecenazgo/
LOCATION:Presidencia Municipal de San Pedro Tlaquepaque\, Independencia\, Centro\, San Pedro Tlaquepaque\, Jalisco\, 45500\, México
END:VEVENT
BEGIN:VEVENT
DTSTART;TZID=America/Mexico_City:20210203T130000
DTEND;TZID=America/Mexico_City:20210203T130000
DTSTAMP:20260419T074022
CREATED:20210227T010424Z
LAST-MODIFIED:20210303T044838Z
UID:211696-1612357200-1612357200@transparencia.tlaquepaque.gob.mx
SUMMARY:Reunión con políticas públicas y comunicación social
DESCRIPTION:Presidenta Municipal \nReunión con políticas públicas y comunicación social
URL:https://transparencia.tlaquepaque.gob.mx/evento/reunion-politicas-publicas-comunicacion-social/
LOCATION:Presidencia Municipal de San Pedro Tlaquepaque\, Independencia\, Centro\, San Pedro Tlaquepaque\, Jalisco\, 45500\, México
END:VEVENT
BEGIN:VEVENT
DTSTART;TZID=America/Mexico_City:20210203T140000
DTEND;TZID=America/Mexico_City:20210203T140000
DTSTAMP:20260419T074022
CREATED:20210227T010545Z
LAST-MODIFIED:20210303T044558Z
UID:211698-1612360800-1612360800@transparencia.tlaquepaque.gob.mx
SUMMARY:Reunión con el Titular de la Profeco
DESCRIPTION:Presidenta Municipal \nReunión con el Titular de la Profeco
URL:https://transparencia.tlaquepaque.gob.mx/evento/reunion-titular-la-profeco/
LOCATION:Presidencia Municipal de San Pedro Tlaquepaque\, Independencia\, Centro\, San Pedro Tlaquepaque\, Jalisco\, 45500\, México
END:VEVENT
BEGIN:VEVENT
DTSTART;TZID=America/Mexico_City:20210204T110000
DTEND;TZID=America/Mexico_City:20210204T110000
DTSTAMP:20260419T074022
CREATED:20210227T010715Z
LAST-MODIFIED:20210303T044159Z
UID:211700-1612436400-1612436400@transparencia.tlaquepaque.gob.mx
SUMMARY:Recorrido por la Calle San Ignacio en la Col. Santa Cruz del Valle
DESCRIPTION:Presidenta Municipal \nRecorrido por la Calle San Ignacio en la Col. Santa Cruz del Valle
URL:https://transparencia.tlaquepaque.gob.mx/evento/recorrido-la-calle-san-ignacio-la-col-santa-cruz-del-valle/
END:VEVENT
BEGIN:VEVENT
DTSTART;TZID=America/Mexico_City:20210204T130000
DTEND;TZID=America/Mexico_City:20210204T130000
DTSTAMP:20260419T074022
CREATED:20210227T011014Z
LAST-MODIFIED:20210303T044425Z
UID:211703-1612443600-1612443600@transparencia.tlaquepaque.gob.mx
SUMMARY:Entrevista vía zoom para Alcaldes de México
DESCRIPTION:Presidenta Municipal \nEntrevista vía zoom para Alcaldes de México
URL:https://transparencia.tlaquepaque.gob.mx/evento/entrevista-via-zoom-alcaldes-mexico/
LOCATION:Presidencia Municipal de San Pedro Tlaquepaque\, Independencia\, Centro\, San Pedro Tlaquepaque\, Jalisco\, 45500\, México
END:VEVENT
BEGIN:VEVENT
DTSTART;TZID=America/Mexico_City:20210205T120000
DTEND;TZID=America/Mexico_City:20210205T133000
DTSTAMP:20260419T074022
CREATED:20210227T011202Z
LAST-MODIFIED:20210227T011304Z
UID:211705-1612526400-1612531800@transparencia.tlaquepaque.gob.mx
SUMMARY:Instalación del Consejo Municipal de Protección Civil
DESCRIPTION:Presidenta Municipal \nInstalación del Consejo Municipal de Protección Civil
URL:https://transparencia.tlaquepaque.gob.mx/evento/instalacion-del-consejo-municipal-proteccion-civil-4/
LOCATION:Presidencia Municipal de San Pedro Tlaquepaque\, Independencia\, Centro\, San Pedro Tlaquepaque\, Jalisco\, 45500\, México
END:VEVENT
BEGIN:VEVENT
DTSTART;TZID=America/Mexico_City:20210205T150000
DTEND;TZID=America/Mexico_City:20210205T163000
DTSTAMP:20260419T074022
CREATED:20210227T011356Z
LAST-MODIFIED:20210227T011418Z
UID:211707-1612537200-1612542600@transparencia.tlaquepaque.gob.mx
SUMMARY:Reunión de Gabinete
DESCRIPTION:Presidenta Municipal \nReunión de Gabinete
URL:https://transparencia.tlaquepaque.gob.mx/evento/reunion-de-gabinete-75/
LOCATION:Presidencia Municipal de San Pedro Tlaquepaque\, Independencia\, Centro\, San Pedro Tlaquepaque\, Jalisco\, 45500\, México
END:VEVENT
BEGIN:VEVENT
DTSTART;TZID=America/Mexico_City:20210208T120000
DTEND;TZID=America/Mexico_City:20210208T130000
DTSTAMP:20260419T074022
CREATED:20210227T011510Z
LAST-MODIFIED:20210227T011536Z
UID:211709-1612785600-1612789200@transparencia.tlaquepaque.gob.mx
SUMMARY:Sesión extraordinaria “Conferencia Nacional de Seguridad Pública Municipal”
DESCRIPTION:Presidenta Municipal \nSesión extraordinaria “Conferencia Nacional de Seguridad Pública Municipal”
URL:https://transparencia.tlaquepaque.gob.mx/evento/sesion-extraordinaria-conferencia-nacional-seguridad-publica-municipal/
LOCATION:Presidencia Municipal de San Pedro Tlaquepaque\, Independencia\, Centro\, San Pedro Tlaquepaque\, Jalisco\, 45500\, México
END:VEVENT
BEGIN:VEVENT
DTSTART;TZID=America/Mexico_City:20210209T093000
DTEND;TZID=America/Mexico_City:20210209T103000
DTSTAMP:20260419T074022
CREATED:20210227T011623Z
LAST-MODIFIED:20210227T011805Z
UID:211711-1612863000-1612866600@transparencia.tlaquepaque.gob.mx
SUMMARY:Filme de video para COBAEJ
DESCRIPTION:Presidenta Municipal \nFilme de video para COBAEJ
URL:https://transparencia.tlaquepaque.gob.mx/evento/filme-video-cobaej/
END:VEVENT
BEGIN:VEVENT
DTSTART;TZID=America/Mexico_City:20210209T120000
DTEND;TZID=America/Mexico_City:20210209T130000
DTSTAMP:20260419T074022
CREATED:20210227T011922Z
LAST-MODIFIED:20210227T011958Z
UID:211714-1612872000-1612875600@transparencia.tlaquepaque.gob.mx
SUMMARY:Entrega de la 1era etapa empedrado zampeado en camino a Santa Cruz del Valle en la Col. Valle de la Misericordia
DESCRIPTION:Presidenta Municipal \nEntrega de la 1era etapa empedrado zampeado en camino a Santa Cruz del Valle en la Col. Valle de la Misericordia
URL:https://transparencia.tlaquepaque.gob.mx/evento/entrega-la-1era-etapa-empedrado-zampeado-camino-santa-cruz-del-valle-la-col-valle-la-misericordia/
END:VEVENT
BEGIN:VEVENT
DTSTART;TZID=America/Mexico_City:20210209T130000
DTEND;TZID=America/Mexico_City:20210209T140000
DTSTAMP:20260419T074022
CREATED:20210227T012116Z
LAST-MODIFIED:20210227T013709Z
UID:211716-1612875600-1612879200@transparencia.tlaquepaque.gob.mx
SUMMARY:Recorrido por las obras de la calle Españoles en la Col. La Duraznera y calle San Ignacio en la Col. Santa Cruz del Valle
DESCRIPTION:Presidenta Municipal \nRecorrido por las obras de la calle Españoles en la Col. La Duraznera y calle San Ignacio en la Col. Santa Cruz del Valle
URL:https://transparencia.tlaquepaque.gob.mx/evento/recorrido-las-obras-la-calle-espanoles-la-col-la-duraznera-calle-san-ignacio-la-col-santa-cruz-del-valle/
END:VEVENT
BEGIN:VEVENT
DTSTART;TZID=America/Mexico_City:20210209T140000
DTEND;TZID=America/Mexico_City:20210209T150000
DTSTAMP:20260419T074022
CREATED:20210227T013758Z
LAST-MODIFIED:20210227T013832Z
UID:211718-1612879200-1612882800@transparencia.tlaquepaque.gob.mx
SUMMARY:Entrevista telefónica “Alcaldes de México”
DESCRIPTION:Presidenta Municipal \nEntrevista telefónica “Alcaldes de México”
URL:https://transparencia.tlaquepaque.gob.mx/evento/entrevista-telefonica-alcaldes-mexico/
LOCATION:Presidencia Municipal de San Pedro Tlaquepaque\, Independencia\, Centro\, San Pedro Tlaquepaque\, Jalisco\, 45500\, México
END:VEVENT
BEGIN:VEVENT
DTSTART;TZID=America/Mexico_City:20210210T080000
DTEND;TZID=America/Mexico_City:20210210T090000
DTSTAMP:20260419T074022
CREATED:20210227T013906Z
LAST-MODIFIED:20210227T013938Z
UID:211720-1612944000-1612947600@transparencia.tlaquepaque.gob.mx
SUMMARY:Reunión de Seguridad
DESCRIPTION:Presidenta Municipal \nReunión de Seguridad
URL:https://transparencia.tlaquepaque.gob.mx/evento/reunion-de-seguridad-83/
LOCATION:Residencia Casa Jalisco\, Av Manuel Acuña 2624\, Ladrón de Guevara\, Guadalajara\, Jalisco\, 44600\, México
END:VEVENT
END:VCALENDAR