BEGIN:VCALENDAR
VERSION:2.0
PRODID:-//Transparencia Tlaquepaque - ECPv6.3.5//NONSGML v1.0//EN
CALSCALE:GREGORIAN
METHOD:PUBLISH
X-WR-CALNAME:Transparencia Tlaquepaque
X-ORIGINAL-URL:https://transparencia.tlaquepaque.gob.mx
X-WR-CALDESC:Eventos para Transparencia Tlaquepaque
REFRESH-INTERVAL;VALUE=DURATION:PT1H
X-Robots-Tag:noindex
X-PUBLISHED-TTL:PT1H
BEGIN:VTIMEZONE
TZID:America/Mexico_City
BEGIN:DAYLIGHT
TZOFFSETFROM:-0600
TZOFFSETTO:-0500
TZNAME:CDT
DTSTART:20210404T080000
END:DAYLIGHT
BEGIN:STANDARD
TZOFFSETFROM:-0500
TZOFFSETTO:-0600
TZNAME:CST
DTSTART:20211031T070000
END:STANDARD
END:VTIMEZONE
BEGIN:VEVENT
DTSTART;TZID=America/Mexico_City:20210122T100000
DTEND;TZID=America/Mexico_City:20210122T110000
DTSTAMP:20260419T220952
CREATED:20210212T213232Z
LAST-MODIFIED:20210212T213321Z
UID:208950-1611309600-1611313200@transparencia.tlaquepaque.gob.mx
SUMMARY:Reunión privada
DESCRIPTION:Presidenta Municipal \nReunión privada
URL:https://transparencia.tlaquepaque.gob.mx/evento/reunion-privada-136/
LOCATION:Presidencia Municipal de San Pedro Tlaquepaque\, Independencia\, Centro\, San Pedro Tlaquepaque\, Jalisco\, 45500\, México
END:VEVENT
BEGIN:VEVENT
DTSTART;TZID=America/Mexico_City:20210122T120000
DTEND;TZID=America/Mexico_City:20210122T130000
DTSTAMP:20260419T220952
CREATED:20210209T212446Z
LAST-MODIFIED:20210209T212513Z
UID:207685-1611316800-1611320400@transparencia.tlaquepaque.gob.mx
SUMMARY:Arranque de obra en calle Azalea entre Magnolia y Girasol en la Col. El Órgano
DESCRIPTION:Presidenta Municipal \nArranque de obra en calle Azalea entre Magnolia y Girasol en la Col. El Órgano
URL:https://transparencia.tlaquepaque.gob.mx/evento/arranque-obra-calle-azalea-magnolia-girasol-la-col-organo/
END:VEVENT
BEGIN:VEVENT
DTSTART;TZID=America/Mexico_City:20210122T150000
DTEND;TZID=America/Mexico_City:20210122T160000
DTSTAMP:20260419T220952
CREATED:20210212T213411Z
LAST-MODIFIED:20210212T213445Z
UID:208952-1611327600-1611331200@transparencia.tlaquepaque.gob.mx
SUMMARY:Reunión en Casa Jalisco
DESCRIPTION:Presidenta Municipal \nReunión en Casa Jalisco
URL:https://transparencia.tlaquepaque.gob.mx/evento/reunion-casa-jalisco-4/
LOCATION:Residencia Casa Jalisco\, Av Manuel Acuña 2624\, Ladrón de Guevara\, Guadalajara\, Jalisco\, 44600\, México
END:VEVENT
END:VCALENDAR