BEGIN:VCALENDAR
VERSION:2.0
PRODID:-//Transparencia Tlaquepaque - ECPv6.3.5//NONSGML v1.0//EN
CALSCALE:GREGORIAN
METHOD:PUBLISH
X-WR-CALNAME:Transparencia Tlaquepaque
X-ORIGINAL-URL:https://transparencia.tlaquepaque.gob.mx
X-WR-CALDESC:Eventos para Transparencia Tlaquepaque
REFRESH-INTERVAL;VALUE=DURATION:PT1H
X-Robots-Tag:noindex
X-PUBLISHED-TTL:PT1H
BEGIN:VTIMEZONE
TZID:America/Mexico_City
BEGIN:DAYLIGHT
TZOFFSETFROM:-0600
TZOFFSETTO:-0500
TZNAME:CDT
DTSTART:20200405T080000
END:DAYLIGHT
BEGIN:STANDARD
TZOFFSETFROM:-0500
TZOFFSETTO:-0600
TZNAME:CST
DTSTART:20201025T070000
END:STANDARD
END:VTIMEZONE
BEGIN:VEVENT
DTSTART;TZID=America/Mexico_City:20201202T090000
DTEND;TZID=America/Mexico_City:20201202T100000
DTSTAMP:20260419T092022
CREATED:20210109T155211Z
LAST-MODIFIED:20210109T155934Z
UID:201779-1606899600-1606903200@transparencia.tlaquepaque.gob.mx
SUMMARY:Entrega de obra pavimentación de calle de Francisco Silva Romero
DESCRIPTION:Presidenta Municipal \nEntrega de obra pavimentación de calle de Francisco Silva Romero
URL:https://transparencia.tlaquepaque.gob.mx/evento/entrega-obra-pavimentacion-calle-francisco-silva-romero/
LOCATION:Col. Francisco Silva Romero\, Francisco Silva Romero\, San Pedro Tlaquepaque\, Jalisco\, 45638\, México
END:VEVENT
BEGIN:VEVENT
DTSTART;TZID=America/Mexico_City:20201202T110000
DTEND;TZID=America/Mexico_City:20201202T120000
DTSTAMP:20260419T092022
CREATED:20210109T155333Z
LAST-MODIFIED:20210109T160215Z
UID:201781-1606906800-1606910400@transparencia.tlaquepaque.gob.mx
SUMMARY:Entrega de apoyo del programa "Por lo que más quieres"
DESCRIPTION:Presidenta Municipal \nEntrega de apoyo del programa “Por lo que más quieres”
URL:https://transparencia.tlaquepaque.gob.mx/evento/entrega-apoyo-del-programa-lo-mas-quieres/
LOCATION:Centro Cultural El Refugio\, Donato Guerra 160\, San Pedro Tlaquepaque\, San Pedro\, 45500\, México
END:VEVENT
BEGIN:VEVENT
DTSTART;TZID=America/Mexico_City:20201202T120000
DTEND;TZID=America/Mexico_City:20201202T130000
DTSTAMP:20260419T092022
CREATED:20210109T160657Z
LAST-MODIFIED:20210109T160719Z
UID:201784-1606910400-1606914000@transparencia.tlaquepaque.gob.mx
SUMMARY:Reunión con artesanos del “Tianguis Navideño”
DESCRIPTION:Presidenta Municipal \nReunión con artesanos del “Tianguis Navideño”
URL:https://transparencia.tlaquepaque.gob.mx/evento/reunion-artesanos-del-tianguis-navideno/
LOCATION:Presidencia Municipal de San Pedro Tlaquepaque\, Independencia\, Centro\, San Pedro Tlaquepaque\, Jalisco\, 45500\, México
END:VEVENT
BEGIN:VEVENT
DTSTART;TZID=America/Mexico_City:20201202T130000
DTEND;TZID=America/Mexico_City:20201202T140000
DTSTAMP:20260419T092022
CREATED:20210109T160817Z
LAST-MODIFIED:20210109T160931Z
UID:201786-1606914000-1606917600@transparencia.tlaquepaque.gob.mx
SUMMARY:Reunión privada
DESCRIPTION:Presidenta Municipal \nReunión privada
URL:https://transparencia.tlaquepaque.gob.mx/evento/reunion-privada-127/
LOCATION:Presidencia Municipal de San Pedro Tlaquepaque\, Independencia\, Centro\, San Pedro Tlaquepaque\, Jalisco\, 45500\, México
END:VEVENT
END:VCALENDAR