BEGIN:VCALENDAR
VERSION:2.0
PRODID:-//Transparencia Tlaquepaque - ECPv6.3.5//NONSGML v1.0//EN
CALSCALE:GREGORIAN
METHOD:PUBLISH
X-WR-CALNAME:Transparencia Tlaquepaque
X-ORIGINAL-URL:https://transparencia.tlaquepaque.gob.mx
X-WR-CALDESC:Eventos para Transparencia Tlaquepaque
REFRESH-INTERVAL;VALUE=DURATION:PT1H
X-Robots-Tag:noindex
X-PUBLISHED-TTL:PT1H
BEGIN:VTIMEZONE
TZID:America/Mexico_City
BEGIN:DAYLIGHT
TZOFFSETFROM:-0600
TZOFFSETTO:-0500
TZNAME:CDT
DTSTART:20200405T080000
END:DAYLIGHT
BEGIN:STANDARD
TZOFFSETFROM:-0500
TZOFFSETTO:-0600
TZNAME:CST
DTSTART:20201025T070000
END:STANDARD
END:VTIMEZONE
BEGIN:VEVENT
DTSTART;TZID=America/Mexico_City:20201126T090000
DTEND;TZID=America/Mexico_City:20201126T100000
DTSTAMP:20260425T105003
CREATED:20201216T210248Z
LAST-MODIFIED:20201216T210305Z
UID:200975-1606381200-1606384800@transparencia.tlaquepaque.gob.mx
SUMMARY:Grabación de cápsula foro “Mujer\, Libre y Segura”
DESCRIPTION:Presidenta Municipal \nGrabación de cápsula foro “Mujer\, Libre y Segura”
URL:https://transparencia.tlaquepaque.gob.mx/evento/grabacion-capsula-foro-mujer-libre-segura/
END:VEVENT
BEGIN:VEVENT
DTSTART;TZID=America/Mexico_City:20201126T110000
DTEND;TZID=America/Mexico_City:20201126T120000
DTSTAMP:20260425T105003
CREATED:20201216T210707Z
LAST-MODIFIED:20201216T212122Z
UID:200977-1606388400-1606392000@transparencia.tlaquepaque.gob.mx
SUMMARY:Entrega de apoyos del programa “Jalisco te Reconoce”
DESCRIPTION:Presidenta Municipal \nEntrega de apoyos del programa “Jalisco te Reconoce”
URL:https://transparencia.tlaquepaque.gob.mx/evento/entrega-apoyos-del-programa-jalisco-te-reconoce-5/
LOCATION:Centro Cultural El Refugio\, Donato Guerra 160\, San Pedro Tlaquepaque\, San Pedro\, 45500\, México
END:VEVENT
BEGIN:VEVENT
DTSTART;TZID=America/Mexico_City:20201126T123000
DTEND;TZID=America/Mexico_City:20201126T140000
DTSTAMP:20260425T105003
CREATED:20201216T212402Z
LAST-MODIFIED:20201216T212649Z
UID:200992-1606393800-1606399200@transparencia.tlaquepaque.gob.mx
SUMMARY:Reunión Privada
DESCRIPTION:Presidenta Municipal \nReunión Privada
URL:https://transparencia.tlaquepaque.gob.mx/evento/reunion-privada-126/
LOCATION:Presidencia Municipal de San Pedro Tlaquepaque\, Independencia\, Centro\, San Pedro Tlaquepaque\, Jalisco\, 45500\, México
END:VEVENT
BEGIN:VEVENT
DTSTART;TZID=America/Mexico_City:20201126T160000
DTEND;TZID=America/Mexico_City:20201126T190000
DTSTAMP:20260425T105003
CREATED:20201216T212742Z
LAST-MODIFIED:20201216T212821Z
UID:200994-1606406400-1606417200@transparencia.tlaquepaque.gob.mx
SUMMARY:Sesión de Cabildo
DESCRIPTION:Presidenta Municipal \nSesión de Cabildo
URL:https://transparencia.tlaquepaque.gob.mx/evento/sesion-de-cabildo-112/
LOCATION:Presidencia Municipal de San Pedro Tlaquepaque\, Independencia\, Centro\, San Pedro Tlaquepaque\, Jalisco\, 45500\, México
END:VEVENT
BEGIN:VEVENT
DTSTART;TZID=America/Mexico_City:20201126T200000
DTEND;TZID=America/Mexico_City:20201126T213000
DTSTAMP:20260425T105003
CREATED:20201216T213047Z
LAST-MODIFIED:20201216T213636Z
UID:200996-1606420800-1606426200@transparencia.tlaquepaque.gob.mx
SUMMARY:Inauguración del Centro Cultural Casa Morelos y Presentación del Libro “San Pedro Tlaquepaque\, Pueblo Mágico”
DESCRIPTION:Presidenta Municipal \nInauguración del Centro Cultural Casa Morelos y Presentación del Libro “San Pedro Tlaquepaque\, Pueblo Mágico”
URL:https://transparencia.tlaquepaque.gob.mx/evento/inauguracion-del-centro-cultural-casa-morelos-presentacion-del-libro-san-pedro-tlaquepaque-pueblo-magico/
LOCATION:Casa Morelos\, Morelos 256\, Centro\, San Pedro Tlaquepaque\, Jalisco\, 45500\, México
END:VEVENT
END:VCALENDAR