BEGIN:VCALENDAR
VERSION:2.0
PRODID:-//Transparencia Tlaquepaque - ECPv6.3.5//NONSGML v1.0//EN
CALSCALE:GREGORIAN
METHOD:PUBLISH
X-WR-CALNAME:Transparencia Tlaquepaque
X-ORIGINAL-URL:https://transparencia.tlaquepaque.gob.mx
X-WR-CALDESC:Eventos para Transparencia Tlaquepaque
REFRESH-INTERVAL;VALUE=DURATION:PT1H
X-Robots-Tag:noindex
X-PUBLISHED-TTL:PT1H
BEGIN:VTIMEZONE
TZID:America/Mexico_City
BEGIN:DAYLIGHT
TZOFFSETFROM:-0600
TZOFFSETTO:-0500
TZNAME:CDT
DTSTART:20200405T080000
END:DAYLIGHT
BEGIN:STANDARD
TZOFFSETFROM:-0500
TZOFFSETTO:-0600
TZNAME:CST
DTSTART:20201025T070000
END:STANDARD
END:VTIMEZONE
BEGIN:VEVENT
DTSTART;TZID=America/Mexico_City:20201125T090000
DTEND;TZID=America/Mexico_City:20201125T093000
DTSTAMP:20260425T135517
CREATED:20201216T203413Z
LAST-MODIFIED:20201216T203441Z
UID:200955-1606294800-1606296600@transparencia.tlaquepaque.gob.mx
SUMMARY:Comisión de Asuntos Metropolitanos
DESCRIPTION:Presidenta Municipal \nComisión de Asuntos Metropolitanos
URL:https://transparencia.tlaquepaque.gob.mx/evento/comision-asuntos-metropolitanos-11/
LOCATION:Presidencia Municipal de San Pedro Tlaquepaque\, Independencia\, Centro\, San Pedro Tlaquepaque\, Jalisco\, 45500\, México
END:VEVENT
BEGIN:VEVENT
DTSTART;TZID=America/Mexico_City:20201125T093000
DTEND;TZID=America/Mexico_City:20201125T100000
DTSTAMP:20260425T135517
CREATED:20201212T040813Z
LAST-MODIFIED:20201212T040828Z
UID:200609-1606296600-1606298400@transparencia.tlaquepaque.gob.mx
SUMMARY:Comisión de Seguridad
DESCRIPTION:Presidenta Municipal \nComisión de Seguridad
URL:https://transparencia.tlaquepaque.gob.mx/evento/comision-de-seguridad-2/
LOCATION:Presidencia Municipal de San Pedro Tlaquepaque\, Independencia\, Centro\, San Pedro Tlaquepaque\, Jalisco\, 45500\, México
END:VEVENT
BEGIN:VEVENT
DTSTART;TZID=America/Mexico_City:20201125T100000
DTEND;TZID=America/Mexico_City:20201125T103000
DTSTAMP:20260425T135517
CREATED:20201212T040939Z
LAST-MODIFIED:20201212T041344Z
UID:200611-1606298400-1606300200@transparencia.tlaquepaque.gob.mx
SUMMARY:Comisión de Energía
DESCRIPTION:Presidenta Municipal \nComisión de Energía
URL:https://transparencia.tlaquepaque.gob.mx/evento/comision-de-energia-4/
LOCATION:Presidencia Municipal de San Pedro Tlaquepaque\, Independencia\, Centro\, San Pedro Tlaquepaque\, Jalisco\, 45500\, México
END:VEVENT
BEGIN:VEVENT
DTSTART;TZID=America/Mexico_City:20201125T113000
DTEND;TZID=America/Mexico_City:20201125T120000
DTSTAMP:20260425T135517
CREATED:20201216T203625Z
LAST-MODIFIED:20201216T203653Z
UID:200958-1606303800-1606305600@transparencia.tlaquepaque.gob.mx
SUMMARY:Graduación Diplomado en Derechos Humanos
DESCRIPTION:Presidenta Municipal \nGraduación Diplomado en Derechos Humanos
URL:https://transparencia.tlaquepaque.gob.mx/evento/graduacion-diplomado-derechos-humanos/
LOCATION:Museo del Premio Nacional de la Cerámica Pantaléon Panduro\, Prisciliano Sánchez 191\, San Juan\, San Pedro Tlaquepaque\, Jalisco\, 45500\, México
END:VEVENT
BEGIN:VEVENT
DTSTART;TZID=America/Mexico_City:20201125T130000
DTEND;TZID=America/Mexico_City:20201125T140000
DTSTAMP:20260425T135517
CREATED:20201216T205350Z
LAST-MODIFIED:20201216T205714Z
UID:200961-1606309200-1606312800@transparencia.tlaquepaque.gob.mx
SUMMARY:Inauguración de la Nueva Unidad Especializada en Violencia Intrafamiliar y de Género (UVI)
DESCRIPTION:Presidenta Municipal \nInauguración de la Nueva Unidad Especializada en Violencia Intrafamiliar y de Género (UVI)
URL:https://transparencia.tlaquepaque.gob.mx/evento/inauguracion-la-nueva-unidad-especializada-violencia-intrafamiliar-genero-uvi/
LOCATION:Colonia Guayabitos
END:VEVENT
BEGIN:VEVENT
DTSTART;TZID=America/Mexico_City:20201125T183000
DTEND;TZID=America/Mexico_City:20201125T200000
DTSTAMP:20260425T135517
CREATED:20201216T205817Z
LAST-MODIFIED:20201216T205940Z
UID:200973-1606329000-1606334400@transparencia.tlaquepaque.gob.mx
SUMMARY:Entrega de Galardón “Mujer Agente de Cambio”
DESCRIPTION:Presidenta Municipal \nEntrega de Galardón “Mujer Agente de Cambio”
URL:https://transparencia.tlaquepaque.gob.mx/evento/entrega-galardon-mujer-agente-cambio/
LOCATION:Museo del Premio Nacional de la Cerámica Pantaléon Panduro\, Prisciliano Sánchez 191\, San Juan\, San Pedro Tlaquepaque\, Jalisco\, 45500\, México
END:VEVENT
END:VCALENDAR