BEGIN:VCALENDAR
VERSION:2.0
PRODID:-//Transparencia Tlaquepaque - ECPv6.3.5//NONSGML v1.0//EN
CALSCALE:GREGORIAN
METHOD:PUBLISH
X-ORIGINAL-URL:https://transparencia.tlaquepaque.gob.mx
X-WR-CALDESC:Eventos para Transparencia Tlaquepaque
REFRESH-INTERVAL;VALUE=DURATION:PT1H
X-Robots-Tag:noindex
X-PUBLISHED-TTL:PT1H
BEGIN:VTIMEZONE
TZID:America/Mexico_City
BEGIN:DAYLIGHT
TZOFFSETFROM:-0600
TZOFFSETTO:-0500
TZNAME:CDT
DTSTART:20200405T080000
END:DAYLIGHT
BEGIN:STANDARD
TZOFFSETFROM:-0500
TZOFFSETTO:-0600
TZNAME:CST
DTSTART:20201025T070000
END:STANDARD
END:VTIMEZONE
BEGIN:VEVENT
DTSTART;TZID=America/Mexico_City:20201120T100000
DTEND;TZID=America/Mexico_City:20201120T110000
DTSTAMP:20260423T065043
CREATED:20201212T015510Z
LAST-MODIFIED:20201212T015539Z
UID:200585-1605866400-1605870000@transparencia.tlaquepaque.gob.mx
SUMMARY:Acto Cívico 110 Aniversario de La Revolución Mexicana
DESCRIPTION:Presidenta Municipal \nActo Cívico 110 Aniversario de La Revolución Mexicana
URL:https://transparencia.tlaquepaque.gob.mx/evento/acto-civico-110-aniversario-la-revolucion-mexicana/
LOCATION:JARDÍN HIDALGO\, INDEPENDENCIA  58\, TLAQUEPAQUE\, JALISCO\, México
END:VEVENT
BEGIN:VEVENT
DTSTART;TZID=America/Mexico_City:20201120T120000
DTEND;TZID=America/Mexico_City:20201120T133000
DTSTAMP:20260423T065043
CREATED:20201212T015645Z
LAST-MODIFIED:20201212T015834Z
UID:200587-1605873600-1605879000@transparencia.tlaquepaque.gob.mx
SUMMARY:Reunión de COPLADEMUN
DESCRIPTION:Presidenta Municipal \nReunión de COPLADEMUN
URL:https://transparencia.tlaquepaque.gob.mx/evento/reunion-de-coplademun/
LOCATION:Centro Cultural El Refugio\, Donato Guerra 160\, San Pedro Tlaquepaque\, San Pedro\, 45500\, México
END:VEVENT
BEGIN:VEVENT
DTSTART;TZID=America/Mexico_City:20201120T190000
DTEND;TZID=America/Mexico_City:20201120T210000
DTSTAMP:20260423T065043
CREATED:20201212T015946Z
LAST-MODIFIED:20201212T020108Z
UID:200589-1605898800-1605906000@transparencia.tlaquepaque.gob.mx
SUMMARY:Inauguración del Festival Internacional del Cine
DESCRIPTION:Presidenta Municipal \nInauguración del Festival Internacional del Cine
URL:https://transparencia.tlaquepaque.gob.mx/evento/inauguracion-del-festival-internacional-del-cine/
LOCATION:Auditorio Telmex\, Calle Obreros de Cananea 747\, Industrial los Belenes\, Zapopan\, Jalisco\, 45157\, México
END:VEVENT
END:VCALENDAR