BEGIN:VCALENDAR
VERSION:2.0
PRODID:-//Transparencia Tlaquepaque - ECPv6.3.5//NONSGML v1.0//EN
CALSCALE:GREGORIAN
METHOD:PUBLISH
X-ORIGINAL-URL:https://transparencia.tlaquepaque.gob.mx
X-WR-CALDESC:Eventos para Transparencia Tlaquepaque
REFRESH-INTERVAL;VALUE=DURATION:PT1H
X-Robots-Tag:noindex
X-PUBLISHED-TTL:PT1H
BEGIN:VTIMEZONE
TZID:America/Mexico_City
BEGIN:DAYLIGHT
TZOFFSETFROM:-0600
TZOFFSETTO:-0500
TZNAME:CDT
DTSTART:20200405T080000
END:DAYLIGHT
BEGIN:STANDARD
TZOFFSETFROM:-0500
TZOFFSETTO:-0600
TZNAME:CST
DTSTART:20201025T070000
END:STANDARD
END:VTIMEZONE
BEGIN:VEVENT
DTSTART;TZID=America/Mexico_City:20201112T110000
DTEND;TZID=America/Mexico_City:20201112T120000
DTSTAMP:20260425T152724
CREATED:20201212T010801Z
LAST-MODIFIED:20201212T014513Z
UID:200568-1605178800-1605182400@transparencia.tlaquepaque.gob.mx
SUMMARY:Arranque de obra en la Calle Santa Cruz en la Col. Plan de Oriente
DESCRIPTION:Presidenta Municipal \nArranque de obra en la Calle Santa Cruz en la Col. Plan de Oriente
URL:https://transparencia.tlaquepaque.gob.mx/evento/arranque-obra-la-calle-santa-cruz-la-col-plan-oriente/
LOCATION:COLONIA PLAN DE ORIENTE
END:VEVENT
BEGIN:VEVENT
DTSTART;TZID=America/Mexico_City:20201112T120000
DTEND;TZID=America/Mexico_City:20201112T130000
DTSTAMP:20260425T152724
CREATED:20201212T011140Z
LAST-MODIFIED:20201212T013854Z
UID:200570-1605182400-1605186000@transparencia.tlaquepaque.gob.mx
SUMMARY:Entrega de obra de reencarpetamiento en la calle San Pablo en la Col. Lomas de San Miguel
DESCRIPTION:Presidenta Municipal \nEntrega de obra de reencarpetamiento en la calle San Pablo en la Col. Lomas de San Miguel
URL:https://transparencia.tlaquepaque.gob.mx/evento/entrega-obra-reencarpetamiento-la-calle-san-pablo-la-col-lomas-san-miguel/
LOCATION:Col. Lomas de San Miguel\, San Pedro Tlaquepaque\, Jalisco\, 45589\, México
END:VEVENT
END:VCALENDAR