BEGIN:VCALENDAR
VERSION:2.0
PRODID:-//Transparencia Tlaquepaque - ECPv6.3.5//NONSGML v1.0//EN
CALSCALE:GREGORIAN
METHOD:PUBLISH
X-ORIGINAL-URL:https://transparencia.tlaquepaque.gob.mx
X-WR-CALDESC:Eventos para Transparencia Tlaquepaque
REFRESH-INTERVAL;VALUE=DURATION:PT1H
X-Robots-Tag:noindex
X-PUBLISHED-TTL:PT1H
BEGIN:VTIMEZONE
TZID:America/Mexico_City
BEGIN:DAYLIGHT
TZOFFSETFROM:-0600
TZOFFSETTO:-0500
TZNAME:CDT
DTSTART:20200405T080000
END:DAYLIGHT
BEGIN:STANDARD
TZOFFSETFROM:-0500
TZOFFSETTO:-0600
TZNAME:CST
DTSTART:20201025T070000
END:STANDARD
END:VTIMEZONE
BEGIN:VEVENT
DTSTART;TZID=America/Mexico_City:20201027T080000
DTEND;TZID=America/Mexico_City:20201027T090000
DTSTAMP:20260425T105001
CREATED:20201117T205035Z
LAST-MODIFIED:20201117T205049Z
UID:197089-1603785600-1603789200@transparencia.tlaquepaque.gob.mx
SUMMARY:Reunión de Seguridad
DESCRIPTION:Presidenta Municipal \nReunión de Seguridad
URL:https://transparencia.tlaquepaque.gob.mx/evento/reunion-de-seguridad-72/
LOCATION:Residencia Casa Jalisco\, Av Manuel Acuña 2624\, Ladrón de Guevara\, Guadalajara\, Jalisco\, 44600\, México
END:VEVENT
BEGIN:VEVENT
DTSTART;TZID=America/Mexico_City:20201027T120000
DTEND;TZID=America/Mexico_City:20201027T130000
DTSTAMP:20260425T105001
CREATED:20201120T180523Z
LAST-MODIFIED:20201120T180601Z
UID:197372-1603800000-1603803600@transparencia.tlaquepaque.gob.mx
SUMMARY:Graduación de la VI Generación de la Academia Municipal
DESCRIPTION:Presidenta Municipal \nGraduación de la VI Generación de la Academia Municipal
URL:https://transparencia.tlaquepaque.gob.mx/evento/graduacion-la-vi-generacion-la-academia-municipal/
LOCATION:Museo del Premio Nacional de la Cerámica Pantaléon Panduro\, Prisciliano Sánchez 191\, San Juan\, San Pedro Tlaquepaque\, Jalisco\, 45500\, México
END:VEVENT
BEGIN:VEVENT
DTSTART;TZID=America/Mexico_City:20201027T150000
DTEND;TZID=America/Mexico_City:20201027T163000
DTSTAMP:20260425T105001
CREATED:20201117T205352Z
LAST-MODIFIED:20201117T205412Z
UID:197093-1603810800-1603816200@transparencia.tlaquepaque.gob.mx
SUMMARY:Reunión de Gabinete
DESCRIPTION:Presidenta Municipal \nReunión de Gabinete
URL:https://transparencia.tlaquepaque.gob.mx/evento/reunion-de-gabinete-72/
LOCATION:Presidencia Municipal de San Pedro Tlaquepaque\, Independencia\, Centro\, San Pedro Tlaquepaque\, Jalisco\, 45500\, México
END:VEVENT
END:VCALENDAR