BEGIN:VCALENDAR
VERSION:2.0
PRODID:-//Transparencia Tlaquepaque - ECPv6.3.5//NONSGML v1.0//EN
CALSCALE:GREGORIAN
METHOD:PUBLISH
X-WR-CALNAME:Transparencia Tlaquepaque
X-ORIGINAL-URL:https://transparencia.tlaquepaque.gob.mx
X-WR-CALDESC:Eventos para Transparencia Tlaquepaque
REFRESH-INTERVAL;VALUE=DURATION:PT1H
X-Robots-Tag:noindex
X-PUBLISHED-TTL:PT1H
BEGIN:VTIMEZONE
TZID:America/Mexico_City
BEGIN:DAYLIGHT
TZOFFSETFROM:-0600
TZOFFSETTO:-0500
TZNAME:CDT
DTSTART:20170402T080000
END:DAYLIGHT
BEGIN:STANDARD
TZOFFSETFROM:-0500
TZOFFSETTO:-0600
TZNAME:CST
DTSTART:20171029T070000
END:STANDARD
END:VTIMEZONE
BEGIN:VEVENT
DTSTART;TZID=America/Mexico_City:20170406T170000
DTEND;TZID=America/Mexico_City:20170601T190000
DTSTAMP:20260423T084752
CREATED:20170601T190817Z
LAST-MODIFIED:20170601T190817Z
UID:32645-1491498000-1496343600@transparencia.tlaquepaque.gob.mx
SUMMARY:Comunidad
DESCRIPTION:Acudí a la colonia el vergel para checar las problemáticas que ahí se presentan\, con la finalidad de que sean tomadas en cuenta y de esta manea darle una pronta solución.
URL:https://transparencia.tlaquepaque.gob.mx/evento/comunidad-2/
LOCATION:Col. El Vergel\, San Pedro Tl
END:VEVENT
BEGIN:VEVENT
DTSTART;TZID=America/Mexico_City:20170407T100000
DTEND;TZID=America/Mexico_City:20170602T000000
DTSTAMP:20260423T084752
CREATED:20170602T171023Z
LAST-MODIFIED:20170602T171023Z
UID:32732-1491559200-1496361600@transparencia.tlaquepaque.gob.mx
SUMMARY:Reina de la primavera con discapacidad
DESCRIPTION:Con el DIF Tlaquepaque se llevo a cabo la premiación a la reina de la primavera con alguna discapacidad\, las cuales realizaron distintas dinámicas para llegar a la final y así elegir a la reina.
URL:https://transparencia.tlaquepaque.gob.mx/evento/reina-la-primavera-discapacidad-2/
LOCATION:Centro Cultural el Refugio\, Donato Guerra No. 160\, Tlaquepaque\, Jalisco\, 45500\, México
END:VEVENT
BEGIN:VEVENT
DTSTART;TZID=America/Mexico_City:20170505T190000
DTEND;TZID=America/Mexico_City:20170601T220000
DTSTAMP:20260423T084752
CREATED:20170601T173512Z
LAST-MODIFIED:20170601T173512Z
UID:32605-1494010800-1496354400@transparencia.tlaquepaque.gob.mx
SUMMARY:SESIÓN DE CABILDO
DESCRIPTION:SESIÓN EN EL PLENO DEL H. AYUNTAMIENTO DE SAN PEDRO TLAQUEPAQUE\, PARA TRATAR TEMAS EN BENEFICIO DE NUESTRO MUNICIPIO.
URL:https://transparencia.tlaquepaque.gob.mx/evento/sesion-de-cabildo-38/
LOCATION:Presidencia Municipal\, San Pedro Tlaquepaque
END:VEVENT
BEGIN:VEVENT
DTSTART;TZID=America/Mexico_City:20170513T080000
DTEND;TZID=America/Mexico_City:20170513T170000
DTSTAMP:20260423T084752
CREATED:20170606T173827Z
LAST-MODIFIED:20170606T173827Z
UID:33112-1494662400-1494694800@transparencia.tlaquepaque.gob.mx
SUMMARY:Recuperación de Espacio Publico
DESCRIPTION:Recuperación de parque hundido en la colonia Miravalle la cual es perteneciente al Municipio de San Pedro Tlaquepaque en la que participaron alumnos de la preparatoria No. 6
URL:https://transparencia.tlaquepaque.gob.mx/evento/recuperacion-espacio-publico/
LOCATION:miravalle
END:VEVENT
BEGIN:VEVENT
DTSTART;TZID=America/Mexico_City:20170513T093000
DTEND;TZID=America/Mexico_City:20170513T123000
DTSTAMP:20260423T084752
CREATED:20170515T160604Z
LAST-MODIFIED:20170623T160706Z
UID:33948-1494667800-1494678600@transparencia.tlaquepaque.gob.mx
SUMMARY:Activa tu barrio en la colonia El Canelo
DESCRIPTION:Reg. Marco Fuentes Ontiveros
URL:https://transparencia.tlaquepaque.gob.mx/evento/activa-barrio-la-colonia-canelo/
LOCATION:El Canelo\, Carretera Libre Guadalajara-Zapotlanejo 3852\, Tateposco\, Guadalajara\, 45630\, México
END:VEVENT
BEGIN:VEVENT
DTSTART;TZID=America/Mexico_City:20170513T170000
DTEND;TZID=America/Mexico_City:20170513T180000
DTSTAMP:20260423T084752
CREATED:20170606T153159Z
LAST-MODIFIED:20170606T162634Z
UID:33037-1494694800-1494698400@transparencia.tlaquepaque.gob.mx
SUMMARY:Festival Día de las Madres
DESCRIPTION:Presidenta Municipal \nFestival Día de las Madres
URL:https://transparencia.tlaquepaque.gob.mx/evento/festival-dia-las-madres/
LOCATION:Jardín Hidalgo\, San Pedro Tlaquepaque
END:VEVENT
END:VCALENDAR