BEGIN:VCALENDAR
VERSION:2.0
PRODID:-//Transparencia Tlaquepaque - ECPv6.3.5//NONSGML v1.0//EN
CALSCALE:GREGORIAN
METHOD:PUBLISH
X-ORIGINAL-URL:https://transparencia.tlaquepaque.gob.mx
X-WR-CALDESC:Eventos para Transparencia Tlaquepaque
REFRESH-INTERVAL;VALUE=DURATION:PT1H
X-Robots-Tag:noindex
X-PUBLISHED-TTL:PT1H
BEGIN:VTIMEZONE
TZID:America/Mexico_City
BEGIN:DAYLIGHT
TZOFFSETFROM:-0600
TZOFFSETTO:-0500
TZNAME:CDT
DTSTART:20170402T080000
END:DAYLIGHT
BEGIN:STANDARD
TZOFFSETFROM:-0500
TZOFFSETTO:-0600
TZNAME:CST
DTSTART:20171029T070000
END:STANDARD
END:VTIMEZONE
BEGIN:VEVENT
DTSTART;TZID=America/Mexico_City:20170331T090000
DTEND;TZID=America/Mexico_City:20170331T150000
DTSTAMP:20260422T155737
CREATED:20170404T164130Z
LAST-MODIFIED:20171025T162747Z
UID:30778-1490950800-1490972400@transparencia.tlaquepaque.gob.mx
SUMMARY:ATENCIÓN A SERVIDORES Y/O FUNCIONARIOS PÚBLICOS
DESCRIPTION:
URL:https://transparencia.tlaquepaque.gob.mx/evento/atencion-servidores-funcionarios-publicos-147/
LOCATION:COORDINACIÓN GENERAL DE ADMINISTRACIÓN E INNOVACIÓN GUBERNAMENTAL\, INDEPENDENCIA #58
CATEGORIES:Oficialía
END:VEVENT
BEGIN:VEVENT
DTSTART;TZID=America/Mexico_City:20170331T090000
DTEND;TZID=America/Mexico_City:20170331T160000
DTSTAMP:20260422T155737
CREATED:20170421T162203Z
LAST-MODIFIED:20170421T162203Z
UID:31156-1490950800-1490976000@transparencia.tlaquepaque.gob.mx
SUMMARY:Continuación de la presentación\, capacitación y entrega de la información del Inventario de Peligros 2016 en la plataforma del Mapa Digital de México
DESCRIPTION:
URL:https://transparencia.tlaquepaque.gob.mx/evento/continuacion-la-presentacion-capacitacion-entrega-la-informacion-del-inventario-peligros-2016-la-plataforma-del-mapa-digital-mexico/
LOCATION:Unidad Estatal de Protección Civil y Bomberos Jalisco\, Av. 18 de Marzo No. 750\, colonia La Nogalera\, Guadalajara\, Jalisco\, México
END:VEVENT
BEGIN:VEVENT
DTSTART;TZID=America/Mexico_City:20170331T093000
DTEND;TZID=America/Mexico_City:20170331T103000
DTSTAMP:20260422T155737
CREATED:20170421T163535Z
LAST-MODIFIED:20170421T163535Z
UID:31166-1490952600-1490956200@transparencia.tlaquepaque.gob.mx
SUMMARY:Reunión y recorrido en la Delegación de San Martín\, tema Judea en Vivo
DESCRIPTION:
URL:https://transparencia.tlaquepaque.gob.mx/evento/reunion-recorrido-la-delegacion-san-martin-tema-judea-vivo/
END:VEVENT
BEGIN:VEVENT
DTSTART;TZID=America/Mexico_City:20170331T100000
DTEND;TZID=America/Mexico_City:20170331T103000
DTSTAMP:20260422T155737
CREATED:20170403T154621Z
LAST-MODIFIED:20170403T154621Z
UID:30656-1490954400-1490956200@transparencia.tlaquepaque.gob.mx
SUMMARY:Sesión de Comision
DESCRIPTION:Sesión de Comisión Edilicia de Planeacion Socioeconomica. \nPara la aprobación de Dictamen
URL:https://transparencia.tlaquepaque.gob.mx/evento/sesion-de-comision-7/
END:VEVENT
BEGIN:VEVENT
DTSTART;TZID=America/Mexico_City:20170331T100000
DTEND;TZID=America/Mexico_City:20170331T110000
DTSTAMP:20260422T155737
CREATED:20170503T231202Z
LAST-MODIFIED:20170503T231202Z
UID:31557-1490954400-1490958000@transparencia.tlaquepaque.gob.mx
SUMMARY:Comisión Técnica de Asignación de Contratos.
DESCRIPTION:
URL:https://transparencia.tlaquepaque.gob.mx/evento/comision-tecnica-asignacion-contratos-9/
LOCATION:Sala de Juntas de la Coordinación General de Gestión Integral de la Ciudad\, Juárez N.28\, San Pedro Tlaquepaque
END:VEVENT
BEGIN:VEVENT
DTSTART;TZID=America/Mexico_City:20170331T100000
DTEND;TZID=America/Mexico_City:20170331T113000
DTSTAMP:20260422T155737
CREATED:20170503T231347Z
LAST-MODIFIED:20170503T231347Z
UID:31559-1490954400-1490959800@transparencia.tlaquepaque.gob.mx
SUMMARY:Comisión de Planeación Socioeconómica y Urbana
DESCRIPTION:
URL:https://transparencia.tlaquepaque.gob.mx/evento/comision-planeacion-socioeconomica-urbana-3/
LOCATION:Sala de Regidores\, Independencia no. 10\, San Pedro Tlaquepaque \, Jalisco\, 45500\, México
END:VEVENT
BEGIN:VEVENT
DTSTART;TZID=America/Mexico_City:20170331T100000
DTEND;TZID=America/Mexico_City:20170331T120000
DTSTAMP:20260422T155737
CREATED:20170425T153413Z
LAST-MODIFIED:20170425T153413Z
UID:31255-1490954400-1490961600@transparencia.tlaquepaque.gob.mx
SUMMARY:Reunión de Obra Pública
DESCRIPTION:Reunión con Políticas Públicas\, Obras Públicas\, Contraloria y Dirección de Contabilidad \nTema: Seguimiento al Estado Físico y Financiero de Obra Pública 2015\, 2016 y 2017
URL:https://transparencia.tlaquepaque.gob.mx/evento/reunion-obra-publica-11/
LOCATION:TESORERIA\, MORELOS 227\, SAN PEDRO TLAQUEPAQUE\, México
END:VEVENT
BEGIN:VEVENT
DTSTART;TZID=America/Mexico_City:20170331T120000
DTEND;TZID=America/Mexico_City:20170331T150000
DTSTAMP:20260422T155737
CREATED:20170425T153459Z
LAST-MODIFIED:20170425T153459Z
UID:31257-1490961600-1490972400@transparencia.tlaquepaque.gob.mx
SUMMARY:Firma de documentos
DESCRIPTION:
URL:https://transparencia.tlaquepaque.gob.mx/evento/firma-de-documentos-273/
LOCATION:TESORERIA\, MORELOS 227\, SAN PEDRO TLAQUEPAQUE\, México
END:VEVENT
BEGIN:VEVENT
DTSTART;TZID=America/Mexico_City:20170331T190000
DTEND;TZID=America/Mexico_City:20170331T200000
DTSTAMP:20260422T155737
CREATED:20170404T170750Z
LAST-MODIFIED:20170404T170750Z
UID:30816-1490986800-1490990400@transparencia.tlaquepaque.gob.mx
SUMMARY:Inauguración de la Exposición
DESCRIPTION:“Un viaje visual a través de la Herencia Milenaria”
URL:https://transparencia.tlaquepaque.gob.mx/evento/inauguracion-la-exposicion/
LOCATION:Museo Regional de la Cerámica\, Calle Independencia 237\, San Pedro Tlaquepaque\, Jalisco\, 44689\, México
END:VEVENT
END:VCALENDAR