BEGIN:VCALENDAR
VERSION:2.0
PRODID:-//Transparencia Tlaquepaque - ECPv6.3.5//NONSGML v1.0//EN
CALSCALE:GREGORIAN
METHOD:PUBLISH
X-ORIGINAL-URL:https://transparencia.tlaquepaque.gob.mx
X-WR-CALDESC:Eventos para Transparencia Tlaquepaque
REFRESH-INTERVAL;VALUE=DURATION:PT1H
X-Robots-Tag:noindex
X-PUBLISHED-TTL:PT1H
BEGIN:VTIMEZONE
TZID:America/Mexico_City
BEGIN:DAYLIGHT
TZOFFSETFROM:-0600
TZOFFSETTO:-0500
TZNAME:CDT
DTSTART:20170402T080000
END:DAYLIGHT
BEGIN:STANDARD
TZOFFSETFROM:-0500
TZOFFSETTO:-0600
TZNAME:CST
DTSTART:20171029T070000
END:STANDARD
END:VTIMEZONE
BEGIN:VEVENT
DTSTART;TZID=America/Mexico_City:20170330T080000
DTEND;TZID=America/Mexico_City:20170330T170000
DTSTAMP:20260424T074622
CREATED:20170403T154323Z
LAST-MODIFIED:20170403T154323Z
UID:30654-1490860800-1490893200@transparencia.tlaquepaque.gob.mx
SUMMARY:Mesa de Trabajo
DESCRIPTION:Mesa de trabajo Comision de Servicios Publicos.
URL:https://transparencia.tlaquepaque.gob.mx/evento/mesa-de-trabajo-12/
END:VEVENT
BEGIN:VEVENT
DTSTART;TZID=America/Mexico_City:20170330T090000
DTEND;TZID=America/Mexico_City:20170330T100000
DTSTAMP:20260424T074622
CREATED:20170421T162410Z
LAST-MODIFIED:20170421T162410Z
UID:31158-1490864400-1490868000@transparencia.tlaquepaque.gob.mx
SUMMARY:Reunión de planeación y logística del FESTIVAL INTERNACIONAL DEL GLOBO GDL AIR 2017
DESCRIPTION:
URL:https://transparencia.tlaquepaque.gob.mx/evento/reunion-planeacion-logistica-del-festival-internacional-del-globo-gdl-air-2017/
LOCATION:Sala de Cabildo de Tlajomulco de Zúñiga\, Higuera No. 70\, Tlajomulco de Zúñiga\, Jalisco\, México
END:VEVENT
BEGIN:VEVENT
DTSTART;TZID=America/Mexico_City:20170330T090000
DTEND;TZID=America/Mexico_City:20170330T150000
DTSTAMP:20260424T074622
CREATED:20170404T164020Z
LAST-MODIFIED:20171025T162748Z
UID:30773-1490864400-1490886000@transparencia.tlaquepaque.gob.mx
SUMMARY:ATENCIÓN A SERVIDORES Y/O FUNCIONARIOS PÚBLICOS
DESCRIPTION:
URL:https://transparencia.tlaquepaque.gob.mx/evento/atencion-servidores-funcionarios-publicos-146/
LOCATION:COORDINACIÓN GENERAL DE ADMINISTRACIÓN E INNOVACIÓN GUBERNAMENTAL\, INDEPENDENCIA #58
CATEGORIES:Oficialía
END:VEVENT
BEGIN:VEVENT
DTSTART;TZID=America/Mexico_City:20170330T090000
DTEND;TZID=America/Mexico_City:20170330T150000
DTSTAMP:20260424T074622
CREATED:20170425T152702Z
LAST-MODIFIED:20170425T152702Z
UID:31253-1490864400-1490886000@transparencia.tlaquepaque.gob.mx
SUMMARY:Firma de documentos
DESCRIPTION:
URL:https://transparencia.tlaquepaque.gob.mx/evento/firma-de-documentos-272/
LOCATION:TESORERIA\, MORELOS 227\, SAN PEDRO TLAQUEPAQUE\, México
END:VEVENT
BEGIN:VEVENT
DTSTART;TZID=America/Mexico_City:20170330T090000
DTEND;TZID=America/Mexico_City:20170330T160000
DTSTAMP:20260424T074622
CREATED:20170421T162017Z
LAST-MODIFIED:20170421T162017Z
UID:31154-1490864400-1490889600@transparencia.tlaquepaque.gob.mx
SUMMARY:Presentación\, capacitación y entrega de la información del Inventario de Peligros 2016 en la plataforma del Mapa Digital de México
DESCRIPTION:(Software administrado por el INEGI)
URL:https://transparencia.tlaquepaque.gob.mx/evento/presentacion-capacitacion-entrega-la-informacion-del-inventario-peligros-2016-la-plataforma-del-mapa-digital-mexico/
LOCATION:Unidad Estatal de Protección Civil y Bomberos Jalisco\, Av. 18 de Marzo No. 750\, colonia La Nogalera\, Guadalajara\, Jalisco\, México
END:VEVENT
BEGIN:VEVENT
DTSTART;TZID=America/Mexico_City:20170330T103000
DTEND;TZID=America/Mexico_City:20170330T110000
DTSTAMP:20260424T074622
CREATED:20170403T154159Z
LAST-MODIFIED:20170403T154159Z
UID:30652-1490869800-1490871600@transparencia.tlaquepaque.gob.mx
SUMMARY:Sesión de Comision
DESCRIPTION:Comisión Edilicia de Salubridad e Higiene
URL:https://transparencia.tlaquepaque.gob.mx/evento/sesion-de-comision-6/
END:VEVENT
BEGIN:VEVENT
DTSTART;TZID=America/Mexico_City:20170330T103000
DTEND;TZID=America/Mexico_City:20170330T223000
DTSTAMP:20260424T074622
CREATED:20170404T170544Z
LAST-MODIFIED:20170404T170544Z
UID:30810-1490869800-1490913000@transparencia.tlaquepaque.gob.mx
SUMMARY:Sesión ordinaria
DESCRIPTION:se reprograma para el día 03 de Abril a las 12:30 hrs.
URL:https://transparencia.tlaquepaque.gob.mx/evento/sesion-ordinaria-22/
LOCATION:SALA DE JUNTA DE REGIDORES
END:VEVENT
BEGIN:VEVENT
DTSTART;TZID=America/Mexico_City:20170330T120000
DTEND;TZID=America/Mexico_City:20170330T130000
DTSTAMP:20260424T074622
CREATED:20170327T203213Z
LAST-MODIFIED:20170327T203213Z
UID:30430-1490875200-1490878800@transparencia.tlaquepaque.gob.mx
SUMMARY:Mesa de Trabajo de la Comisión de Servicios Públicos
DESCRIPTION:Regidor Luis Armando Córdova Díaz. \nPresidente de la Comisión de Fomento Agropecuario y Forestal.
URL:https://transparencia.tlaquepaque.gob.mx/evento/mesa-trabajo-la-comision-servicios-publicos-2/
LOCATION:Sala de Regidores
END:VEVENT
BEGIN:VEVENT
DTSTART;TZID=America/Mexico_City:20170330T120000
DTEND;TZID=America/Mexico_City:20170330T130000
DTSTAMP:20260424T074622
CREATED:20170503T231031Z
LAST-MODIFIED:20170503T231031Z
UID:31555-1490875200-1490878800@transparencia.tlaquepaque.gob.mx
SUMMARY:Mesa de Trabajo de la Comisión de Servicios Públicos Municipales
DESCRIPTION:en conjunto con la Comisión de Hacienda\, Patrimonio y Presupuesto.
URL:https://transparencia.tlaquepaque.gob.mx/evento/mesa-trabajo-la-comision-servicios-publicos-municipales/
LOCATION:Sala de Regidores\, Independencia no. 10\, San Pedro Tlaquepaque \, Jalisco\, 45500\, México
END:VEVENT
BEGIN:VEVENT
DTSTART;TZID=America/Mexico_City:20170330T120000
DTEND;TZID=America/Mexico_City:20170330T130000
DTSTAMP:20260424T074622
CREATED:20170712T154154Z
LAST-MODIFIED:20170712T154154Z
UID:35655-1490875200-1490878800@transparencia.tlaquepaque.gob.mx
SUMMARY:MESA DE TRABAJO DE LA COMISIÓN DE SERVICIOS PÚBLICOS
DESCRIPTION:CONVOCAN AL PROF. IVÁN OMAR GONZÁLEZ SOLÍS A MESA DE TRABAJO DE LA COMISIÓN DE TRABAJO DE LA COMISIÓN DE SERVICIOS PÚBLICOS EN CONJUNTO CON LA COMISIÓN DE HACIENDA\, PATRIMONIO Y PRESUPUESTO.
URL:https://transparencia.tlaquepaque.gob.mx/evento/mesa-trabajo-la-comision-servicios-publicos-4/
LOCATION:SALA DE JUNTAS DE REGIDORES\, INDEPENDENCIA 10\, TLAQUEPAQUE\, México
END:VEVENT
BEGIN:VEVENT
DTSTART;TZID=America/Mexico_City:20170330T123000
DTEND;TZID=America/Mexico_City:20170330T133000
DTSTAMP:20260424T074622
CREATED:20170421T162718Z
LAST-MODIFIED:20170421T162718Z
UID:31160-1490877000-1490880600@transparencia.tlaquepaque.gob.mx
SUMMARY:Reunión
DESCRIPTION:
URL:https://transparencia.tlaquepaque.gob.mx/evento/reunion-14/
LOCATION:Coordinación General de Políticas Públicas\, Unidad Administrativa Pila Seca\, colonia Centro\, San Pedro Tlaquepaque\, Jalisco\, México
END:VEVENT
BEGIN:VEVENT
DTSTART;TZID=America/Mexico_City:20170330T133000
DTEND;TZID=America/Mexico_City:20170330T143000
DTSTAMP:20260424T074622
CREATED:20170421T162859Z
LAST-MODIFIED:20170421T162859Z
UID:31162-1490880600-1490884200@transparencia.tlaquepaque.gob.mx
SUMMARY:Reunión de coordinación y logística del evento "Caravana de los Valores"
DESCRIPTION:
URL:https://transparencia.tlaquepaque.gob.mx/evento/reunion-coordinacion-logistica-del-evento-caravana-los-valores/
LOCATION:Sala de Ex presidentes\, Independencia No. 58\, San Pedro Tlaquepaque\, Jalisco\, México
END:VEVENT
BEGIN:VEVENT
DTSTART;TZID=America/Mexico_City:20170330T180000
DTEND;TZID=America/Mexico_City:20170330T190000
DTSTAMP:20260424T074622
CREATED:20170421T163258Z
LAST-MODIFIED:20170421T163258Z
UID:31164-1490896800-1490900400@transparencia.tlaquepaque.gob.mx
SUMMARY:Clausura del curso RIT (Rapid Intervention Team)
DESCRIPTION:
URL:https://transparencia.tlaquepaque.gob.mx/evento/clausura-del-curso-rit-rapid-intervention-team/
LOCATION:Coordinación General de Protección Civil y Bomberos de San Pedro Tlaquepaque\, San Mateo Evangelista No. 4174\, colonia Lomas de San Miguel\, San Pedro Tlaquepaque\, Jalisco\, México
END:VEVENT
END:VCALENDAR