BEGIN:VCALENDAR
VERSION:2.0
PRODID:-//Transparencia Tlaquepaque - ECPv6.3.5//NONSGML v1.0//EN
CALSCALE:GREGORIAN
METHOD:PUBLISH
X-WR-CALNAME:Transparencia Tlaquepaque
X-ORIGINAL-URL:https://transparencia.tlaquepaque.gob.mx
X-WR-CALDESC:Eventos para Transparencia Tlaquepaque
REFRESH-INTERVAL;VALUE=DURATION:PT1H
X-Robots-Tag:noindex
X-PUBLISHED-TTL:PT1H
BEGIN:VTIMEZONE
TZID:America/Mexico_City
BEGIN:DAYLIGHT
TZOFFSETFROM:-0600
TZOFFSETTO:-0500
TZNAME:CDT
DTSTART:20170402T080000
END:DAYLIGHT
BEGIN:STANDARD
TZOFFSETFROM:-0500
TZOFFSETTO:-0600
TZNAME:CST
DTSTART:20171029T070000
END:STANDARD
END:VTIMEZONE
BEGIN:VEVENT
DTSTART;TZID=America/Mexico_City:20170202T080000
DTEND;TZID=America/Mexico_City:20170328T170000
DTSTAMP:20260424T094759
CREATED:20170328T183819Z
LAST-MODIFIED:20170328T183819Z
UID:30466-1486022400-1490720400@transparencia.tlaquepaque.gob.mx
SUMMARY:Mesa de Trabajo de la Comisión Edilicia de Reglamentos Municipales y Puntos Legislativos
DESCRIPTION:Asunto: Turno a Comisión 275/2016
URL:https://transparencia.tlaquepaque.gob.mx/evento/mesa-trabajo-la-comision-edilicia-reglamentos-municipales-puntos-legislativos-3/
LOCATION:Sala de Regidores\, Independencia no. 10\, San Pedro Tlaquepaque \, Jalisco\, 45500\, México
END:VEVENT
BEGIN:VEVENT
DTSTART;TZID=America/Mexico_City:20170311T090000
DTEND;TZID=America/Mexico_City:20170311T103000
DTSTAMP:20260424T094759
CREATED:20170313T201033Z
LAST-MODIFIED:20170328T201238Z
UID:30499-1489222800-1489228200@transparencia.tlaquepaque.gob.mx
SUMMARY:Recuperación de espacios en la colonia Balcones de Santa María
DESCRIPTION:Reg. Marco Fuentes Ontiveros
URL:https://transparencia.tlaquepaque.gob.mx/evento/recuperacion-espacios-la-colonia-balcones-santa-maria/
LOCATION:balcones de santa maria\, paseo de la serenata \, tlaquepaque\, Jalisco  \, México
END:VEVENT
BEGIN:VEVENT
DTSTART;TZID=America/Mexico_City:20170311T100000
DTEND;TZID=America/Mexico_City:20170311T110000
DTSTAMP:20260424T094759
CREATED:20170418T161840Z
LAST-MODIFIED:20170418T161840Z
UID:31110-1489226400-1489230000@transparencia.tlaquepaque.gob.mx
SUMMARY:Reunión con el tema de macrosimulacro
DESCRIPTION:
URL:https://transparencia.tlaquepaque.gob.mx/evento/reunion-tema-macrosimulacro/
LOCATION:Unidad Estatal de Protección Civil y Bomberos Jalisco\, Av. 18 de Marzo No. 750\, colonia La Nogalera\, Guadalajara\, Jalisco\, México
END:VEVENT
BEGIN:VEVENT
DTSTART;TZID=America/Mexico_City:20170311T110000
DTEND;TZID=America/Mexico_City:20170311T120000
DTSTAMP:20260424T094759
CREATED:20170313T201250Z
LAST-MODIFIED:20170328T201351Z
UID:30502-1489230000-1489233600@transparencia.tlaquepaque.gob.mx
SUMMARY:Evento "Liderato de Almas México"
DESCRIPTION:Reg. Marco Fuentes Ontiveros
URL:https://transparencia.tlaquepaque.gob.mx/evento/evento-liderato-almas-mexico/
LOCATION:cancha el refugio\, florida esquina contreras medellin \, Tlaquepaque \, Jalisco  \, México
END:VEVENT
BEGIN:VEVENT
DTSTART;TZID=America/Mexico_City:20170311T130000
DTEND;TZID=America/Mexico_City:20170311T140000
DTSTAMP:20260424T094759
CREATED:20170313T201410Z
LAST-MODIFIED:20170328T201520Z
UID:30504-1489237200-1489240800@transparencia.tlaquepaque.gob.mx
SUMMARY:Donación de árboles en Coto del Carmen
DESCRIPTION:Reg. Marco Fuentes Ontiveros
URL:https://transparencia.tlaquepaque.gob.mx/evento/donacion-arboles-coto-del-carmen/
LOCATION:Coto del Carmen\, La Paz esquina del carmen \, Tlaquepaque \, Jalisco \, México
END:VEVENT
END:VCALENDAR