BEGIN:VCALENDAR
VERSION:2.0
PRODID:-//Transparencia Tlaquepaque - ECPv6.3.5//NONSGML v1.0//EN
CALSCALE:GREGORIAN
METHOD:PUBLISH
X-WR-CALNAME:Transparencia Tlaquepaque
X-ORIGINAL-URL:https://transparencia.tlaquepaque.gob.mx
X-WR-CALDESC:Eventos para Transparencia Tlaquepaque
REFRESH-INTERVAL;VALUE=DURATION:PT1H
X-Robots-Tag:noindex
X-PUBLISHED-TTL:PT1H
BEGIN:VTIMEZONE
TZID:America/Mexico_City
BEGIN:DAYLIGHT
TZOFFSETFROM:-0600
TZOFFSETTO:-0500
TZNAME:CDT
DTSTART:20170402T080000
END:DAYLIGHT
BEGIN:STANDARD
TZOFFSETFROM:-0500
TZOFFSETTO:-0600
TZNAME:CST
DTSTART:20171029T070000
END:STANDARD
END:VTIMEZONE
BEGIN:VEVENT
DTSTART;TZID=America/Mexico_City:20170202T080000
DTEND;TZID=America/Mexico_City:20170328T170000
DTSTAMP:20260422T051633
CREATED:20170328T183819Z
LAST-MODIFIED:20170328T183819Z
UID:30466-1486022400-1490720400@transparencia.tlaquepaque.gob.mx
SUMMARY:Mesa de Trabajo de la Comisión Edilicia de Reglamentos Municipales y Puntos Legislativos
DESCRIPTION:Asunto: Turno a Comisión 275/2016
URL:https://transparencia.tlaquepaque.gob.mx/evento/mesa-trabajo-la-comision-edilicia-reglamentos-municipales-puntos-legislativos-3/
LOCATION:Sala de Regidores\, Independencia no. 10\, San Pedro Tlaquepaque \, Jalisco\, 45500\, México
END:VEVENT
BEGIN:VEVENT
DTSTART;TZID=America/Mexico_City:20170301T090000
DTEND;TZID=America/Mexico_City:20170301T100000
DTSTAMP:20260422T051633
CREATED:20170418T151907Z
LAST-MODIFIED:20170418T151907Z
UID:31086-1488358800-1488362400@transparencia.tlaquepaque.gob.mx
SUMMARY:Reunión de trabajo para el análisis y problématica de inundaciones en las cuencas de El Ahogado y Atemajac
DESCRIPTION:Dar continuidad a las actividades que se vienen realizando en las citadas cuencas\, previas al temporal de lluvias 2017.
URL:https://transparencia.tlaquepaque.gob.mx/evento/reunion-trabajo-analisis-problematica-inundaciones-las-cuencas-ahogado-atemajac/
LOCATION:Comisión Estatal del Agua Jalisco\, Brasilia 2970\, colonia Colomos - Providencia\, Guadalajara\, Jalisco\, México
END:VEVENT
BEGIN:VEVENT
DTSTART;TZID=America/Mexico_City:20170301T090000
DTEND;TZID=America/Mexico_City:20170301T150000
DTSTAMP:20260422T051633
CREATED:20170313T214532Z
LAST-MODIFIED:20171025T162756Z
UID:29532-1488358800-1488380400@transparencia.tlaquepaque.gob.mx
SUMMARY:ATENCIÓN A SERVIDORES Y/O FUNCIONARIOS PÚBLICOS
DESCRIPTION:
URL:https://transparencia.tlaquepaque.gob.mx/evento/atencion-servidores-funcionarios-publicos-126/
LOCATION:COORDINACIÓN GENERAL DE ADMINISTRACIÓN E INNOVACIÓN GUBERNAMENTAL
CATEGORIES:Oficialía
END:VEVENT
BEGIN:VEVENT
DTSTART;TZID=America/Mexico_City:20170301T093500
DTEND;TZID=America/Mexico_City:20170301T214000
DTSTAMP:20260422T051633
CREATED:20170306T171551Z
LAST-MODIFIED:20170306T171551Z
UID:28948-1488360900-1488404400@transparencia.tlaquepaque.gob.mx
SUMMARY:Atención a empleado del Municipio
DESCRIPTION:Lic. Pedro Sánchez – Unidad de Transparencia \nTema: Solicita prestamo
URL:https://transparencia.tlaquepaque.gob.mx/evento/atencion-empleado-del-municipio-9/
LOCATION:TESORERIA\, MORELOS 227\, SAN PEDRO TLAQUEPAQUE\, México
END:VEVENT
BEGIN:VEVENT
DTSTART;TZID=America/Mexico_City:20170301T094000
DTEND;TZID=America/Mexico_City:20170301T103500
DTSTAMP:20260422T051633
CREATED:20170306T171704Z
LAST-MODIFIED:20170306T171704Z
UID:28950-1488361200-1488364500@transparencia.tlaquepaque.gob.mx
SUMMARY:Firma de documentos
DESCRIPTION:
URL:https://transparencia.tlaquepaque.gob.mx/evento/firma-de-documentos-224/
LOCATION:TESORERIA\, MORELOS 227\, SAN PEDRO TLAQUEPAQUE\, México
END:VEVENT
BEGIN:VEVENT
DTSTART;TZID=America/Mexico_City:20170301T100000
DTEND;TZID=America/Mexico_City:20170301T110000
DTSTAMP:20260422T051633
CREATED:20170406T193829Z
LAST-MODIFIED:20170406T193913Z
UID:30918-1488362400-1488366000@transparencia.tlaquepaque.gob.mx
SUMMARY:ENTREGA DE APOYOS "TE QUEREMOS JEFA"
DESCRIPTION:EL PROF. IVÁN OMAR GONZÁLEZ SOLÍS ASISTE A LA ENTREGA DE APOYOS “TE QUEREMOS JEFA”
URL:https://transparencia.tlaquepaque.gob.mx/evento/entrega-apoyos-te-queremos-jefa-2/
LOCATION:Patio del Centro Cultural El Refugio\, Contreras Medellin 194
END:VEVENT
BEGIN:VEVENT
DTSTART;TZID=America/Mexico_City:20170301T100000
DTEND;TZID=America/Mexico_City:20170301T110000
DTSTAMP:20260422T051633
CREATED:20170407T172827Z
LAST-MODIFIED:20170411T174847Z
UID:30957-1488362400-1488366000@transparencia.tlaquepaque.gob.mx
SUMMARY:Entrega de apoyos Mujeres
DESCRIPTION:Presidenta Municipal \nCombatir la desigualdad que enfrentan las mujeres que son jefas de familia\, para que puedan tener la misma oportunidad y poder disminuir su situación de vulnerabilidad.
URL:https://transparencia.tlaquepaque.gob.mx/evento/entrega-apoyos-mujeres/
LOCATION:PATIO SAN PEDRO CENTRO CULTURAL EL REFUGIO\, DONATO GUERRA #160\, SAN PEDRO TLAQUEPAQUE\, 45500\, México
END:VEVENT
BEGIN:VEVENT
DTSTART;TZID=America/Mexico_City:20170301T100000
DTEND;TZID=America/Mexico_City:20170301T110000
DTSTAMP:20260422T051633
CREATED:20170418T152906Z
LAST-MODIFIED:20170418T152906Z
UID:31089-1488362400-1488366000@transparencia.tlaquepaque.gob.mx
SUMMARY:Reunión del CEPAE
DESCRIPTION:
URL:https://transparencia.tlaquepaque.gob.mx/evento/reunion-del-cepae-7/
LOCATION:Coordinación Municipal de Protección Civil y Bomberos de Zapopan\, Dr. José Farah 460\, colonia Villas de los Belenes\, Zapopan\, Jalisco\, México
END:VEVENT
BEGIN:VEVENT
DTSTART;TZID=America/Mexico_City:20170301T110000
DTEND;TZID=America/Mexico_City:20170301T120000
DTSTAMP:20260422T051633
CREATED:20170327T170405Z
LAST-MODIFIED:20170327T170405Z
UID:30288-1488366000-1488369600@transparencia.tlaquepaque.gob.mx
SUMMARY:Registro Civil #1
DESCRIPTION:Entrevista con el director del registro civil para revisión de situaciones varias\, esto con apoyo a ciudadanos.
URL:https://transparencia.tlaquepaque.gob.mx/evento/registro-civil-1/
END:VEVENT
BEGIN:VEVENT
DTSTART;TZID=America/Mexico_City:20170301T113500
DTEND;TZID=America/Mexico_City:20170301T114000
DTSTAMP:20260422T051633
CREATED:20170306T171842Z
LAST-MODIFIED:20170306T171842Z
UID:28952-1488368100-1488368400@transparencia.tlaquepaque.gob.mx
SUMMARY:Reunmión con el Premio Nacional de la Cerámica
DESCRIPTION:C.P. Nayeli Márquez – Contadora del Premio Nacional de la Cerámica \nTema: Revisión de Contabildiad
URL:https://transparencia.tlaquepaque.gob.mx/evento/reunmion-premio-nacional-la-ceramica/
LOCATION:TESORERIA\, MORELOS 227\, SAN PEDRO TLAQUEPAQUE\, México
END:VEVENT
BEGIN:VEVENT
DTSTART;TZID=America/Mexico_City:20170301T114000
DTEND;TZID=America/Mexico_City:20170301T115500
DTSTAMP:20260422T051633
CREATED:20170306T172220Z
LAST-MODIFIED:20170306T172220Z
UID:28954-1488368400-1488369300@transparencia.tlaquepaque.gob.mx
SUMMARY:Atención a Proveedor
DESCRIPTION:Sra. Patricia Mejía – Televisa \nTema: Gestión de pago
URL:https://transparencia.tlaquepaque.gob.mx/evento/atencion-a-proveedor-224/
LOCATION:TESORERIA\, MORELOS 227\, SAN PEDRO TLAQUEPAQUE\, México
END:VEVENT
BEGIN:VEVENT
DTSTART;TZID=America/Mexico_City:20170301T115500
DTEND;TZID=America/Mexico_City:20170301T120000
DTSTAMP:20260422T051633
CREATED:20170306T173835Z
LAST-MODIFIED:20170306T173835Z
UID:28963-1488369300-1488369600@transparencia.tlaquepaque.gob.mx
SUMMARY:Atención a Proveedor
DESCRIPTION:Sr. Abel Martínez – CCR Ingenieros \nTema: Gestión de pago
URL:https://transparencia.tlaquepaque.gob.mx/evento/atencion-a-proveedor-225/
LOCATION:TESORERIA\, MORELOS 227\, SAN PEDRO TLAQUEPAQUE\, México
END:VEVENT
BEGIN:VEVENT
DTSTART;TZID=America/Mexico_City:20170301T120000
DTEND;TZID=America/Mexico_City:20170301T123000
DTSTAMP:20260422T051633
CREATED:20170418T153717Z
LAST-MODIFIED:20170418T153717Z
UID:31093-1488369600-1488371400@transparencia.tlaquepaque.gob.mx
SUMMARY:Reunión relacionada a nuestro Atlas de Riesgo\, con Maximiliano Bautista Andalón
DESCRIPTION:
URL:https://transparencia.tlaquepaque.gob.mx/evento/reunion-relacionada-atlas-riesgo-maximiliano-bautista-andalon/
LOCATION:Instituto de Información Estadística y Geográfica del Estado de Jalisco (IIEG)\, Av. Pirules No. 71\, Ciudad Granja\, Zapopan\, Jalisco\, México
END:VEVENT
BEGIN:VEVENT
DTSTART;TZID=America/Mexico_City:20170301T120000
DTEND;TZID=America/Mexico_City:20170301T123500
DTSTAMP:20260422T051633
CREATED:20170306T182312Z
LAST-MODIFIED:20170306T182312Z
UID:28981-1488369600-1488371700@transparencia.tlaquepaque.gob.mx
SUMMARY:Firma de documentos
DESCRIPTION:
URL:https://transparencia.tlaquepaque.gob.mx/evento/firma-de-documentos-225/
LOCATION:TESORERIA\, MORELOS 227\, SAN PEDRO TLAQUEPAQUE\, México
END:VEVENT
BEGIN:VEVENT
DTSTART;TZID=America/Mexico_City:20170301T123500
DTEND;TZID=America/Mexico_City:20170301T130000
DTSTAMP:20260422T051633
CREATED:20170306T182554Z
LAST-MODIFIED:20170306T182554Z
UID:28983-1488371700-1488373200@transparencia.tlaquepaque.gob.mx
SUMMARY:Atención a empleado del Municipio
DESCRIPTION:Ing. juan Carlos – Obras Públicas \nTema: Revisión pago de Obra Pública
URL:https://transparencia.tlaquepaque.gob.mx/evento/atencion-empleado-del-municipio-10/
LOCATION:TESORERIA\, MORELOS 227\, SAN PEDRO TLAQUEPAQUE\, México
END:VEVENT
BEGIN:VEVENT
DTSTART;TZID=America/Mexico_City:20170301T130000
DTEND;TZID=America/Mexico_City:20170301T131000
DTSTAMP:20260422T051633
CREATED:20170306T182709Z
LAST-MODIFIED:20170306T182709Z
UID:28985-1488373200-1488373800@transparencia.tlaquepaque.gob.mx
SUMMARY:Reunión con Obras Públicas
DESCRIPTION:C.P. Ignacio Vallejo – Obras Públicas \nTema: Solicita prestamo
URL:https://transparencia.tlaquepaque.gob.mx/evento/reunion-obras-publicas-45/
LOCATION:TESORERIA\, MORELOS 227\, SAN PEDRO TLAQUEPAQUE\, México
END:VEVENT
BEGIN:VEVENT
DTSTART;TZID=America/Mexico_City:20170301T134000
DTEND;TZID=America/Mexico_City:20170301T134500
DTSTAMP:20260422T051633
CREATED:20170306T183046Z
LAST-MODIFIED:20170306T183046Z
UID:28987-1488375600-1488375900@transparencia.tlaquepaque.gob.mx
SUMMARY:Atención a Proveedor
DESCRIPTION:Sr. Ramiro Villaseñor – Ventas Agora \nTema: Gestión de pago
URL:https://transparencia.tlaquepaque.gob.mx/evento/atencion-a-proveedor-226/
LOCATION:TESORERIA\, MORELOS 227\, SAN PEDRO TLAQUEPAQUE\, México
END:VEVENT
BEGIN:VEVENT
DTSTART;TZID=America/Mexico_City:20170301T134500
DTEND;TZID=America/Mexico_City:20170301T163000
DTSTAMP:20260422T051633
CREATED:20170306T183211Z
LAST-MODIFIED:20170306T183211Z
UID:28989-1488375900-1488385800@transparencia.tlaquepaque.gob.mx
SUMMARY:Firma de documentos
DESCRIPTION:
URL:https://transparencia.tlaquepaque.gob.mx/evento/firma-de-documentos-226/
LOCATION:TESORERIA\, MORELOS 227\, SAN PEDRO TLAQUEPAQUE\, México
END:VEVENT
END:VCALENDAR