BEGIN:VCALENDAR
VERSION:2.0
PRODID:-//Transparencia Tlaquepaque - ECPv6.3.5//NONSGML v1.0//EN
CALSCALE:GREGORIAN
METHOD:PUBLISH
X-ORIGINAL-URL:https://transparencia.tlaquepaque.gob.mx
X-WR-CALDESC:Eventos para Transparencia Tlaquepaque
REFRESH-INTERVAL;VALUE=DURATION:PT1H
X-Robots-Tag:noindex
X-PUBLISHED-TTL:PT1H
BEGIN:VTIMEZONE
TZID:America/Mexico_City
BEGIN:DAYLIGHT
TZOFFSETFROM:-0600
TZOFFSETTO:-0500
TZNAME:CDT
DTSTART:20170402T080000
END:DAYLIGHT
BEGIN:STANDARD
TZOFFSETFROM:-0500
TZOFFSETTO:-0600
TZNAME:CST
DTSTART:20171029T070000
END:STANDARD
END:VTIMEZONE
BEGIN:VEVENT
DTSTART;TZID=America/Mexico_City:20170202T080000
DTEND;TZID=America/Mexico_City:20170328T170000
DTSTAMP:20260424T113821
CREATED:20170328T183819Z
LAST-MODIFIED:20170328T183819Z
UID:30466-1486022400-1490720400@transparencia.tlaquepaque.gob.mx
SUMMARY:Mesa de Trabajo de la Comisión Edilicia de Reglamentos Municipales y Puntos Legislativos
DESCRIPTION:Asunto: Turno a Comisión 275/2016
URL:https://transparencia.tlaquepaque.gob.mx/evento/mesa-trabajo-la-comision-edilicia-reglamentos-municipales-puntos-legislativos-3/
LOCATION:Sala de Regidores\, Independencia no. 10\, San Pedro Tlaquepaque \, Jalisco\, 45500\, México
END:VEVENT
BEGIN:VEVENT
DTSTART;VALUE=DATE:20170227
DTEND;VALUE=DATE:20170228
DTSTAMP:20260424T113821
CREATED:20170224T210107Z
LAST-MODIFIED:20170224T210107Z
UID:28502-1488153600-1488239999@transparencia.tlaquepaque.gob.mx
SUMMARY:Actividades Administrativas
DESCRIPTION:Regidor Luis Cordova\, Actividades Administrativas
URL:https://transparencia.tlaquepaque.gob.mx/evento/actividades-administrativas-2/
END:VEVENT
BEGIN:VEVENT
DTSTART;TZID=America/Mexico_City:20170227T090000
DTEND;TZID=America/Mexico_City:20170227T150000
DTSTAMP:20260424T113821
CREATED:20170228T194529Z
LAST-MODIFIED:20171025T162756Z
UID:28571-1488186000-1488207600@transparencia.tlaquepaque.gob.mx
SUMMARY:ATENCIÓN A SERVIDORES Y/O FUNCIONARIOS PÚBLICOS
DESCRIPTION:
URL:https://transparencia.tlaquepaque.gob.mx/evento/atencion-servidores-funcionarios-publicos-123/
LOCATION:COORDINACIÓN GENERAL DE ADMINISTRACIÓN E INNOVACIÓN GUBERNAMENTAL\, INDEPENDENCIA #58
CATEGORIES:Oficialía
END:VEVENT
BEGIN:VEVENT
DTSTART;TZID=America/Mexico_City:20170227T093000
DTEND;TZID=America/Mexico_City:20170227T110000
DTSTAMP:20260424T113821
CREATED:20170302T201106Z
LAST-MODIFIED:20170302T201106Z
UID:28693-1488187800-1488193200@transparencia.tlaquepaque.gob.mx
SUMMARY:Reunión con Servicios Públicos Municipales
DESCRIPTION:Lic. Eloisa Gaviño Hernández – Directora General de Servicios Públicos Municipales\, Ab. Cesar Agustin Cortes García – Director de Egresos \nTema: Convenio CFE Fraccionamiento La Huerta y Fondo Revolvente de Servicios Públicos Municipales
URL:https://transparencia.tlaquepaque.gob.mx/evento/reunion-servicios-publicos-municipales-6/
LOCATION:TESORERIA\, MORELOS 227\, SAN PEDRO TLAQUEPAQUE\, México
END:VEVENT
BEGIN:VEVENT
DTSTART;TZID=America/Mexico_City:20170227T110000
DTEND;TZID=America/Mexico_City:20170227T231500
DTSTAMP:20260424T113821
CREATED:20170302T201627Z
LAST-MODIFIED:20170302T201627Z
UID:28699-1488193200-1488237300@transparencia.tlaquepaque.gob.mx
SUMMARY:Atención a proveedor
DESCRIPTION:Lino Espejo Aldana – Geomapa \nTema: Presenta servicios de Cartografia
URL:https://transparencia.tlaquepaque.gob.mx/evento/atencion-a-proveedor-220/
LOCATION:TESORERIA\, MORELOS 227\, SAN PEDRO TLAQUEPAQUE\, México
END:VEVENT
BEGIN:VEVENT
DTSTART;TZID=America/Mexico_City:20170227T111500
DTEND;TZID=America/Mexico_City:20170227T112000
DTSTAMP:20260424T113821
CREATED:20170302T201933Z
LAST-MODIFIED:20170302T201933Z
UID:28702-1488194100-1488194400@transparencia.tlaquepaque.gob.mx
SUMMARY:Atención a Proveedor
DESCRIPTION:Sr. Angel Reyes – Papelería Nueva Escocia \nTema: Solicita pago
URL:https://transparencia.tlaquepaque.gob.mx/evento/atencion-a-proveedor-221/
LOCATION:TESORERIA\, MORELOS 227\, SAN PEDRO TLAQUEPAQUE\, México
END:VEVENT
BEGIN:VEVENT
DTSTART;TZID=America/Mexico_City:20170227T113000
DTEND;TZID=America/Mexico_City:20170227T120000
DTSTAMP:20260424T113821
CREATED:20170302T202436Z
LAST-MODIFIED:20170302T202436Z
UID:28704-1488195000-1488196800@transparencia.tlaquepaque.gob.mx
SUMMARY:Reunión con Secretaria Particular e Instituto de la Juventud
DESCRIPTION:Lic. Carmen Adriana Zuñiga – Secretaria Particular de Presidencia y Nancy González – Instituto de la Juventud \nTema: Revisión proyectos y apoyos al Instituto de la Juventud
URL:https://transparencia.tlaquepaque.gob.mx/evento/reunion-secretaria-particular-e-instituto-la-juventud/
LOCATION:TESORERIA\, MORELOS 227\, SAN PEDRO TLAQUEPAQUE\, México
END:VEVENT
BEGIN:VEVENT
DTSTART;TZID=America/Mexico_City:20170227T120000
DTEND;TZID=America/Mexico_City:20170227T120000
DTSTAMP:20260424T113821
CREATED:20170302T203801Z
LAST-MODIFIED:20170302T203801Z
UID:28706-1488196800-1488196800@transparencia.tlaquepaque.gob.mx
SUMMARY:Reunión con Banco Interacciones
DESCRIPTION:Lic. Carmen Alicia Banco Interacciones \nTema: Ofrece servicios bancarios
URL:https://transparencia.tlaquepaque.gob.mx/evento/reunion-banco-interacciones-9/
LOCATION:TESORERIA\, MORELOS 227\, SAN PEDRO TLAQUEPAQUE\, México
END:VEVENT
BEGIN:VEVENT
DTSTART;TZID=America/Mexico_City:20170227T121000
DTEND;TZID=America/Mexico_City:20170227T123500
DTSTAMP:20260424T113821
CREATED:20170302T204124Z
LAST-MODIFIED:20170302T204124Z
UID:28712-1488197400-1488198900@transparencia.tlaquepaque.gob.mx
SUMMARY:Reunión con Contabilidad
DESCRIPTION:C. Elva Loredo – Secretaria Contabilidad \nTema: Firma de Cuentas Públicas
URL:https://transparencia.tlaquepaque.gob.mx/evento/reunion-con-contabilidad-12/
LOCATION:TESORERIA\, MORELOS 227\, SAN PEDRO TLAQUEPAQUE\, México
END:VEVENT
BEGIN:VEVENT
DTSTART;TZID=America/Mexico_City:20170227T123500
DTEND;TZID=America/Mexico_City:20170227T125000
DTSTAMP:20260424T113821
CREATED:20170306T154627Z
LAST-MODIFIED:20170306T154627Z
UID:28878-1488198900-1488199800@transparencia.tlaquepaque.gob.mx
SUMMARY:Reunión con Juzgados Administrativos
DESCRIPTION:C. Cristina Piloña – Juzgados Administrativos \nTema: Solicita fondo revolvente y personal para recaudacion en los Juzgados
URL:https://transparencia.tlaquepaque.gob.mx/evento/reunion-juzgados-administrativos/
LOCATION:TESORERIA\, MORELOS 227\, SAN PEDRO TLAQUEPAQUE\, México
END:VEVENT
BEGIN:VEVENT
DTSTART;TZID=America/Mexico_City:20170227T125000
DTEND;TZID=America/Mexico_City:20170227T125500
DTSTAMP:20260424T113821
CREATED:20170306T154813Z
LAST-MODIFIED:20170306T154813Z
UID:28880-1488199800-1488200100@transparencia.tlaquepaque.gob.mx
SUMMARY:Atención a Proveedor
DESCRIPTION:Sr. Hector Leiton – Papeleria MAD \nTema: Gestión de pago
URL:https://transparencia.tlaquepaque.gob.mx/evento/atencion-a-proveedor-222/
LOCATION:TESORERIA\, MORELOS 227\, SAN PEDRO TLAQUEPAQUE\, México
END:VEVENT
BEGIN:VEVENT
DTSTART;TZID=America/Mexico_City:20170227T125500
DTEND;TZID=America/Mexico_City:20170227T131500
DTSTAMP:20260424T113821
CREATED:20170306T155617Z
LAST-MODIFIED:20170306T155617Z
UID:28882-1488200100-1488201300@transparencia.tlaquepaque.gob.mx
SUMMARY:Atención a Ciudadana
DESCRIPTION:Sra. Raquel Zepeda Villegas – Ciudadana \nTema: Sol. descuento
URL:https://transparencia.tlaquepaque.gob.mx/evento/atencion-a-ciudadana-2/
LOCATION:TESORERIA\, MORELOS 227\, SAN PEDRO TLAQUEPAQUE\, México
END:VEVENT
BEGIN:VEVENT
DTSTART;TZID=America/Mexico_City:20170227T130000
DTEND;TZID=America/Mexico_City:20170227T140000
DTSTAMP:20260424T113821
CREATED:20170327T170022Z
LAST-MODIFIED:20170327T170022Z
UID:30283-1488200400-1488204000@transparencia.tlaquepaque.gob.mx
SUMMARY:Comisión Edilicia de Equidad de Genero
DESCRIPTION:Informe de actividades para el mes de la mujer por parte del Instituto Municipal.
URL:https://transparencia.tlaquepaque.gob.mx/evento/comision-edilicia-equidad-genero/
END:VEVENT
BEGIN:VEVENT
DTSTART;TZID=America/Mexico_City:20170227T130000
DTEND;TZID=America/Mexico_City:20170227T140000
DTSTAMP:20260424T113821
CREATED:20170329T184242Z
LAST-MODIFIED:20170329T184242Z
UID:30551-1488200400-1488204000@transparencia.tlaquepaque.gob.mx
SUMMARY:Sesión de la Comisión Edilicia de Igualdad de Género
DESCRIPTION:
URL:https://transparencia.tlaquepaque.gob.mx/evento/sesion-la-comision-edilicia-igualdad-genero/
LOCATION:Sala de Regidores\, Independencia no. 10\, San Pedro Tlaquepaque \, Jalisco\, 45500\, México
END:VEVENT
BEGIN:VEVENT
DTSTART;TZID=America/Mexico_City:20170227T132500
DTEND;TZID=America/Mexico_City:20170227T133000
DTSTAMP:20260424T113821
CREATED:20170306T160104Z
LAST-MODIFIED:20170306T160104Z
UID:28884-1488201900-1488202200@transparencia.tlaquepaque.gob.mx
SUMMARY:Reunión con Asistente de Regidor
DESCRIPTION:C. Daniel Davalos – Asistente del Regidor Marcos Fuentes \nTema: Solicita pago de facturas
URL:https://transparencia.tlaquepaque.gob.mx/evento/reunion-asistente-regidor-9/
END:VEVENT
BEGIN:VEVENT
DTSTART;TZID=America/Mexico_City:20170227T133000
DTEND;TZID=America/Mexico_City:20170227T140000
DTSTAMP:20260424T113821
CREATED:20170306T160647Z
LAST-MODIFIED:20170306T160647Z
UID:28886-1488202200-1488204000@transparencia.tlaquepaque.gob.mx
SUMMARY:Reunión con el Instituto de las Mujeres
DESCRIPTION:Lic. Blanca Vazquez y Lic. Giglioli Pulido – Instituto de las Mujeres \nTema: Revisión Presupuesto de Egresos e Ingresos 2016 y firma de Acta
URL:https://transparencia.tlaquepaque.gob.mx/evento/reunion-instituto-las-mujeres-3/
LOCATION:TESORERIA\, MORELOS 227\, SAN PEDRO TLAQUEPAQUE\, México
END:VEVENT
BEGIN:VEVENT
DTSTART;TZID=America/Mexico_City:20170227T140000
DTEND;TZID=America/Mexico_City:20170227T152000
DTSTAMP:20260424T113821
CREATED:20170306T161103Z
LAST-MODIFIED:20170306T161116Z
UID:28888-1488204000-1488208800@transparencia.tlaquepaque.gob.mx
SUMMARY:Reunión Sala  de Expresidentes
DESCRIPTION:Reunión en Sala de Expresidentes \nTema: Modificación Presupuesto de Egresos e Ingresos 2016
URL:https://transparencia.tlaquepaque.gob.mx/evento/reunion-sala-expresidentes-10/
LOCATION:TESORERIA\, MORELOS 227\, SAN PEDRO TLAQUEPAQUE\, México
END:VEVENT
BEGIN:VEVENT
DTSTART;TZID=America/Mexico_City:20170227T152000
DTEND;TZID=America/Mexico_City:20170227T160000
DTSTAMP:20260424T113821
CREATED:20170306T161239Z
LAST-MODIFIED:20170306T161239Z
UID:28890-1488208800-1488211200@transparencia.tlaquepaque.gob.mx
SUMMARY:Firma de documentos
DESCRIPTION:
URL:https://transparencia.tlaquepaque.gob.mx/evento/firma-de-documentos-222/
LOCATION:TESORERIA\, MORELOS 227\, SAN PEDRO TLAQUEPAQUE\, México
END:VEVENT
END:VCALENDAR