BEGIN:VCALENDAR
VERSION:2.0
PRODID:-//Transparencia Tlaquepaque - ECPv6.3.5//NONSGML v1.0//EN
CALSCALE:GREGORIAN
METHOD:PUBLISH
X-WR-CALNAME:Transparencia Tlaquepaque
X-ORIGINAL-URL:https://transparencia.tlaquepaque.gob.mx
X-WR-CALDESC:Eventos para Transparencia Tlaquepaque
REFRESH-INTERVAL;VALUE=DURATION:PT1H
X-Robots-Tag:noindex
X-PUBLISHED-TTL:PT1H
BEGIN:VTIMEZONE
TZID:America/Mexico_City
BEGIN:DAYLIGHT
TZOFFSETFROM:-0600
TZOFFSETTO:-0500
TZNAME:CDT
DTSTART:20160403T080000
END:DAYLIGHT
BEGIN:STANDARD
TZOFFSETFROM:-0500
TZOFFSETTO:-0600
TZNAME:CST
DTSTART:20161030T070000
END:STANDARD
END:VTIMEZONE
BEGIN:VEVENT
DTSTART;TZID=America/Mexico_City:20161105T090000
DTEND;TZID=America/Mexico_City:20161105T100000
DTSTAMP:20260422T024500
CREATED:20161216T174923Z
LAST-MODIFIED:20161216T174924Z
UID:23563-1478336400-1478340000@transparencia.tlaquepaque.gob.mx
SUMMARY:Lanzamiento "Construyendo Comunidad Cerro del 4"
DESCRIPTION:Dentro de este programa se realizará; Educación ambiental\, brigadas de limpieza\, programa de reforestación (para el control y seguimiento de adopción de árboles) y rehabilitación de espacios públicos.
URL:https://transparencia.tlaquepaque.gob.mx/evento/lanzamiento-construyendo-comunidad-cerro-del-4/
LOCATION:Unidad Deportiva\, Av. Colima esquina Brasil\, colonia Guadalupe Ejidal\, San Pedro Tlaquepaque\, Jalisco\, México
END:VEVENT
END:VCALENDAR