BEGIN:VCALENDAR
VERSION:2.0
PRODID:-//Transparencia Tlaquepaque - ECPv6.3.5//NONSGML v1.0//EN
CALSCALE:GREGORIAN
METHOD:PUBLISH
X-ORIGINAL-URL:https://transparencia.tlaquepaque.gob.mx
X-WR-CALDESC:Eventos para Transparencia Tlaquepaque
REFRESH-INTERVAL;VALUE=DURATION:PT1H
X-Robots-Tag:noindex
X-PUBLISHED-TTL:PT1H
BEGIN:VTIMEZONE
TZID:America/Chicago
BEGIN:DAYLIGHT
TZOFFSETFROM:-0600
TZOFFSETTO:-0500
TZNAME:CDT
DTSTART:20160313T080000
END:DAYLIGHT
BEGIN:STANDARD
TZOFFSETFROM:-0500
TZOFFSETTO:-0600
TZNAME:CST
DTSTART:20161106T070000
END:STANDARD
END:VTIMEZONE
BEGIN:VEVENT
DTSTART;VALUE=DATE:20161001
DTEND;VALUE=DATE:20161002
DTSTAMP:20260419T204028
CREATED:20161003T213205Z
LAST-MODIFIED:20161003T213205Z
UID:17894-1475280000-1475366399@transparencia.tlaquepaque.gob.mx
SUMMARY:Agenda de actividades Dirección General
DESCRIPTION:Diego Rivera No. 7\, Lomas de Tlaquepaque \nCoordinación de Carrera de las Antorchas\, COMUDE
URL:https://transparencia.tlaquepaque.gob.mx/evento/agenda-actividades-direccion-general-36/
END:VEVENT
END:VCALENDAR