BEGIN:VCALENDAR
VERSION:2.0
PRODID:-//Transparencia Tlaquepaque - ECPv6.3.5//NONSGML v1.0//EN
CALSCALE:GREGORIAN
METHOD:PUBLISH
X-ORIGINAL-URL:https://transparencia.tlaquepaque.gob.mx
X-WR-CALDESC:Eventos para Transparencia Tlaquepaque
REFRESH-INTERVAL;VALUE=DURATION:PT1H
X-Robots-Tag:noindex
X-PUBLISHED-TTL:PT1H
BEGIN:VTIMEZONE
TZID:America/Chicago
BEGIN:DAYLIGHT
TZOFFSETFROM:-0600
TZOFFSETTO:-0500
TZNAME:CDT
DTSTART:20160313T080000
END:DAYLIGHT
BEGIN:STANDARD
TZOFFSETFROM:-0500
TZOFFSETTO:-0600
TZNAME:CST
DTSTART:20161106T070000
END:STANDARD
END:VTIMEZONE
BEGIN:VEVENT
DTSTART;TZID=America/Chicago:20160908T090000
DTEND;TZID=America/Chicago:20160908T110000
DTSTAMP:20260423T053818
CREATED:20160906T161434Z
LAST-MODIFIED:20160906T161434Z
UID:16957-1473325200-1473332400@transparencia.tlaquepaque.gob.mx
SUMMARY:Reunión con el Comité del Festival de Muertos
DESCRIPTION:
URL:https://transparencia.tlaquepaque.gob.mx/evento/reunion-comite-del-festival-muertos/
LOCATION:Mata tinta\, Juárez #145-13\, Tlaquepaque
END:VEVENT
BEGIN:VEVENT
DTSTART;TZID=America/Chicago:20160908T090000
DTEND;TZID=America/Chicago:20160908T110000
DTSTAMP:20260423T053818
CREATED:20160913T135105Z
LAST-MODIFIED:20160913T135105Z
UID:17250-1473325200-1473332400@transparencia.tlaquepaque.gob.mx
SUMMARY:Reunión del Festival de Muertos
DESCRIPTION:Reunión con el Comite del Festival del Día de Muertos \n 
URL:https://transparencia.tlaquepaque.gob.mx/evento/reunion-del-festival-muertos/
LOCATION:Restaurant La Mata Tinta
END:VEVENT
BEGIN:VEVENT
DTSTART;TZID=America/Chicago:20160908T090000
DTEND;TZID=America/Chicago:20160908T150000
DTSTAMP:20260423T053818
CREATED:20160913T161605Z
LAST-MODIFIED:20171025T162848Z
UID:17275-1473325200-1473346800@transparencia.tlaquepaque.gob.mx
SUMMARY:ATENCIÓN A SERVIDORES Y/O FUNCIONARIOS PÚBLICOS
DESCRIPTION:
URL:https://transparencia.tlaquepaque.gob.mx/evento/atencion-servidores-funcionarios-publicos-29/
LOCATION:COORDINACIÓN GENERAL DE ADMINISTRACIÓN E INNOVACIÓN GUBERNAMENTAL
CATEGORIES:Oficialía
END:VEVENT
BEGIN:VEVENT
DTSTART;TZID=America/Chicago:20160908T100000
DTEND;TZID=America/Chicago:20160908T130000
DTSTAMP:20260423T053818
CREATED:20161017T134740Z
LAST-MODIFIED:20161017T134740Z
UID:18911-1473328800-1473339600@transparencia.tlaquepaque.gob.mx
SUMMARY:3a Sesión del Subcomité de Información de Geografía y Medio Ambiente
DESCRIPTION:
URL:https://transparencia.tlaquepaque.gob.mx/evento/3a-sesion-del-subcomite-informacion-geografia-medio-ambiente/
LOCATION:Auditorio del Instituto de Información Estadística y Geográfica\, Av. Pirules No. 71\, colonia  Ciudad Granja\, Zapopan\, Jalisco\, México
END:VEVENT
BEGIN:VEVENT
DTSTART;TZID=America/Chicago:20160908T102000
DTEND;TZID=America/Chicago:20160908T110000
DTSTAMP:20260423T053818
CREATED:20161017T135321Z
LAST-MODIFIED:20161017T135321Z
UID:18916-1473330000-1473332400@transparencia.tlaquepaque.gob.mx
SUMMARY:reunión de trabajo AST (Análisis Situacional del Trabajo)
DESCRIPTION:Invitación por parte de la Universidad Tecnológica de la Zona Metropolitana de Guadalajara\, para participar en la Comisión de Pertinencia del Programa Educativo de la Licenciatura de Protección Civil y Emergencia\, para aportar y retroalimentar para la mejora de su programa académico. \n 
URL:https://transparencia.tlaquepaque.gob.mx/evento/reunion-trabajo-ast-analisis-situacional-del-trabajo/
LOCATION:Universidad Tecnológica de la Zona Metropolitana de Guadalajara\, Camino a San Isidro Mazatepec km 4.7\, colonia Santa Cruz de las Flores \, Tlajomulco de Zúñiga\, Jalisco\, México
END:VEVENT
BEGIN:VEVENT
DTSTART;TZID=America/Chicago:20160908T110000
DTEND;TZID=America/Chicago:20160908T113000
DTSTAMP:20260423T053818
CREATED:20160913T135720Z
LAST-MODIFIED:20160913T135720Z
UID:17253-1473332400-1473334200@transparencia.tlaquepaque.gob.mx
SUMMARY:Reunión con Coriman
DESCRIPTION:Sr. Adrian Almeroya – Coriman \nTema: Sistema de Contabilidad Gubernamental
URL:https://transparencia.tlaquepaque.gob.mx/evento/reunion-con-coriman/
LOCATION:TESORERIA\, MORELOS 227\, SAN PEDRO TLAQUEPAQUE\, México
END:VEVENT
BEGIN:VEVENT
DTSTART;TZID=America/Chicago:20160908T110000
DTEND;TZID=America/Chicago:20160908T114500
DTSTAMP:20260423T053818
CREATED:20161010T154810Z
LAST-MODIFIED:20161011T135707Z
UID:18325-1473332400-1473335100@transparencia.tlaquepaque.gob.mx
SUMMARY:Reunión Regidora Carmen Lucia Pérez Camarena
DESCRIPTION:Mesa de trabajo para el estudio del reglamento de los Servicios Médicos de San Pedro Tlaquepaque.
URL:https://transparencia.tlaquepaque.gob.mx/evento/reunion-regidora-carmen-lucia-perez-camarena/
LOCATION:SALA DE JUNTA DE REGIDORES
END:VEVENT
BEGIN:VEVENT
DTSTART;TZID=America/Chicago:20160908T110000
DTEND;TZID=America/Chicago:20160908T130000
DTSTAMP:20260423T053818
CREATED:20160906T182728Z
LAST-MODIFIED:20160906T182728Z
UID:17014-1473332400-1473339600@transparencia.tlaquepaque.gob.mx
SUMMARY:Sesión de Comisión Salubridad e Higiene y Reglamentos
DESCRIPTION:Mesa de Trabajo\, Comisiones conjuntas Salubridad e Higiene\, Gobernación y Reglamentos Municipales. \nTurno: Reglamento de los Servicios Médicos para el Municipio de San Pedro Tlaquepaque. \n  \n 
URL:https://transparencia.tlaquepaque.gob.mx/evento/sesion-comision-salubridad-e-higiene-reglamentos/
LOCATION:Sala de Regidores\, Independencia No. 10 Tlaquepaque Centro
END:VEVENT
BEGIN:VEVENT
DTSTART;TZID=America/Chicago:20160908T113000
DTEND;TZID=America/Chicago:20160908T130000
DTSTAMP:20260423T053818
CREATED:20160913T140235Z
LAST-MODIFIED:20160913T140235Z
UID:17254-1473334200-1473339600@transparencia.tlaquepaque.gob.mx
SUMMARY:Reunión con el Coordinador General de Administración e Inovación Gubernamental
DESCRIPTION:Reunión con el Coord. General de Admon. e Inovación Gubernamental \nTema: Renovación de Contrato empresa Vales de Despensa
URL:https://transparencia.tlaquepaque.gob.mx/evento/reunion-coordinador-general-administracion-e-inovacion-gubernamental-4/
LOCATION:COORDINACIÓN GENERAL DE ADMINISTRACIÓN E INNOVACIÓN GUBERNAMENTAL\, INDEPENDENCIA #58
END:VEVENT
BEGIN:VEVENT
DTSTART;TZID=America/Chicago:20160908T130000
DTEND;TZID=America/Chicago:20160908T140000
DTSTAMP:20260423T053818
CREATED:20160913T140422Z
LAST-MODIFIED:20160913T140422Z
UID:17256-1473339600-1473343200@transparencia.tlaquepaque.gob.mx
SUMMARY:Firma de Documentos
DESCRIPTION:
URL:https://transparencia.tlaquepaque.gob.mx/evento/firma-documentos-13-27/
LOCATION:TESORERIA\, MORELOS 227\, SAN PEDRO TLAQUEPAQUE\, México
END:VEVENT
BEGIN:VEVENT
DTSTART;TZID=America/Chicago:20160908T130000
DTEND;TZID=America/Chicago:20160908T140000
DTSTAMP:20260423T053818
CREATED:20160929T214547Z
LAST-MODIFIED:20160929T214547Z
UID:17839-1473339600-1473343200@transparencia.tlaquepaque.gob.mx
SUMMARY:Comisión Edilicia de Ecología\, Saneamiento y Acción contra la Contaminación Ambiental
DESCRIPTION:
URL:https://transparencia.tlaquepaque.gob.mx/evento/comision-edilicia-ecologia-saneamiento-accion-la-contaminacion-ambiental/
LOCATION:Sala de Regidores
END:VEVENT
BEGIN:VEVENT
DTSTART;TZID=America/Chicago:20160908T130000
DTEND;TZID=America/Chicago:20160908T140000
DTSTAMP:20260423T053818
CREATED:20161010T192747Z
LAST-MODIFIED:20161010T192747Z
UID:18396-1473339600-1473343200@transparencia.tlaquepaque.gob.mx
SUMMARY:Sesión de la Comisión Edilicia de Ecología\, Saneamiento y Acción contra la Contaminación Ambiental de manera conjunta con la Comisión de Reglamentos Mpales. y Puntos Legislativos.
DESCRIPTION:Tema: \nAnálisis y en su caso aprobación del dictamen que tiene por objeto Reformar y derogar diversos dispositivos del Reglamento Municipal de Equilibrio Ecológico y la Protección al Medio Ambiente y del Reglamento Interno del Consejo Ecológico Municipal. \n 
URL:https://transparencia.tlaquepaque.gob.mx/evento/sesion-la-comision-edilicia-ecologia-saneamiento-accion-la-contaminacion-ambiental-manera-conjunta-la-comision-reglamentos-mpales-puntos-legislativos/
LOCATION:SALA DE JUNTAS DE REGIDORES\, INDEPENDENCIA 10\, TLAQUEPAQUE\, México
END:VEVENT
BEGIN:VEVENT
DTSTART;TZID=America/Chicago:20160908T130000
DTEND;TZID=America/Chicago:20160908T150000
DTSTAMP:20260423T053818
CREATED:20160906T172636Z
LAST-MODIFIED:20160906T172636Z
UID:16984-1473339600-1473346800@transparencia.tlaquepaque.gob.mx
SUMMARY:Sesión de Comisión\, Ecología-Reglamentos
DESCRIPTION:Sesión conjunta Comisión de Ecología y Reglamentos Municipales y Puntos Legislativos. \nDerogar dispositivos de Reglamento de Ecología.
URL:https://transparencia.tlaquepaque.gob.mx/evento/sesion-comision-ecologia-reglamentos/
LOCATION:Sala de Regidores
END:VEVENT
BEGIN:VEVENT
DTSTART;TZID=America/Chicago:20160908T140000
DTEND;TZID=America/Chicago:20160908T141000
DTSTAMP:20260423T053818
CREATED:20160913T141815Z
LAST-MODIFIED:20160913T141815Z
UID:17258-1473343200-1473343800@transparencia.tlaquepaque.gob.mx
SUMMARY:Reunión con Obras Públicas
DESCRIPTION:C.P.Felipe Martinez – Obras Públicas \nGestión de pago a Contratistas
URL:https://transparencia.tlaquepaque.gob.mx/evento/reunion-obras-publicas-13/
LOCATION:TESORERIA\, MORELOS 227\, SAN PEDRO TLAQUEPAQUE\, México
END:VEVENT
BEGIN:VEVENT
DTSTART;TZID=America/Chicago:20160908T141000
DTEND;TZID=America/Chicago:20160908T160000
DTSTAMP:20260423T053818
CREATED:20160913T142918Z
LAST-MODIFIED:20160913T142918Z
UID:17262-1473343800-1473350400@transparencia.tlaquepaque.gob.mx
SUMMARY:Firma de Documentos
DESCRIPTION:
URL:https://transparencia.tlaquepaque.gob.mx/evento/firma-documentos-13-28/
LOCATION:TESORERIA\, MORELOS 227\, SAN PEDRO TLAQUEPAQUE\, México
END:VEVENT
BEGIN:VEVENT
DTSTART;TZID=America/Chicago:20160908T180000
DTEND;TZID=America/Chicago:20160908T190000
DTSTAMP:20260423T053818
CREATED:20161017T135456Z
LAST-MODIFIED:20161017T135456Z
UID:18920-1473357600-1473361200@transparencia.tlaquepaque.gob.mx
SUMMARY:Reunión "1er Informe"
DESCRIPTION:
URL:https://transparencia.tlaquepaque.gob.mx/evento/reunion-1er-informe/
LOCATION:Sala de Ex presidentes\, Independencia No. 58\, San Pedro Tlaquepaque\, Jalisco\, México
END:VEVENT
BEGIN:VEVENT
DTSTART;TZID=America/Chicago:20160908T180000
DTEND;TZID=America/Chicago:20160908T201500
DTSTAMP:20260423T053818
CREATED:20160913T143203Z
LAST-MODIFIED:20160913T143203Z
UID:17263-1473357600-1473365700@transparencia.tlaquepaque.gob.mx
SUMMARY:Reunión de Análisis de Informe de Gobierno
DESCRIPTION:Reunión de Análisis de Informe de Gobierno
URL:https://transparencia.tlaquepaque.gob.mx/evento/reunion-analisis-informe-gobierno/
LOCATION:Sala de Expresidentes\, Presidencia Mpl. Tlaq.\, Tlaquepaque\, Jalisco\, 45500\, México
END:VEVENT
END:VCALENDAR