BEGIN:VCALENDAR
VERSION:2.0
PRODID:-//Transparencia Tlaquepaque - ECPv6.3.5//NONSGML v1.0//EN
CALSCALE:GREGORIAN
METHOD:PUBLISH
X-WR-CALNAME:Transparencia Tlaquepaque
X-ORIGINAL-URL:https://transparencia.tlaquepaque.gob.mx
X-WR-CALDESC:Eventos para Transparencia Tlaquepaque
REFRESH-INTERVAL;VALUE=DURATION:PT1H
X-Robots-Tag:noindex
X-PUBLISHED-TTL:PT1H
BEGIN:VTIMEZONE
TZID:America/Chicago
BEGIN:DAYLIGHT
TZOFFSETFROM:-0600
TZOFFSETTO:-0500
TZNAME:CDT
DTSTART:20160313T080000
END:DAYLIGHT
BEGIN:STANDARD
TZOFFSETFROM:-0500
TZOFFSETTO:-0600
TZNAME:CST
DTSTART:20161106T070000
END:STANDARD
END:VTIMEZONE
BEGIN:VEVENT
DTSTART;TZID=America/Chicago:20160816T200000
DTEND;TZID=America/Chicago:20160820T170000
DTSTAMP:20260420T005914
CREATED:20160817T181533Z
LAST-MODIFIED:20160817T181533Z
UID:16208-1471377600-1471712400@transparencia.tlaquepaque.gob.mx
SUMMARY:ENART
DESCRIPTION:Expo Enart Tlaquepaque. \n49 ediciones con 14 estados de la republica presentes y más de 160 empresas ofreciendo lo mejor de sus diseños para este 2do semestre del año \nTe esperamos Centro Cultural El Refugio Tlaquepaque
URL:https://transparencia.tlaquepaque.gob.mx/evento/enart/
LOCATION:Centro Cultural El Refugio\, Donato Guerra 160\, San Pedro Tlaquepaque\, San Pedro\, 45500\, México
END:VEVENT
BEGIN:VEVENT
DTSTART;VALUE=DATE:20160819
DTEND;VALUE=DATE:20160820
DTSTAMP:20260420T005914
CREATED:20160822T182549Z
LAST-MODIFIED:20160822T182549Z
UID:16460-1471564800-1471651199@transparencia.tlaquepaque.gob.mx
SUMMARY:AGENDA DE LA  DIRECCIÓN  GENERAL DE SEGURIDAD PÚBLICA
DESCRIPTION:Comisaría de San Pedro Tlaquepaque\, oficina del Comisario \nDirectora de la Academia \,Denya Cristina Amante Tejeda
URL:https://transparencia.tlaquepaque.gob.mx/evento/agenda-la-direccion-general-seguridad-publica-11/
END:VEVENT
BEGIN:VEVENT
DTSTART;TZID=America/Chicago:20160819T090000
DTEND;TZID=America/Chicago:20160819T102500
DTSTAMP:20260420T005914
CREATED:20160822T145757Z
LAST-MODIFIED:20160822T145757Z
UID:16361-1471597200-1471602300@transparencia.tlaquepaque.gob.mx
SUMMARY:Reunión con Regidora Citlalli
DESCRIPTION:Reunión con Regidora Citlalli\, Luis Fernando Rivera\, Dirección de Egresos \nTema: Modificaciones al Presupuestao
URL:https://transparencia.tlaquepaque.gob.mx/evento/reunion-regidora-citlalli/
LOCATION:TESORERIA\, MORELOS 227\, SAN PEDRO TLAQUEPAQUE\, México
END:VEVENT
BEGIN:VEVENT
DTSTART;TZID=America/Chicago:20160819T090000
DTEND;TZID=America/Chicago:20160819T150000
DTSTAMP:20260420T005914
CREATED:20160825T182606Z
LAST-MODIFIED:20171025T162854Z
UID:16598-1471597200-1471618800@transparencia.tlaquepaque.gob.mx
SUMMARY:ATENCIÓN A SERVIDORES Y/O FUNCIONARIOS PÚBLICOS
DESCRIPTION:
URL:https://transparencia.tlaquepaque.gob.mx/evento/atencion-servidores-funcionarios-publicos-23/
LOCATION:COORDINACIÓN GENERAL DE INNOVACIÓN GUBERNAMENTAL
CATEGORIES:Oficialía
END:VEVENT
BEGIN:VEVENT
DTSTART;TZID=America/Chicago:20160819T103000
DTEND;TZID=America/Chicago:20160819T104000
DTSTAMP:20260420T005914
CREATED:20160822T155129Z
LAST-MODIFIED:20160822T155129Z
UID:16362-1471602600-1471603200@transparencia.tlaquepaque.gob.mx
SUMMARY:Atención a Ciudadanos
DESCRIPTION:Sr. Oswaldo Gomez Tovar y Sr. Marcos Cardenas \nTema: Descuento de Impuestos
URL:https://transparencia.tlaquepaque.gob.mx/evento/atencion-ciudadanos-2-4/
LOCATION:TESORERIA\, MORELOS 227\, SAN PEDRO TLAQUEPAQUE\, México
END:VEVENT
BEGIN:VEVENT
DTSTART;TZID=America/Chicago:20160819T104000
DTEND;TZID=America/Chicago:20160819T105000
DTSTAMP:20260420T005914
CREATED:20160822T155257Z
LAST-MODIFIED:20160822T155257Z
UID:16395-1471603200-1471603800@transparencia.tlaquepaque.gob.mx
SUMMARY:Reunión con Proveedor Municipal
DESCRIPTION:Sr. Miguel Angel Mendez – Proveedor Municipal \nTema: Autorización de compras
URL:https://transparencia.tlaquepaque.gob.mx/evento/reunion-proveedor-municipal-6/
LOCATION:TESORERIA\, MORELOS 227\, SAN PEDRO TLAQUEPAQUE\, México
END:VEVENT
BEGIN:VEVENT
DTSTART;TZID=America/Chicago:20160819T105000
DTEND;TZID=America/Chicago:20160819T105500
DTSTAMP:20260420T005914
CREATED:20160822T160217Z
LAST-MODIFIED:20160822T160217Z
UID:16399-1471603800-1471604100@transparencia.tlaquepaque.gob.mx
SUMMARY:Atención a Proveedor
DESCRIPTION:Sr.Arturo de Zulueta -BBZ \n 
URL:https://transparencia.tlaquepaque.gob.mx/evento/atencion-proveedor-3-29/
LOCATION:TESORERIA\, MORELOS 227\, SAN PEDRO TLAQUEPAQUE\, México
END:VEVENT
BEGIN:VEVENT
DTSTART;TZID=America/Chicago:20160819T105500
DTEND;TZID=America/Chicago:20160819T110000
DTSTAMP:20260420T005914
CREATED:20160822T160402Z
LAST-MODIFIED:20160822T160402Z
UID:16400-1471604100-1471604400@transparencia.tlaquepaque.gob.mx
SUMMARY:Atención a Contratista
DESCRIPTION:Sr. Rodolfo Montoya – Ilse Construcciones
URL:https://transparencia.tlaquepaque.gob.mx/evento/atencion-contratista-2-71/
LOCATION:TESORERIA\, MORELOS 227\, SAN PEDRO TLAQUEPAQUE\, México
END:VEVENT
BEGIN:VEVENT
DTSTART;TZID=America/Chicago:20160819T110000
DTEND;TZID=America/Chicago:20160819T120000
DTSTAMP:20260420T005914
CREATED:20160817T181855Z
LAST-MODIFIED:20160817T181855Z
UID:16210-1471604400-1471608000@transparencia.tlaquepaque.gob.mx
SUMMARY:GRADUACION DE LA 1º GENERACION DE BENEFICIARIAS DEL PROGRAMA "HECHO CON AMOR"
DESCRIPTION:JARDIN HIDALGO\, CENTRO HISTORICO
URL:https://transparencia.tlaquepaque.gob.mx/evento/graduacion-la-1o-generacion-beneficiarias-del-programa-hecho-amor/
END:VEVENT
BEGIN:VEVENT
DTSTART;TZID=America/Chicago:20160819T110000
DTEND;TZID=America/Chicago:20160819T120000
DTSTAMP:20260420T005914
CREATED:20160921T191326Z
LAST-MODIFIED:20160921T191326Z
UID:17561-1471604400-1471608000@transparencia.tlaquepaque.gob.mx
SUMMARY:Evento de Graduación de la 1a. Generación de Beneficiarias del Programa "Hecho con Amor".
DESCRIPTION:Domicilio: Jardín Hidalgo\, Colonia Centro de Tlaquepaque.
URL:https://transparencia.tlaquepaque.gob.mx/evento/evento-graduacion-la-1a-generacion-beneficiarias-del-programa-hecho-amor/
END:VEVENT
BEGIN:VEVENT
DTSTART;TZID=America/Chicago:20160819T120000
DTEND;TZID=America/Chicago:20160819T153000
DTSTAMP:20260420T005914
CREATED:20160822T160824Z
LAST-MODIFIED:20160822T160824Z
UID:16401-1471608000-1471620600@transparencia.tlaquepaque.gob.mx
SUMMARY:Reunión de la Comisión Estatal Hacendaria
DESCRIPTION:Reunión de la Comisión Estatal Hacendaria
URL:https://transparencia.tlaquepaque.gob.mx/evento/reunion-la-comision-estatal-hacendaria/
LOCATION:Hotel Hilton
END:VEVENT
BEGIN:VEVENT
DTSTART;TZID=America/Chicago:20160819T130000
DTEND;TZID=America/Chicago:20160819T133000
DTSTAMP:20260420T005914
CREATED:20160819T153751Z
LAST-MODIFIED:20160819T153751Z
UID:16298-1471611600-1471613400@transparencia.tlaquepaque.gob.mx
SUMMARY:Reunión para revisión de reglamento.
DESCRIPTION:
URL:https://transparencia.tlaquepaque.gob.mx/evento/reunion-revision-reglamento/
LOCATION:SALA DE JUNTA DE REGIDORES
END:VEVENT
BEGIN:VEVENT
DTSTART;TZID=America/Chicago:20160819T130000
DTEND;TZID=America/Chicago:20160819T133000
DTSTAMP:20260420T005914
CREATED:20160819T171753Z
LAST-MODIFIED:20160829T171936Z
UID:16633-1471611600-1471613400@transparencia.tlaquepaque.gob.mx
SUMMARY:Comisión de Deporte y Atención a la Juventud
DESCRIPTION:Reg. Marco Fuentes Ontiveros
URL:https://transparencia.tlaquepaque.gob.mx/evento/comision-deporte-atencion-la-juventud-2/
LOCATION:Sala de Regidores\, Independencia 10\, Tlaquepaque\, Jalisco\, México
END:VEVENT
BEGIN:VEVENT
DTSTART;TZID=America/Chicago:20160819T130000
DTEND;TZID=America/Chicago:20160819T140000
DTSTAMP:20260420T005914
CREATED:20160921T191622Z
LAST-MODIFIED:20160921T191622Z
UID:17562-1471611600-1471615200@transparencia.tlaquepaque.gob.mx
SUMMARY:Segunda reunión de la Comisión Edilicia de Deporte y Atención a la Juventud.
DESCRIPTION:Tema: \nRevisión del Reglamento del Instituto Municipal de la Juventud en San Pedro\, Tlaquepaque. \n  \nDomicilio: Independencia # 10\, Colonia Centro de Tlaquepaque.
URL:https://transparencia.tlaquepaque.gob.mx/evento/segunda-reunion-la-comision-edilicia-deporte-atencion-la-juventud/
END:VEVENT
BEGIN:VEVENT
DTSTART;TZID=America/Chicago:20160819T130000
DTEND;TZID=America/Chicago:20160819T140000
DTSTAMP:20260420T005914
CREATED:20160926T220324Z
LAST-MODIFIED:20160926T220324Z
UID:17719-1471611600-1471615200@transparencia.tlaquepaque.gob.mx
SUMMARY:Segunda Reunión de Revisión del Reglamento del Instituto Municipal de la Juventud en San Pedro Tlaquepaque.
DESCRIPTION:
URL:https://transparencia.tlaquepaque.gob.mx/evento/segunda-reunion-revision-del-reglamento-del-instituto-municipal-la-juventud-san-pedro-tlaquepaque/
LOCATION:Sala de Regidores
END:VEVENT
BEGIN:VEVENT
DTSTART;TZID=America/Chicago:20160819T140000
DTEND;TZID=America/Chicago:20160819T160000
DTSTAMP:20260420T005914
CREATED:20160819T153929Z
LAST-MODIFIED:20160819T153929Z
UID:16301-1471615200-1471622400@transparencia.tlaquepaque.gob.mx
SUMMARY:Entrega de zapatos.
DESCRIPTION:
URL:https://transparencia.tlaquepaque.gob.mx/evento/entrega-de-zapatos/
LOCATION:Centro de Desarrollo Comunitario\, Pról.16 de sept. S/n  san Martin de las Flores\, Tlaquepaque\, Jalisco\, México
END:VEVENT
BEGIN:VEVENT
DTSTART;TZID=America/Chicago:20160819T160000
DTEND;TZID=America/Chicago:20160819T180000
DTSTAMP:20260420T005914
CREATED:20160817T161329Z
LAST-MODIFIED:20160817T161329Z
UID:16193-1471622400-1471629600@transparencia.tlaquepaque.gob.mx
SUMMARY:Vacaciones En Mi Comunidad Colonia el Mante
DESCRIPTION:
URL:https://transparencia.tlaquepaque.gob.mx/evento/vacaciones-comunidad-colonia-mante-2/
LOCATION:El Mante\, calle Gavilán 24 entre periférico y Porfirio días\, Tlaquepaque\, Jalisco\, México
END:VEVENT
END:VCALENDAR